BEGIN:VCALENDAR
VERSION:2.0
PRODID:-//Sabre//Sabre VObject 4.5.8//EN
CALSCALE:GREGORIAN
NAME:Bistum Augsburg
X-WR-CALNAME:Bistum Augsburg
BEGIN:VEVENT
UID:sabre-vobject-1ea4be32-834c-457c-8d6a-b28565363736
DTSTAMP:20260421T210436Z
SUMMARY:Beichtgelegenheit bis 18.10 Uhr
DESCRIPTION:https://pfarreien-bistum-augsburg.df-preview.de/beichtgelegenhe
 it-bis-18-10-uhr_id1742244
DTSTART;TZID=Europe/Berlin:20260421T173000
DURATION:PT30M
LOCATION:St. Peter
END:VEVENT
BEGIN:VEVENT
UID:sabre-vobject-048e7b17-3a9e-40a4-b4e5-14b6204f7265
DTSTAMP:20260421T210436Z
SUMMARY:Barmherzigkeitsrosenkranz
DESCRIPTION:https://pfarreien-bistum-augsburg.df-preview.de/barmherzigkeits
 rosenkranz_id1742245
DTSTART;TZID=Europe/Berlin:20260421T181500
DURATION:PT30M
LOCATION:St. Peter
END:VEVENT
BEGIN:VEVENT
UID:sabre-vobject-3b8c2530-c497-4212-a16f-77b63ec9ec38
DTSTAMP:20260421T210436Z
SUMMARY:Hl. Messe
DESCRIPTION:https://pfarreien-bistum-augsburg.df-preview.de/hl-messe_id1742
 246
DTSTART;TZID=Europe/Berlin:20260421T183000
DURATION:PT30M
LOCATION:St. Peter
END:VEVENT
BEGIN:VEVENT
UID:sabre-vobject-dffd3b9e-032b-4c6a-a941-4411044de6a5
DTSTAMP:20260421T210436Z
SUMMARY:Hl. Messe \, anschl. Anbetung im Anliegen um den Frieden (bis 19.30
  Uhr)
DESCRIPTION:https://pfarreien-bistum-augsburg.df-preview.de/hl-messe-anschl
 -anbetung-im-anliegen-um-den-frieden-bis-19-30-uhr_id1742247
DTSTART;TZID=Europe/Berlin:20260423T183000
DURATION:PT30M
LOCATION:St. Peter
END:VEVENT
END:VCALENDAR
