BEGIN:VCALENDAR
VERSION:2.0
PRODID:-//Sabre//Sabre VObject 4.5.8//EN
CALSCALE:GREGORIAN
NAME:Bistum Augsburg
X-WR-CALNAME:Bistum Augsburg
BEGIN:VEVENT
UID:sabre-vobject-a982c628-38ab-4883-ae49-af61b3f99a65
DTSTAMP:20260421T085333Z
SUMMARY:Festgottesdienst zur Feier der Erstkommunion. Musik. Gestaltung: La
 udatio Gruppe
DESCRIPTION:https://pfarreien-bistum-augsburg.df-preview.de/festgottesdiens
 t-zur-feier-der-erstkommunion-musik-gestaltung-laudatio-gruppe_id1747031
DTSTART;TZID=Europe/Berlin:20260426T103000
DURATION:PT30M
LOCATION:Verklärung Christi
END:VEVENT
BEGIN:VEVENT
UID:sabre-vobject-ff919a04-a600-450c-9bab-1953069910f4
DTSTAMP:20260421T085333Z
SUMMARY:Heilige Messe
DESCRIPTION:https://pfarreien-bistum-augsburg.df-preview.de/heilige-messe_i
 d1747032
DTSTART;TZID=Europe/Berlin:20260427T090000
DURATION:PT30M
LOCATION:Verklärung Christi
END:VEVENT
BEGIN:VEVENT
UID:sabre-vobject-43cdbbb1-2ec9-4816-9247-25cadb2dd17c
DTSTAMP:20260421T085333Z
SUMMARY:Festgottesdienst im Pavillon am Kurhaus\, musik. Gestaltung: Harmon
 iemusik Oy (bei schlechtem Wetter im Kurhaus-Saal)
DESCRIPTION:https://pfarreien-bistum-augsburg.df-preview.de/festgottesdiens
 t-im-pavillon-am-kurhaus-musik-gestaltung-harmoniemusik-oy-bei-schlechtem-
 wetter-im-kurhaus-saal_id1747033
DTSTART;TZID=Europe/Berlin:20260501T103000
DURATION:PT30M
LOCATION:Verklärung Christi
END:VEVENT
END:VCALENDAR
