BEGIN:VCALENDAR
VERSION:2.0
PRODID:-//Sabre//Sabre VObject 4.5.8//EN
CALSCALE:GREGORIAN
NAME:Bistum Augsburg
X-WR-CALNAME:Bistum Augsburg
BEGIN:VEVENT
UID:sabre-vobject-47316830-e016-4ee0-8923-32eeead73619
DTSTAMP:20260421T201454Z
SUMMARY:Beichtgelegenheit
DESCRIPTION:https://pfarreien-bistum-augsburg.df-preview.de/beichtgelegenhe
 it_id1720765
DTSTART;TZID=Europe/Berlin:20260421T183000
DURATION:PT30M
LOCATION:St. Ulrich\, Gartenweg 30\, 87600 Kaufbeuren
END:VEVENT
BEGIN:VEVENT
UID:sabre-vobject-1fe6ab63-e06e-4e2f-aac7-89d6248de65f
DTSTAMP:20260421T201454Z
SUMMARY:Heilige Messe
DESCRIPTION:https://pfarreien-bistum-augsburg.df-preview.de/heilige-messe_i
 d1720766
DTSTART;TZID=Europe/Berlin:20260421T190000
DURATION:PT30M
LOCATION:St. Ulrich\, Gartenweg 30\, 87600 Kaufbeuren
END:VEVENT
BEGIN:VEVENT
UID:sabre-vobject-8c7f0b22-c414-425c-930a-872d2d65725e
DTSTAMP:20260421T201454Z
SUMMARY:Heilige Messe
DESCRIPTION:https://pfarreien-bistum-augsburg.df-preview.de/heilige-messe_i
 d1720767
DTSTART;TZID=Europe/Berlin:20260424T090000
DURATION:PT30M
LOCATION:St. Ulrich\, Gartenweg 30\, 87600 Kaufbeuren
END:VEVENT
BEGIN:VEVENT
UID:sabre-vobject-e1e3723e-8c1b-4484-8329-5a745231433e
DTSTAMP:20260421T201454Z
SUMMARY:Kinderbibelnacht Abschluss in der Kirche
DESCRIPTION:https://pfarreien-bistum-augsburg.df-preview.de/kinderbibelnach
 t-abschluss-in-der-kirche_id1720755
DTSTART;TZID=Europe/Berlin:20260424T200000
DURATION:PT30M
LOCATION:St. Ulrich\, Gartenweg 30\, 87600 Kaufbeuren
END:VEVENT
BEGIN:VEVENT
UID:sabre-vobject-70514569-a2fe-47b0-bb9a-27853fcea5b8
DTSTAMP:20260421T201454Z
SUMMARY:Heilige Messe mit Feier der Goldenen Hochzeit von Theresia u. Manfr
 ed Klamt
DESCRIPTION:https://pfarreien-bistum-augsburg.df-preview.de/heilige-messe-m
 it-feier-der-goldenen-hochzeit-von-theresia-u-manfred-klamt_id1720577
DTSTART;TZID=Europe/Berlin:20260426T100000
DURATION:PT30M
LOCATION:St. Ulrich\, Gartenweg 30\, 87600 Kaufbeuren
END:VEVENT
BEGIN:VEVENT
UID:sabre-vobject-a2a13c5b-0181-45c0-9395-bde1fe28690e
DTSTAMP:20260421T201454Z
SUMMARY:Beichtgelegenheit
DESCRIPTION:https://pfarreien-bistum-augsburg.df-preview.de/beichtgelegenhe
 it_id1720578
DTSTART;TZID=Europe/Berlin:20260428T183000
DURATION:PT30M
LOCATION:St. Ulrich\, Gartenweg 30\, 87600 Kaufbeuren
END:VEVENT
BEGIN:VEVENT
UID:sabre-vobject-20b71cb2-516c-4236-be89-3342fc825889
DTSTAMP:20260421T201454Z
SUMMARY:Heilige Messe
DESCRIPTION:https://pfarreien-bistum-augsburg.df-preview.de/heilige-messe_i
 d1720501
DTSTART;TZID=Europe/Berlin:20260428T190000
DURATION:PT30M
LOCATION:St. Ulrich\, Gartenweg 30\, 87600 Kaufbeuren
END:VEVENT
END:VCALENDAR
