BEGIN:VCALENDAR
VERSION:2.0
PRODID:-//Sabre//Sabre VObject 4.5.8//EN
CALSCALE:GREGORIAN
NAME:Bistum Augsburg
X-WR-CALNAME:Bistum Augsburg
BEGIN:VEVENT
UID:sabre-vobject-78966ffb-6e57-4337-814e-05b099b56823
DTSTAMP:20260422T035218Z
SUMMARY:Heilige Messe
DESCRIPTION:https://pfarreien-bistum-augsburg.df-preview.de/heilige-messe_i
 d1735151
DTSTART;TZID=Europe/Berlin:20260422T183000
DURATION:PT30M
LOCATION:St. Magnus
END:VEVENT
BEGIN:VEVENT
UID:sabre-vobject-a5a3dcfb-f07d-42db-9390-884cd9e090eb
DTSTAMP:20260422T035218Z
SUMMARY:Gebet für den Frieden auf dem Kirchplatz
DESCRIPTION:https://pfarreien-bistum-augsburg.df-preview.de/gebet-fuer-den-
 frieden-auf-dem-kirchplatz_id1735152
DTSTART;TZID=Europe/Berlin:20260422T183000
DURATION:PT30M
LOCATION:St. Magnus
END:VEVENT
BEGIN:VEVENT
UID:sabre-vobject-e26f435a-c390-42ea-adce-f6c77d588d4a
DTSTAMP:20260422T035218Z
SUMMARY:Rosenkranz
DESCRIPTION:https://pfarreien-bistum-augsburg.df-preview.de/rosenkranz_id17
 35153
DTSTART;TZID=Europe/Berlin:20260423T180000
DURATION:PT30M
LOCATION:St. Magnus
END:VEVENT
BEGIN:VEVENT
UID:sabre-vobject-fc0883e8-f4d3-449a-82d7-b3002ef2ab95
DTSTAMP:20260422T035218Z
SUMMARY:Heilige Messe
DESCRIPTION:https://pfarreien-bistum-augsburg.df-preview.de/heilige-messe_i
 d1735216
DTSTART;TZID=Europe/Berlin:20260423T183000
DURATION:PT30M
LOCATION:St. Magnus
END:VEVENT
BEGIN:VEVENT
UID:sabre-vobject-dc9c3ba6-f7e0-4d39-8783-8d86ec0a6836
DTSTAMP:20260422T035218Z
SUMMARY:Heilige Messe
DESCRIPTION:https://pfarreien-bistum-augsburg.df-preview.de/heilige-messe_i
 d1735217
DTSTART;TZID=Europe/Berlin:20260424T100000
DURATION:PT30M
LOCATION:St. Magnus
END:VEVENT
BEGIN:VEVENT
UID:sabre-vobject-c7d445b7-671b-4c32-804d-c5360c70c687
DTSTAMP:20260422T035218Z
SUMMARY:Stellprobe f. d. Erstkommunion
DESCRIPTION:https://pfarreien-bistum-augsburg.df-preview.de/stellprobe-f-d-
 erstkommunion_id1735093
DTSTART;TZID=Europe/Berlin:20260424T143000
DURATION:PT30M
LOCATION:St. Martin\, Martinstraße\, 86556 Unterbernbach
END:VEVENT
BEGIN:VEVENT
UID:sabre-vobject-f215192b-7113-4fb3-b8bb-2e31246481a2
DTSTAMP:20260422T035218Z
SUMMARY:Bittgang nach Paar\, anschl. VAM
DESCRIPTION:https://pfarreien-bistum-augsburg.df-preview.de/bittgang-nach-p
 aar-anschl-vam_id1735218
DTSTART;TZID=Europe/Berlin:20260425T180000
DURATION:PT30M
LOCATION:St. Magnus
END:VEVENT
BEGIN:VEVENT
UID:sabre-vobject-e57481be-a833-44d3-a8f3-2f6004cc9b6f
DTSTAMP:20260422T035218Z
SUMMARY:Rosenkranz in der Pfarrkirche
DESCRIPTION:https://pfarreien-bistum-augsburg.df-preview.de/rosenkranz-in-d
 er-pfarrkirche_id1735219
DTSTART;TZID=Europe/Berlin:20260426T074500
DURATION:PT30M
LOCATION:St. Magnus
END:VEVENT
BEGIN:VEVENT
UID:sabre-vobject-2b010a55-d995-4339-bb83-55acd46e8f61
DTSTAMP:20260422T035218Z
SUMMARY:Pfarrgottesdienst für die Lebenden u. Verstorbenen unserer Pfarrei
 engemeinschaft
DESCRIPTION:https://pfarreien-bistum-augsburg.df-preview.de/pfarrgottesdien
 st-fuer-die-lebenden-u-verstorbenen-unserer-pfarreiengemeinschaft_id173522
 5
DTSTART;TZID=Europe/Berlin:20260426T081500
DURATION:PT30M
LOCATION:St. Magnus
END:VEVENT
BEGIN:VEVENT
UID:sabre-vobject-b411524d-f014-4d3a-888e-464bbf0e2553
DTSTAMP:20260422T035218Z
SUMMARY:Opfer für die Kirche - Feier der Erstkommunion - Heilige Messe
DESCRIPTION:https://pfarreien-bistum-augsburg.df-preview.de/opfer-fuer-die-
 kirche-feier-der-erstkommunion-heilige-messe_id1735094
DTSTART;TZID=Europe/Berlin:20260426T100000
DURATION:PT30M
LOCATION:St. Martin\, Martinstraße\, 86556 Unterbernbach
END:VEVENT
BEGIN:VEVENT
UID:sabre-vobject-536ccabb-78df-428a-94ce-b49a9a59b891
DTSTAMP:20260422T035218Z
SUMMARY:Dankandacht der Erstkommunionkinder
DESCRIPTION:https://pfarreien-bistum-augsburg.df-preview.de/dankandacht-der
 -erstkommunionkinder_id1735095
DTSTART;TZID=Europe/Berlin:20260426T170000
DURATION:PT30M
LOCATION:St. Martin\, Martinstraße\, 86556 Unterbernbach
END:VEVENT
BEGIN:VEVENT
UID:sabre-vobject-39738a42-a416-481c-ba7a-08b41354b59e
DTSTAMP:20260422T035218Z
SUMMARY:Heilige Messe d. Erstkommunionkinder - anschl. rel. Gemeinschaftsta
 g im Pfarrheim
DESCRIPTION:https://pfarreien-bistum-augsburg.df-preview.de/heilige-messe-d
 -erstkommunionkinder-anschl-rel-gemeinschaftstag-im-pfarrheim_id1735226
DTSTART;TZID=Europe/Berlin:20260427T090000
DURATION:PT30M
LOCATION:St. Magnus
END:VEVENT
BEGIN:VEVENT
UID:sabre-vobject-9d93f979-e2d6-4602-bbb8-b7aff48f66db
DTSTAMP:20260422T035218Z
SUMMARY:Rosenkranz
DESCRIPTION:https://pfarreien-bistum-augsburg.df-preview.de/rosenkranz_id17
 35096
DTSTART;TZID=Europe/Berlin:20260428T180000
DURATION:PT30M
LOCATION:St. Martin\, Martinstraße\, 86556 Unterbernbach
END:VEVENT
BEGIN:VEVENT
UID:sabre-vobject-9d02293a-8a7d-44ce-aa3f-45d0f6fd2c79
DTSTAMP:20260422T035218Z
SUMMARY:Heilige Messe
DESCRIPTION:https://pfarreien-bistum-augsburg.df-preview.de/heilige-messe_i
 d1735097
DTSTART;TZID=Europe/Berlin:20260428T183000
DURATION:PT30M
LOCATION:St. Martin\, Martinstraße\, 86556 Unterbernbach
END:VEVENT
BEGIN:VEVENT
UID:sabre-vobject-fa3da31d-ad49-4ee8-815f-e99aff4eb1b4
DTSTAMP:20260422T035218Z
SUMMARY:Heilige Messe
DESCRIPTION:https://pfarreien-bistum-augsburg.df-preview.de/heilige-messe_i
 d1735227
DTSTART;TZID=Europe/Berlin:20260429T183000
DURATION:PT30M
LOCATION:St. Magnus
END:VEVENT
BEGIN:VEVENT
UID:sabre-vobject-66e7e1dc-85c0-4e88-bba7-0ab230523dea
DTSTAMP:20260422T035218Z
SUMMARY:Gebet für den Frieden auf dem Kirchplatz
DESCRIPTION:https://pfarreien-bistum-augsburg.df-preview.de/gebet-fuer-den-
 frieden-auf-dem-kirchplatz_id1735235
DTSTART;TZID=Europe/Berlin:20260429T183000
DURATION:PT30M
LOCATION:St. Magnus
END:VEVENT
BEGIN:VEVENT
UID:sabre-vobject-aacf085b-10ca-4fde-b31c-2409d76a36a1
DTSTAMP:20260422T035218Z
SUMMARY:Heilige Messe der Pfarrei Langenbruck zum Erstkommunionausflug
DESCRIPTION:https://pfarreien-bistum-augsburg.df-preview.de/heilige-messe-d
 er-pfarrei-langenbruck-zum-erstkommunionausflug_id1735215
DTSTART;TZID=Europe/Berlin:20260430T090000
DURATION:PT30M
LOCATION:St. Magnus
END:VEVENT
BEGIN:VEVENT
UID:sabre-vobject-2446b482-d470-4b1d-a7c2-dc324c59b68c
DTSTAMP:20260422T035218Z
SUMMARY:Bittgang nach Maria Beinberg
DESCRIPTION:https://pfarreien-bistum-augsburg.df-preview.de/bittgang-nach-m
 aria-beinberg_id1735098
DTSTART;TZID=Europe/Berlin:20260501T060000
DURATION:PT30M
LOCATION:St. Martin\, Martinstraße\, 86556 Unterbernbach
END:VEVENT
BEGIN:VEVENT
UID:sabre-vobject-143496b0-0efa-49a7-aecb-6e3b9baabecf
DTSTAMP:20260422T035218Z
SUMMARY:Festgottesdienst zum Hochfest Maria Schutzfrau von Bayern - anschl.
  Maibaumsegnung
DESCRIPTION:https://pfarreien-bistum-augsburg.df-preview.de/festgottesdiens
 t-zum-hochfest-maria-schutzfrau-von-bayern-anschl-maibaumsegnung_id1735267
DTSTART;TZID=Europe/Berlin:20260501T090000
DURATION:PT30M
LOCATION:St. Magnus
END:VEVENT
BEGIN:VEVENT
UID:sabre-vobject-96da538e-9fdf-4301-a10f-5bd9a474830e
DTSTAMP:20260422T035218Z
SUMMARY:Erste feierliche Maiandacht m.d. Erstkommunionkindern
DESCRIPTION:https://pfarreien-bistum-augsburg.df-preview.de/erste-feierlich
 e-maiandacht-m-d-erstkommunionkindern_id1735208
DTSTART;TZID=Europe/Berlin:20260501T183000
DURATION:PT30M
LOCATION:St. Johannes Baptist\, Kühbacher Strasse 8\, 86556 Großhausen 
END:VEVENT
BEGIN:VEVENT
UID:sabre-vobject-20f566ce-2fbe-4f61-9788-626b212f4706
DTSTAMP:20260422T035218Z
SUMMARY:Wortgottesfeier für Smart-Fahrer mit anschl. Fahrzeugsegnung
DESCRIPTION:https://pfarreien-bistum-augsburg.df-preview.de/wortgottesfeier
 -fuer-smart-fahrer-mit-anschl-fahrzeugsegnung_id1735268
DTSTART;TZID=Europe/Berlin:20260502T100000
DURATION:PT30M
LOCATION:St. Magnus
END:VEVENT
BEGIN:VEVENT
UID:sabre-vobject-84d8ae7b-5d6c-4948-90dc-767afe9e33b4
DTSTAMP:20260422T035218Z
SUMMARY:Heilige Messe
DESCRIPTION:https://pfarreien-bistum-augsburg.df-preview.de/heilige-messe_i
 d1735209
DTSTART;TZID=Europe/Berlin:20260502T180000
DURATION:PT30M
LOCATION:St. Johannes Baptist\, Kühbacher Strasse 8\, 86556 Großhausen 
END:VEVENT
BEGIN:VEVENT
UID:sabre-vobject-dfd58fc1-2e7b-46e1-ba0c-b65900ae2a86
DTSTAMP:20260422T035218Z
SUMMARY:Feierliche Maiandacht
DESCRIPTION:https://pfarreien-bistum-augsburg.df-preview.de/feierliche-maia
 ndacht_id1735291
DTSTART;TZID=Europe/Berlin:20260502T180000
DURATION:PT30M
LOCATION:St. Kastulus
END:VEVENT
BEGIN:VEVENT
UID:sabre-vobject-e4bc73b7-17cb-4ee9-a217-d476c0b4b0d1
DTSTAMP:20260422T035218Z
SUMMARY:Heilige Messe
DESCRIPTION:https://pfarreien-bistum-augsburg.df-preview.de/heilige-messe_i
 d1735102
DTSTART;TZID=Europe/Berlin:20260503T081500
DURATION:PT30M
LOCATION:St. Martin\, Martinstraße\, 86556 Unterbernbach
END:VEVENT
BEGIN:VEVENT
UID:sabre-vobject-b60b76c7-23b4-4f8f-a637-c8452b64721b
DTSTAMP:20260422T035218Z
SUMMARY:Rosenkranz in der Pfarrkirche
DESCRIPTION:https://pfarreien-bistum-augsburg.df-preview.de/rosenkranz-in-d
 er-pfarrkirche_id1735269
DTSTART;TZID=Europe/Berlin:20260503T091500
DURATION:PT30M
LOCATION:St. Magnus
END:VEVENT
BEGIN:VEVENT
UID:sabre-vobject-47bc6530-03af-4375-a295-b07a9d93f4b0
DTSTAMP:20260422T035218Z
SUMMARY:Pfarrgottesdienst für die Lebenden u. Verstorbenen unserer Pfarrei
 engemeinschaft
DESCRIPTION:https://pfarreien-bistum-augsburg.df-preview.de/pfarrgottesdien
 st-fuer-die-lebenden-u-verstorbenen-unserer-pfarreiengemeinschaft_id173527
 1
DTSTART;TZID=Europe/Berlin:20260503T094500
DURATION:PT30M
LOCATION:St. Magnus
END:VEVENT
BEGIN:VEVENT
UID:sabre-vobject-2e53d04d-af94-4224-adf9-d6c98186ee49
DTSTAMP:20260422T035218Z
SUMMARY:Erste feierliche Maiandacht m. d. EK-Kindern
DESCRIPTION:https://pfarreien-bistum-augsburg.df-preview.de/erste-feierlich
 e-maiandacht-m-d-ek-kindern_id1735272
DTSTART;TZID=Europe/Berlin:20260503T183000
DURATION:PT30M
LOCATION:St. Magnus
END:VEVENT
END:VCALENDAR
