BEGIN:VCALENDAR
VERSION:2.0
PRODID:-//Sabre//Sabre VObject 4.5.8//EN
CALSCALE:GREGORIAN
NAME:Bistum Augsburg
X-WR-CALNAME:Bistum Augsburg
BEGIN:VEVENT
UID:sabre-vobject-e3c1cde6-0b6b-42cd-b945-32cf9118d8e2
DTSTAMP:20260422T042014Z
SUMMARY:EK: 1. Kommunionprobe
DESCRIPTION:https://pfarreien-bistum-augsburg.df-preview.de/ek-1-kommunionp
 robe_id1711810
DTSTART;TZID=Europe/Berlin:20260422T153000
DURATION:PT30M
LOCATION:St. Mauritius
END:VEVENT
BEGIN:VEVENT
UID:sabre-vobject-ce99f246-ded6-4331-9b7e-62d702baf558
DTSTAMP:20260422T042014Z
SUMMARY:Hl. Messe
DESCRIPTION:https://pfarreien-bistum-augsburg.df-preview.de/hl-messe_id1711
 811
DTSTART;TZID=Europe/Berlin:20260422T190000
DURATION:PT30M
LOCATION:St. Mauritius
END:VEVENT
BEGIN:VEVENT
UID:sabre-vobject-15155ef9-84ac-4d4e-b3da-5dc0f1114dbb
DTSTAMP:20260422T042014Z
SUMMARY:2. Kommunionprobe
DESCRIPTION:https://pfarreien-bistum-augsburg.df-preview.de/2-kommunionprob
 e_id1711820
DTSTART;TZID=Europe/Berlin:20260424T153000
DURATION:PT30M
LOCATION:St. Mauritius
END:VEVENT
BEGIN:VEVENT
UID:sabre-vobject-1f16accc-61bb-459d-88ea-998e9d6f38bd
DTSTAMP:20260422T042014Z
SUMMARY:2. Kommunionprobe
DESCRIPTION:https://pfarreien-bistum-augsburg.df-preview.de/2-kommunionprob
 e_id1749536
DTSTART;TZID=Europe/Berlin:20260424T153000
DURATION:PT30M
LOCATION:St. Mauritius
END:VEVENT
BEGIN:VEVENT
UID:sabre-vobject-0a3fd15d-0787-4b3b-b1ec-a4c600e364ca
DTSTAMP:20260422T042014Z
SUMMARY:Rosenkranz
DESCRIPTION:https://pfarreien-bistum-augsburg.df-preview.de/rosenkranz_id17
 47988
DTSTART;TZID=Europe/Berlin:20260425T170000
DURATION:PT30M
LOCATION:St. Mauritius
END:VEVENT
BEGIN:VEVENT
UID:sabre-vobject-f88c71e9-f7f9-40ba-abd8-ef2ee573b5df
DTSTAMP:20260422T042014Z
SUMMARY:Feier der Hl. Erstkommunion
DESCRIPTION:https://pfarreien-bistum-augsburg.df-preview.de/feier-der-hl-er
 stkommunion_id1747993
DTSTART;TZID=Europe/Berlin:20260426T100000
DURATION:PT30M
LOCATION:St. Mauritius
END:VEVENT
BEGIN:VEVENT
UID:sabre-vobject-2c46f66b-b995-4bae-904b-a53b2e097412
DTSTAMP:20260422T042014Z
SUMMARY:Dankandacht der Kommunionkinder
DESCRIPTION:https://pfarreien-bistum-augsburg.df-preview.de/dankandacht-der
 -kommunionkinder_id1748007
DTSTART;TZID=Europe/Berlin:20260426T190000
DURATION:PT30M
LOCATION:St. Mauritius
END:VEVENT
BEGIN:VEVENT
UID:sabre-vobject-c393e1ef-84c1-42dd-8c60-67f12f4c788e
DTSTAMP:20260422T042014Z
SUMMARY:Hl. Messe
DESCRIPTION:https://pfarreien-bistum-augsburg.df-preview.de/hl-messe_id1748
 023
DTSTART;TZID=Europe/Berlin:20260429T190000
DURATION:PT30M
LOCATION:St. Mauritius
END:VEVENT
BEGIN:VEVENT
UID:sabre-vobject-72bb5709-037f-4812-aba2-7c802bf44b28
DTSTAMP:20260422T042014Z
SUMMARY:Segnung des neuen Maibaums
DESCRIPTION:https://pfarreien-bistum-augsburg.df-preview.de/segnung-des-neu
 en-maibaums_id1748024
DTSTART;TZID=Europe/Berlin:20260501T130000
DURATION:PT30M
LOCATION:St. Mauritius
END:VEVENT
BEGIN:VEVENT
UID:sabre-vobject-e3406bc3-19ee-4926-9a89-36f8b22094cc
DTSTAMP:20260422T042014Z
SUMMARY:Rosenkranz
DESCRIPTION:https://pfarreien-bistum-augsburg.df-preview.de/rosenkranz_id17
 48025
DTSTART;TZID=Europe/Berlin:20260502T170000
DURATION:PT30M
LOCATION:St. Mauritius
END:VEVENT
END:VCALENDAR
