BEGIN:VCALENDAR
VERSION:2.0
PRODID:-//Sabre//Sabre VObject 4.5.8//EN
CALSCALE:GREGORIAN
NAME:Bistum Augsburg
X-WR-CALNAME:Bistum Augsburg
BEGIN:VEVENT
UID:sabre-vobject-2f0ad0d2-63c6-46e8-a7ef-69033db15cf2
DTSTAMP:20260422T161216Z
SUMMARY:Rosenkranz
DESCRIPTION:https://pfarreien-bistum-augsburg.df-preview.de/rosenkranz_id17
 25457
DTSTART;TZID=Europe/Berlin:20260423T083000
DURATION:PT30M
LOCATION:St. Georg
END:VEVENT
BEGIN:VEVENT
UID:sabre-vobject-877279e8-a915-4438-b4bd-3c50e32a7cba
DTSTAMP:20260422T161216Z
SUMMARY:Hl. M.:
DESCRIPTION:https://pfarreien-bistum-augsburg.df-preview.de/hl-m_id1725458
DTSTART;TZID=Europe/Berlin:20260423T090000
DURATION:PT30M
LOCATION:St. Georg
END:VEVENT
BEGIN:VEVENT
UID:sabre-vobject-59fea9e9-2d34-464e-82da-895181a0f179
DTSTAMP:20260422T161216Z
SUMMARY:Hl. M.:
DESCRIPTION:https://pfarreien-bistum-augsburg.df-preview.de/hl-m_id1725459
DTSTART;TZID=Europe/Berlin:20260424T183000
DURATION:PT30M
LOCATION:St. Georg
END:VEVENT
BEGIN:VEVENT
UID:sabre-vobject-c5ecad3f-b969-4402-a035-7e71ed12568c
DTSTAMP:20260422T161216Z
SUMMARY:Fatimarosenkranz
DESCRIPTION:https://pfarreien-bistum-augsburg.df-preview.de/fatimarosenkran
 z_id1725460
DTSTART;TZID=Europe/Berlin:20260424T191000
DURATION:PT30M
LOCATION:St. Georg
END:VEVENT
BEGIN:VEVENT
UID:sabre-vobject-994d634c-5b7c-4dad-a605-c4d06cb8abe9
DTSTAMP:20260422T161216Z
SUMMARY:Rosenkranz
DESCRIPTION:https://pfarreien-bistum-augsburg.df-preview.de/rosenkranz_id17
 27834
DTSTART;TZID=Europe/Berlin:20260425T160000
DURATION:PT30M
LOCATION:St. Georg
END:VEVENT
BEGIN:VEVENT
UID:sabre-vobject-9755c298-e662-491c-933a-c2a33ca71a8d
DTSTAMP:20260422T161216Z
SUMMARY:PfGD zum Patrozinium mit Meridian: anschl. Kirchenkaffee bei schön
 em Wetter vor der Kirche sonst im Pfarrheim - Spenden zugunsten Neubau Pfa
 rrheim.
DESCRIPTION:https://pfarreien-bistum-augsburg.df-preview.de/pfgd-zum-patroz
 inium-mit-meridian-anschl-kirchenkaffee-bei-schoenem-wetter-vor-der-kirche
 -sonst-im-pfarrheim-spenden-zugunsten-neubau-pfarrheim_id1727835
DTSTART;TZID=Europe/Berlin:20260426T100000
DURATION:PT30M
LOCATION:St. Georg
END:VEVENT
BEGIN:VEVENT
UID:sabre-vobject-8b93fcbd-611b-46a3-ae3c-666f6b567188
DTSTAMP:20260422T161216Z
SUMMARY:Rosenkranz
DESCRIPTION:https://pfarreien-bistum-augsburg.df-preview.de/rosenkranz_id17
 27836
DTSTART;TZID=Europe/Berlin:20260430T083000
DURATION:PT30M
LOCATION:St. Georg
END:VEVENT
BEGIN:VEVENT
UID:sabre-vobject-a599ff9c-4d2f-4612-bb31-295a8e6e4b9e
DTSTAMP:20260422T161216Z
SUMMARY:Hl. M.:
DESCRIPTION:https://pfarreien-bistum-augsburg.df-preview.de/hl-m_id1727837
DTSTART;TZID=Europe/Berlin:20260430T090000
DURATION:PT30M
LOCATION:St. Georg
END:VEVENT
BEGIN:VEVENT
UID:sabre-vobject-5fc8f997-552c-4073-8209-1427b94cb7de
DTSTAMP:20260422T161216Z
SUMMARY:Maiandach
DESCRIPTION:https://pfarreien-bistum-augsburg.df-preview.de/maiandach_id172
 7838
DTSTART;TZID=Europe/Berlin:20260501T190000
DURATION:PT30M
LOCATION:St. Georg
END:VEVENT
BEGIN:VEVENT
UID:sabre-vobject-7d0c8190-1625-40ab-8aac-b5d7480e90bb
DTSTAMP:20260422T161216Z
SUMMARY:Rosenkranz
DESCRIPTION:https://pfarreien-bistum-augsburg.df-preview.de/rosenkranz_id17
 38031
DTSTART;TZID=Europe/Berlin:20260502T160000
DURATION:PT30M
LOCATION:St. Georg
END:VEVENT
BEGIN:VEVENT
UID:sabre-vobject-6c68c383-6112-485b-8618-e87988630985
DTSTAMP:20260422T161216Z
SUMMARY:PfGD mit Meridian "Monatskollekte":
DESCRIPTION:https://pfarreien-bistum-augsburg.df-preview.de/pfgd-mit-meridi
 an-monatskollekte_id1738032
DTSTART;TZID=Europe/Berlin:20260503T100000
DURATION:PT30M
LOCATION:St. Georg
END:VEVENT
BEGIN:VEVENT
UID:sabre-vobject-3f5ff404-4091-47af-bc05-0a67fe2dd571
DTSTAMP:20260422T161216Z
SUMMARY:Maiandacht gestaltet von Schönstatt
DESCRIPTION:https://pfarreien-bistum-augsburg.df-preview.de/maiandacht-gest
 altet-von-schoenstatt_id1738033
DTSTART;TZID=Europe/Berlin:20260503T190000
DURATION:PT30M
LOCATION:St. Georg
END:VEVENT
BEGIN:VEVENT
UID:sabre-vobject-924b4cf2-c65a-4d49-b1a5-14bd9ec5d86d
DTSTAMP:20260422T161216Z
SUMMARY:Rosenkranz
DESCRIPTION:https://pfarreien-bistum-augsburg.df-preview.de/rosenkranz_id17
 38034
DTSTART;TZID=Europe/Berlin:20260507T083000
DURATION:PT30M
LOCATION:St. Georg
END:VEVENT
BEGIN:VEVENT
UID:sabre-vobject-9508780f-2a70-455b-9e11-7e41475c7ebd
DTSTAMP:20260422T161216Z
SUMMARY:Hl. M.:
DESCRIPTION:https://pfarreien-bistum-augsburg.df-preview.de/hl-m_id1738035
DTSTART;TZID=Europe/Berlin:20260507T090000
DURATION:PT30M
LOCATION:St. Georg
END:VEVENT
BEGIN:VEVENT
UID:sabre-vobject-36e1a5eb-2a39-45c4-8e90-fb73dd2ab0b6
DTSTAMP:20260422T161216Z
SUMMARY:Krankenkommunion
DESCRIPTION:https://pfarreien-bistum-augsburg.df-preview.de/krankenkommunio
 n_id1738044
DTSTART;TZID=Europe/Berlin:20260507T093000
DURATION:PT30M
LOCATION:St. Georg
END:VEVENT
BEGIN:VEVENT
UID:sabre-vobject-b6bfd89a-733f-491b-b032-d5bdacb8b874
DTSTAMP:20260422T161216Z
SUMMARY:Hl. M.:
DESCRIPTION:https://pfarreien-bistum-augsburg.df-preview.de/hl-m_id1737838
DTSTART;TZID=Europe/Berlin:20260508T183000
DURATION:PT30M
LOCATION:St. Georg
END:VEVENT
BEGIN:VEVENT
UID:sabre-vobject-35be2c8c-a50f-47dd-9803-5ad45bdb949f
DTSTAMP:20260422T161216Z
SUMMARY:Fatimarosenkranz
DESCRIPTION:https://pfarreien-bistum-augsburg.df-preview.de/fatimarosenkran
 z_id1737839
DTSTART;TZID=Europe/Berlin:20260508T191000
DURATION:PT30M
LOCATION:St. Georg
END:VEVENT
BEGIN:VEVENT
UID:sabre-vobject-e3d3bc86-e1a5-4787-82e7-c98715432c08
DTSTAMP:20260422T161216Z
SUMMARY:Rosenkranz
DESCRIPTION:https://pfarreien-bistum-augsburg.df-preview.de/rosenkranz_id17
 49278
DTSTART;TZID=Europe/Berlin:20260509T160000
DURATION:PT30M
LOCATION:St. Georg
END:VEVENT
BEGIN:VEVENT
UID:sabre-vobject-1e07669e-b81a-4b9a-b0e5-79128e59686d
DTSTAMP:20260422T161216Z
SUMMARY:PfGD:
DESCRIPTION:https://pfarreien-bistum-augsburg.df-preview.de/pfgd_id1749283
DTSTART;TZID=Europe/Berlin:20260509T183000
DURATION:PT30M
LOCATION:St. Georg
END:VEVENT
BEGIN:VEVENT
UID:sabre-vobject-fcd5062c-41d5-4550-980a-1e560d4f45b8
DTSTAMP:20260422T161216Z
SUMMARY:Maiandacht gestaltet inhaltlich und musikalisch von Fortuna
DESCRIPTION:https://pfarreien-bistum-augsburg.df-preview.de/maiandacht-gest
 altet-inhaltlich-und-musikalisch-von-fortuna_id1749315
DTSTART;TZID=Europe/Berlin:20260510T190000
DURATION:PT30M
LOCATION:St. Georg
END:VEVENT
BEGIN:VEVENT
UID:sabre-vobject-c65a0fa8-459e-42b7-ab69-e21c09de8477
DTSTAMP:20260422T161216Z
SUMMARY:Start zum Bittgang von den Pfarrkirchen (mit dem Fahrrad in  O)
DESCRIPTION:https://pfarreien-bistum-augsburg.df-preview.de/start-zum-bittg
 ang-von-den-pfarrkirchen-mit-dem-fahrrad-in-o_id1749415
DTSTART;TZID=Europe/Berlin:20260511T180000
DURATION:PT30M
LOCATION:St. Georg
END:VEVENT
BEGIN:VEVENT
UID:sabre-vobject-def7bba8-f11a-4ac3-aac3-6acb1a854ee2
DTSTAMP:20260422T161216Z
SUMMARY:Hl. M. am Stadel: um Frieden - mit Abordnung des Musikvereins Wehri
 ngen. Bei schlechtem Wetter (Glockenläuten) entfällt der Bittgang\, stat
 tdessen Messe in G und WGF in W jeweils um 18.00 Uhr
DESCRIPTION:https://pfarreien-bistum-augsburg.df-preview.de/hl-m-am-stadel-
 um-frieden-mit-abordnung-des-musikvereins-wehringen-bei-schlechtem-wetter-
 glockenlaeuten-entfaellt-der-bittgang-stattdessen-messe-in-g-und-wgf-in-w-
 jeweils-um-18-00-uhr_id1748931
DTSTART;TZID=Europe/Berlin:20260511T185000
DURATION:PT30M
LOCATION:St. Georg
END:VEVENT
BEGIN:VEVENT
UID:sabre-vobject-d73d58cf-8eaf-46ee-bf71-14295dda0120
DTSTAMP:20260422T161216Z
SUMMARY:Bittgang zur Hl.-Kreuz-Kapelle. Start an der Pfarrkirche
DESCRIPTION:https://pfarreien-bistum-augsburg.df-preview.de/bittgang-zur-hl
 -kreuz-kapelle-start-an-der-pfarrkirche_id1748933
DTSTART;TZID=Europe/Berlin:20260512T181500
DURATION:PT30M
LOCATION:St. Georg
END:VEVENT
BEGIN:VEVENT
UID:sabre-vobject-5fee5e16-29f3-4465-84d9-7f14f451d73d
DTSTAMP:20260422T161216Z
SUMMARY:Hl. Messe an der Hl.-Kreuz-Kapelle. Bei schlechtem Wetter (Glockenl
 äuten) Hl. Messe in der Pfarrkirche um 18.30 Uhr.
DESCRIPTION:https://pfarreien-bistum-augsburg.df-preview.de/hl-messe-an-der
 -hl-kreuz-kapelle-bei-schlechtem-wetter-glockenlaeuten-hl-messe-in-der-pfa
 rrkirche-um-18-30-uhr_id1748932
DTSTART;TZID=Europe/Berlin:20260512T183000
DURATION:PT30M
LOCATION:St. Georg
END:VEVENT
BEGIN:VEVENT
UID:sabre-vobject-7044d12a-71bd-48a2-8e3e-847237180de2
DTSTAMP:20260422T161216Z
SUMMARY:PfGD bei der Hauskapelle der Fam. Müller mit Musikkapelle: anschl.
  Flurumgang
DESCRIPTION:https://pfarreien-bistum-augsburg.df-preview.de/pfgd-bei-der-ha
 uskapelle-der-fam-mueller-mit-musikkapelle-anschl-flurumgang_id1749257
DTSTART;TZID=Europe/Berlin:20260514T183000
DURATION:PT30M
LOCATION:St. Georg
END:VEVENT
BEGIN:VEVENT
UID:sabre-vobject-b2a11163-1db3-4191-80e4-710cc209a8b5
DTSTAMP:20260422T161216Z
SUMMARY:Wort-Gottes-Feier
DESCRIPTION:https://pfarreien-bistum-augsburg.df-preview.de/wort-gottes-fei
 er_id1749259
DTSTART;TZID=Europe/Berlin:20260515T183000
DURATION:PT30M
LOCATION:St. Georg
END:VEVENT
BEGIN:VEVENT
UID:sabre-vobject-c250daa0-64df-4090-b136-8e77f32da6bf
DTSTAMP:20260422T161216Z
SUMMARY:Fatimarosenkranz
DESCRIPTION:https://pfarreien-bistum-augsburg.df-preview.de/fatimarosenkran
 z_id1749260
DTSTART;TZID=Europe/Berlin:20260515T191000
DURATION:PT30M
LOCATION:St. Georg
END:VEVENT
END:VCALENDAR
