BEGIN:VCALENDAR
VERSION:2.0
PRODID:-//Sabre//Sabre VObject 4.5.8//EN
CALSCALE:GREGORIAN
NAME:Bistum Augsburg
X-WR-CALNAME:Bistum Augsburg
BEGIN:VEVENT
UID:sabre-vobject-269da548-5cc5-4ebe-be3f-64bbf26a88c5
DTSTAMP:20260420T180911Z
SUMMARY:Rosenkranz
DESCRIPTION:https://pfarreien-bistum-augsburg.df-preview.de/rosenkranz_id17
 44254
DTSTART;TZID=Europe/Berlin:20260420T170000
DURATION:PT30M
LOCATION:St. Andreas
END:VEVENT
BEGIN:VEVENT
UID:sabre-vobject-20e6c1b6-1340-4a83-ac95-213ebf55f224
DTSTAMP:20260420T180911Z
SUMMARY:Pfarrersprechstunde im Pfarrhof
DESCRIPTION:https://pfarreien-bistum-augsburg.df-preview.de/pfarrersprechst
 unde-im-pfarrhof_id1744255
DTSTART;TZID=Europe/Berlin:20260421T160000
DURATION:PT30M
LOCATION:St. Andreas
END:VEVENT
BEGIN:VEVENT
UID:sabre-vobject-9d67ee86-fd8a-4c6e-9781-98a06025bb71
DTSTAMP:20260420T180911Z
SUMMARY:Rosenkranz
DESCRIPTION:https://pfarreien-bistum-augsburg.df-preview.de/rosenkranz_id17
 44256
DTSTART;TZID=Europe/Berlin:20260421T170000
DURATION:PT30M
LOCATION:St. Andreas
END:VEVENT
BEGIN:VEVENT
UID:sabre-vobject-31a27e63-d313-49d7-aff4-00dbdbb125e1
DTSTAMP:20260420T180911Z
SUMMARY:Heilige Messe
DESCRIPTION:https://pfarreien-bistum-augsburg.df-preview.de/heilige-messe_i
 d1744257
DTSTART;TZID=Europe/Berlin:20260422T083000
DURATION:PT30M
LOCATION:St. Andreas
END:VEVENT
BEGIN:VEVENT
UID:sabre-vobject-c9ddb985-5716-4876-98f3-745a179d533e
DTSTAMP:20260420T180911Z
SUMMARY:Rosenkranz
DESCRIPTION:https://pfarreien-bistum-augsburg.df-preview.de/rosenkranz_id17
 44258
DTSTART;TZID=Europe/Berlin:20260422T170000
DURATION:PT30M
LOCATION:St. Andreas
END:VEVENT
BEGIN:VEVENT
UID:sabre-vobject-50462b3a-2efe-4e0b-82b1-d3e5c20e15fd
DTSTAMP:20260420T180911Z
SUMMARY:Rosenkranz
DESCRIPTION:https://pfarreien-bistum-augsburg.df-preview.de/rosenkranz_id17
 44259
DTSTART;TZID=Europe/Berlin:20260423T172500
DURATION:PT30M
LOCATION:St. Andreas
END:VEVENT
BEGIN:VEVENT
UID:sabre-vobject-5c84f9bb-5d71-40f9-a5ec-f857a10ae2b6
DTSTAMP:20260420T180911Z
SUMMARY:Heilige Messe
DESCRIPTION:https://pfarreien-bistum-augsburg.df-preview.de/heilige-messe_i
 d1744260
DTSTART;TZID=Europe/Berlin:20260423T180000
DURATION:PT30M
LOCATION:St. Andreas
END:VEVENT
BEGIN:VEVENT
UID:sabre-vobject-c58556f1-185f-408e-b2f5-0be9bcc63a38
DTSTAMP:20260420T180911Z
SUMMARY:Heilige Messe
DESCRIPTION:https://pfarreien-bistum-augsburg.df-preview.de/heilige-messe_i
 d1744261
DTSTART;TZID=Europe/Berlin:20260424T100000
DURATION:PT30M
LOCATION:St. Andreas
END:VEVENT
BEGIN:VEVENT
UID:sabre-vobject-127234d8-c132-4505-9f45-33db346f3a7f
DTSTAMP:20260420T180911Z
SUMMARY:Rosenkranz
DESCRIPTION:https://pfarreien-bistum-augsburg.df-preview.de/rosenkranz_id17
 44262
DTSTART;TZID=Europe/Berlin:20260424T170000
DURATION:PT30M
LOCATION:St. Andreas
END:VEVENT
BEGIN:VEVENT
UID:sabre-vobject-7d3c07e9-040f-4a1c-b7a4-222b1027ffc7
DTSTAMP:20260420T180911Z
SUMMARY:Beichtgelegenheit
DESCRIPTION:https://pfarreien-bistum-augsburg.df-preview.de/beichtgelegenhe
 it_id1744273
DTSTART;TZID=Europe/Berlin:20260425T171500
DURATION:PT30M
LOCATION:St. Andreas
END:VEVENT
BEGIN:VEVENT
UID:sabre-vobject-dc3d460b-22a1-4a06-b98c-00c532933fbd
DTSTAMP:20260420T180911Z
SUMMARY:Vorabendmesse
DESCRIPTION:https://pfarreien-bistum-augsburg.df-preview.de/vorabendmesse_i
 d1744271
DTSTART;TZID=Europe/Berlin:20260425T180000
DURATION:PT30M
LOCATION:St. Andreas
END:VEVENT
BEGIN:VEVENT
UID:sabre-vobject-ec1f5b21-bb08-47b0-b4d9-b2f714fbaa85
DTSTAMP:20260420T180911Z
SUMMARY:Rosenkranz
DESCRIPTION:https://pfarreien-bistum-augsburg.df-preview.de/rosenkranz_id17
 44272
DTSTART;TZID=Europe/Berlin:20260426T092500
DURATION:PT30M
LOCATION:St. Andreas
END:VEVENT
BEGIN:VEVENT
UID:sabre-vobject-255abda1-8ae8-4096-93fc-b5478079170c
DTSTAMP:20260420T180911Z
SUMMARY:Heilige Messe
DESCRIPTION:https://pfarreien-bistum-augsburg.df-preview.de/heilige-messe_i
 d1744280
DTSTART;TZID=Europe/Berlin:20260426T100000
DURATION:PT30M
LOCATION:St. Andreas
END:VEVENT
BEGIN:VEVENT
UID:sabre-vobject-277efd7c-5769-4168-b79c-5dd18ffa7409
DTSTAMP:20260420T180911Z
SUMMARY:Rosenkranz
DESCRIPTION:https://pfarreien-bistum-augsburg.df-preview.de/rosenkranz_id17
 44275
DTSTART;TZID=Europe/Berlin:20260427T170000
DURATION:PT30M
LOCATION:St. Andreas
END:VEVENT
BEGIN:VEVENT
UID:sabre-vobject-a4783a9d-37e9-4b28-b323-4ea246b25196
DTSTAMP:20260420T180911Z
SUMMARY:Pfarrersprechstunde im Pfarrhof
DESCRIPTION:https://pfarreien-bistum-augsburg.df-preview.de/pfarrersprechst
 unde-im-pfarrhof_id1744276
DTSTART;TZID=Europe/Berlin:20260428T160000
DURATION:PT30M
LOCATION:St. Andreas
END:VEVENT
BEGIN:VEVENT
UID:sabre-vobject-d9f37515-1560-414b-881a-2ee1358bd359
DTSTAMP:20260420T180911Z
SUMMARY:Rosenkranz
DESCRIPTION:https://pfarreien-bistum-augsburg.df-preview.de/rosenkranz_id17
 44277
DTSTART;TZID=Europe/Berlin:20260428T170000
DURATION:PT30M
LOCATION:St. Andreas
END:VEVENT
BEGIN:VEVENT
UID:sabre-vobject-cc54ed6a-6729-48c1-a1b4-5241325ab4bc
DTSTAMP:20260420T180911Z
SUMMARY:Heilige Messe
DESCRIPTION:https://pfarreien-bistum-augsburg.df-preview.de/heilige-messe_i
 d1744278
DTSTART;TZID=Europe/Berlin:20260429T083000
DURATION:PT30M
LOCATION:St. Andreas
END:VEVENT
BEGIN:VEVENT
UID:sabre-vobject-e981a124-fcae-4184-93aa-d9d5d46cdcfd
DTSTAMP:20260420T180911Z
SUMMARY:Rosenkranz
DESCRIPTION:https://pfarreien-bistum-augsburg.df-preview.de/rosenkranz_id17
 44279
DTSTART;TZID=Europe/Berlin:20260429T170000
DURATION:PT30M
LOCATION:St. Andreas
END:VEVENT
BEGIN:VEVENT
UID:sabre-vobject-29b37fd1-f4fc-4b8f-a404-fdb48209466b
DTSTAMP:20260420T180911Z
SUMMARY:Rosenkranz
DESCRIPTION:https://pfarreien-bistum-augsburg.df-preview.de/rosenkranz_id17
 44113
DTSTART;TZID=Europe/Berlin:20260430T172500
DURATION:PT30M
LOCATION:St. Andreas
END:VEVENT
BEGIN:VEVENT
UID:sabre-vobject-1610d903-1b4d-4b77-899c-8bdd480a146e
DTSTAMP:20260420T180911Z
SUMMARY:Heilige Messe
DESCRIPTION:https://pfarreien-bistum-augsburg.df-preview.de/heilige-messe_i
 d1744114
DTSTART;TZID=Europe/Berlin:20260430T180000
DURATION:PT30M
LOCATION:St. Andreas
END:VEVENT
BEGIN:VEVENT
UID:sabre-vobject-e47243ec-5dcc-4b5b-83b6-e4ba756f82c2
DTSTAMP:20260420T180911Z
SUMMARY:Rosenkranz
DESCRIPTION:https://pfarreien-bistum-augsburg.df-preview.de/rosenkranz_id17
 44115
DTSTART;TZID=Europe/Berlin:20260501T092500
DURATION:PT30M
LOCATION:St. Andreas
END:VEVENT
BEGIN:VEVENT
UID:sabre-vobject-4867eecb-da21-4a3f-bb7d-227f9bbcab97
DTSTAMP:20260420T180911Z
SUMMARY:Heilige Messe
DESCRIPTION:https://pfarreien-bistum-augsburg.df-preview.de/heilige-messe_i
 d1744116
DTSTART;TZID=Europe/Berlin:20260501T100000
DURATION:PT30M
LOCATION:St. Andreas
END:VEVENT
BEGIN:VEVENT
UID:sabre-vobject-508cdabb-8628-46c8-a554-0fc2a47aa10b
DTSTAMP:20260420T180911Z
SUMMARY:Heilige Messe
DESCRIPTION:https://pfarreien-bistum-augsburg.df-preview.de/heilige-messe_i
 d1744274
DTSTART;TZID=Europe/Berlin:20260501T100000
DURATION:PT30M
LOCATION:St. Andreas
END:VEVENT
BEGIN:VEVENT
UID:sabre-vobject-0558fadf-814f-42db-9cbe-bb00b2ab704d
DTSTAMP:20260420T180911Z
SUMMARY:Wallfahrt nach Mindelzell
DESCRIPTION:https://pfarreien-bistum-augsburg.df-preview.de/wallfahrt-nach-
 mindelzell_id1744117
DTSTART;TZID=Europe/Berlin:20260502T043000
DURATION:PT30M
LOCATION:St. Andreas
END:VEVENT
BEGIN:VEVENT
UID:sabre-vobject-774f94f0-7d21-4795-81b9-2173de076fdc
DTSTAMP:20260420T180911Z
SUMMARY:Wallfahrtsgottesdienst in Mindelzell
DESCRIPTION:https://pfarreien-bistum-augsburg.df-preview.de/wallfahrtsgotte
 sdienst-in-mindelzell_id1744139
DTSTART;TZID=Europe/Berlin:20260502T090000
DURATION:PT30M
LOCATION:St. Andreas
END:VEVENT
BEGIN:VEVENT
UID:sabre-vobject-2bbc4a96-65a9-499d-b7c8-e32c74e2d98f
DTSTAMP:20260420T180911Z
SUMMARY:Beichtgelegenheit
DESCRIPTION:https://pfarreien-bistum-augsburg.df-preview.de/beichtgelegenhe
 it_id1744136
DTSTART;TZID=Europe/Berlin:20260502T171500
DURATION:PT30M
LOCATION:St. Andreas
END:VEVENT
BEGIN:VEVENT
UID:sabre-vobject-f48ab743-82b9-4177-aec7-66146c2c48ba
DTSTAMP:20260420T180911Z
SUMMARY:Vorabendmesse
DESCRIPTION:https://pfarreien-bistum-augsburg.df-preview.de/vorabendmesse_i
 d1744137
DTSTART;TZID=Europe/Berlin:20260502T180000
DURATION:PT30M
LOCATION:St. Andreas
END:VEVENT
BEGIN:VEVENT
UID:sabre-vobject-d8cd1f6d-5184-41c7-9cf3-7da80c6cbc75
DTSTAMP:20260420T180911Z
SUMMARY:Heilige Messe bei der Feuerwehr  -Segnung der Drehleiter
DESCRIPTION:https://pfarreien-bistum-augsburg.df-preview.de/heilige-messe-b
 ei-der-feuerwehr-segnung-der-drehleiter_id1744155
DTSTART;TZID=Europe/Berlin:20260503T100000
DURATION:PT30M
LOCATION:St. Andreas
END:VEVENT
BEGIN:VEVENT
UID:sabre-vobject-18583a9b-e186-45f2-bcfa-1f52b0123414
DTSTAMP:20260420T180911Z
SUMMARY:Rosenkranz
DESCRIPTION:https://pfarreien-bistum-augsburg.df-preview.de/rosenkranz_id17
 44156
DTSTART;TZID=Europe/Berlin:20260504T170000
DURATION:PT30M
LOCATION:St. Andreas
END:VEVENT
BEGIN:VEVENT
UID:sabre-vobject-b652248b-b3fa-4a10-a285-99f5f7d75d81
DTSTAMP:20260420T180911Z
SUMMARY:Maiandacht des Frauenbund Babenhausen
DESCRIPTION:https://pfarreien-bistum-augsburg.df-preview.de/maiandacht-des-
 frauenbund-babenhausen_id1744157
DTSTART;TZID=Europe/Berlin:20260504T180000
DURATION:PT30M
LOCATION:St. Andreas
END:VEVENT
BEGIN:VEVENT
UID:sabre-vobject-a3a7c812-5bda-42ec-a291-807afbdb3453
DTSTAMP:20260420T180911Z
SUMMARY:Pfarrersprechstunde im Pfarrhof
DESCRIPTION:https://pfarreien-bistum-augsburg.df-preview.de/pfarrersprechst
 unde-im-pfarrhof_id1744158
DTSTART;TZID=Europe/Berlin:20260505T160000
DURATION:PT30M
LOCATION:St. Andreas
END:VEVENT
BEGIN:VEVENT
UID:sabre-vobject-44fc9832-698b-4a54-8e82-5d20fc328e93
DTSTAMP:20260420T180911Z
SUMMARY:Rosenkranz
DESCRIPTION:https://pfarreien-bistum-augsburg.df-preview.de/rosenkranz_id17
 44159
DTSTART;TZID=Europe/Berlin:20260505T170000
DURATION:PT30M
LOCATION:St. Andreas
END:VEVENT
BEGIN:VEVENT
UID:sabre-vobject-6ccda476-db42-4fee-b1b1-36c78cc7a6da
DTSTAMP:20260420T180911Z
SUMMARY:Heilige Messe
DESCRIPTION:https://pfarreien-bistum-augsburg.df-preview.de/heilige-messe_i
 d1744160
DTSTART;TZID=Europe/Berlin:20260506T083000
DURATION:PT30M
LOCATION:St. Andreas
END:VEVENT
BEGIN:VEVENT
UID:sabre-vobject-da19a253-bd1e-47f1-9e77-69c14d312d7a
DTSTAMP:20260420T180911Z
SUMMARY:Rosenkranz
DESCRIPTION:https://pfarreien-bistum-augsburg.df-preview.de/rosenkranz_id17
 44168
DTSTART;TZID=Europe/Berlin:20260506T170000
DURATION:PT30M
LOCATION:St. Andreas
END:VEVENT
BEGIN:VEVENT
UID:sabre-vobject-92fa2410-d824-448f-b42f-44da7a55a86a
DTSTAMP:20260420T180911Z
SUMMARY:Rosenkranz
DESCRIPTION:https://pfarreien-bistum-augsburg.df-preview.de/rosenkranz_id17
 44169
DTSTART;TZID=Europe/Berlin:20260507T172500
DURATION:PT30M
LOCATION:St. Andreas
END:VEVENT
BEGIN:VEVENT
UID:sabre-vobject-6e6f708a-b3f2-4176-86af-6db50beaee3e
DTSTAMP:20260420T180911Z
SUMMARY:Heilige Messe
DESCRIPTION:https://pfarreien-bistum-augsburg.df-preview.de/heilige-messe_i
 d1744170
DTSTART;TZID=Europe/Berlin:20260507T180000
DURATION:PT30M
LOCATION:St. Andreas
END:VEVENT
BEGIN:VEVENT
UID:sabre-vobject-eca915ab-1041-44e9-bbeb-a6c04002242b
DTSTAMP:20260420T180911Z
SUMMARY:Heilige Messe
DESCRIPTION:https://pfarreien-bistum-augsburg.df-preview.de/heilige-messe_i
 d1744171
DTSTART;TZID=Europe/Berlin:20260508T100000
DURATION:PT30M
LOCATION:St. Andreas
END:VEVENT
BEGIN:VEVENT
UID:sabre-vobject-7404008e-88f2-4ab1-aa88-bb6e3eaa95f6
DTSTAMP:20260420T180911Z
SUMMARY:Rosenkranz
DESCRIPTION:https://pfarreien-bistum-augsburg.df-preview.de/rosenkranz_id17
 44172
DTSTART;TZID=Europe/Berlin:20260508T170000
DURATION:PT30M
LOCATION:St. Andreas
END:VEVENT
BEGIN:VEVENT
UID:sabre-vobject-71a8d6cf-942a-4276-bfa1-3de72a8c178e
DTSTAMP:20260420T180911Z
SUMMARY:Beichtgelegenheit
DESCRIPTION:https://pfarreien-bistum-augsburg.df-preview.de/beichtgelegenhe
 it_id1744173
DTSTART;TZID=Europe/Berlin:20260509T171500
DURATION:PT30M
LOCATION:St. Andreas
END:VEVENT
BEGIN:VEVENT
UID:sabre-vobject-f77874b9-1784-47c7-9ac3-7c41125159fe
DTSTAMP:20260420T180911Z
SUMMARY:Vorabendmesse
DESCRIPTION:https://pfarreien-bistum-augsburg.df-preview.de/vorabendmesse_i
 d1744174
DTSTART;TZID=Europe/Berlin:20260509T180000
DURATION:PT30M
LOCATION:St. Andreas
END:VEVENT
BEGIN:VEVENT
UID:sabre-vobject-59fef611-6f56-413f-aa28-72b8e447e4a4
DTSTAMP:20260420T180911Z
SUMMARY:Rosenkranz
DESCRIPTION:https://pfarreien-bistum-augsburg.df-preview.de/rosenkranz_id17
 44175
DTSTART;TZID=Europe/Berlin:20260510T092500
DURATION:PT30M
LOCATION:St. Andreas
END:VEVENT
BEGIN:VEVENT
UID:sabre-vobject-60584de5-65cb-44f3-bde8-902209e867ff
DTSTAMP:20260420T180911Z
SUMMARY:Heilige Messe für die Lebenden u. Verstorbenen der PG
DESCRIPTION:https://pfarreien-bistum-augsburg.df-preview.de/heilige-messe-f
 uer-die-lebenden-u-verstorbenen-der-pg_id1744176
DTSTART;TZID=Europe/Berlin:20260510T100000
DURATION:PT30M
LOCATION:St. Andreas
END:VEVENT
BEGIN:VEVENT
UID:sabre-vobject-e791f027-9ae3-4cc8-b77a-50b9be95cede
DTSTAMP:20260420T180911Z
SUMMARY:Bittgang nach Kirchhaslach
DESCRIPTION:https://pfarreien-bistum-augsburg.df-preview.de/bittgang-nach-k
 irchhaslach_id1744177
DTSTART;TZID=Europe/Berlin:20260511T184500
DURATION:PT30M
LOCATION:St. Andreas
END:VEVENT
BEGIN:VEVENT
UID:sabre-vobject-6c53dd13-9aaa-4945-a0ae-e363d4525de2
DTSTAMP:20260420T180911Z
SUMMARY:Rosenkranz
DESCRIPTION:https://pfarreien-bistum-augsburg.df-preview.de/rosenkranz_id17
 44178
DTSTART;TZID=Europe/Berlin:20260512T170000
DURATION:PT30M
LOCATION:St. Andreas
END:VEVENT
BEGIN:VEVENT
UID:sabre-vobject-e37af913-dd0a-4dcb-84e5-3aa88d9e0189
DTSTAMP:20260420T180911Z
SUMMARY:Bittgang zur Aspenkapelle\, anschl. Bittmesse
DESCRIPTION:https://pfarreien-bistum-augsburg.df-preview.de/bittgang-zur-as
 penkapelle-anschl-bittmesse_id1744138
DTSTART;TZID=Europe/Berlin:20260513T190000
DURATION:PT30M
LOCATION:St. Andreas
END:VEVENT
BEGIN:VEVENT
UID:sabre-vobject-dce706e8-e9d3-4eed-9710-ef428c7d72de
DTSTAMP:20260420T180911Z
SUMMARY:Rosenkranz
DESCRIPTION:https://pfarreien-bistum-augsburg.df-preview.de/rosenkranz_id17
 44235
DTSTART;TZID=Europe/Berlin:20260514T092500
DURATION:PT30M
LOCATION:St. Andreas
END:VEVENT
BEGIN:VEVENT
UID:sabre-vobject-d1f96d93-8f30-4bb6-b54e-abefef2c4b09
DTSTAMP:20260420T180911Z
SUMMARY:Heilige Messe
DESCRIPTION:https://pfarreien-bistum-augsburg.df-preview.de/heilige-messe_i
 d1744236
DTSTART;TZID=Europe/Berlin:20260514T100000
DURATION:PT30M
LOCATION:St. Andreas
END:VEVENT
BEGIN:VEVENT
UID:sabre-vobject-b8e3944f-cc87-4096-86f8-8e8b1ee137e9
DTSTAMP:20260420T180911Z
SUMMARY:Heilige Messe
DESCRIPTION:https://pfarreien-bistum-augsburg.df-preview.de/heilige-messe_i
 d1744237
DTSTART;TZID=Europe/Berlin:20260515T100000
DURATION:PT30M
LOCATION:St. Andreas
END:VEVENT
BEGIN:VEVENT
UID:sabre-vobject-62f520e6-2b08-4ab5-8b15-4e8865203416
DTSTAMP:20260420T180911Z
SUMMARY:Rosenkranz
DESCRIPTION:https://pfarreien-bistum-augsburg.df-preview.de/rosenkranz_id17
 44238
DTSTART;TZID=Europe/Berlin:20260515T170000
DURATION:PT30M
LOCATION:St. Andreas
END:VEVENT
BEGIN:VEVENT
UID:sabre-vobject-cbe1c0f7-cefa-4ff6-b6a6-8a9eedee6f9c
DTSTAMP:20260420T180911Z
SUMMARY:Taufe Ella Mayerföls
DESCRIPTION:https://pfarreien-bistum-augsburg.df-preview.de/taufe-ella-maye
 rfoels_id1744239
DTSTART;TZID=Europe/Berlin:20260516T110000
DURATION:PT30M
LOCATION:St. Andreas
END:VEVENT
BEGIN:VEVENT
UID:sabre-vobject-93132bf2-fc1c-4962-8dc5-248eb9800a81
DTSTAMP:20260420T180911Z
SUMMARY:Beichtgelegenheit
DESCRIPTION:https://pfarreien-bistum-augsburg.df-preview.de/beichtgelegenhe
 it_id1744240
DTSTART;TZID=Europe/Berlin:20260516T171500
DURATION:PT30M
LOCATION:St. Andreas
END:VEVENT
BEGIN:VEVENT
UID:sabre-vobject-62e1bf30-c242-4225-9901-5d87b0b03cc4
DTSTAMP:20260420T180911Z
SUMMARY:Vorabendmesse
DESCRIPTION:https://pfarreien-bistum-augsburg.df-preview.de/vorabendmesse_i
 d1744241
DTSTART;TZID=Europe/Berlin:20260516T180000
DURATION:PT30M
LOCATION:St. Andreas
END:VEVENT
BEGIN:VEVENT
UID:sabre-vobject-cc9b1c92-f8e4-49a0-aba8-33cf41678e7d
DTSTAMP:20260420T180911Z
SUMMARY:Rosenkranz
DESCRIPTION:https://pfarreien-bistum-augsburg.df-preview.de/rosenkranz_id17
 44242
DTSTART;TZID=Europe/Berlin:20260517T092500
DURATION:PT30M
LOCATION:St. Andreas
END:VEVENT
BEGIN:VEVENT
UID:sabre-vobject-775c5033-8dfa-47ee-a635-38312a65ea2c
DTSTAMP:20260420T180911Z
SUMMARY:Heilige Messe gest. Gospelchor St. Lukas  München
DESCRIPTION:https://pfarreien-bistum-augsburg.df-preview.de/heilige-messe-g
 est-gospelchor-st-lukas-muenchen_id1744244
DTSTART;TZID=Europe/Berlin:20260517T100000
DURATION:PT30M
LOCATION:St. Andreas
END:VEVENT
BEGIN:VEVENT
UID:sabre-vobject-b19e0e9f-6a08-43a3-8ae4-67af8a522d92
DTSTAMP:20260420T180911Z
SUMMARY:Kinderkirche (Gemeindebücherei)
DESCRIPTION:https://pfarreien-bistum-augsburg.df-preview.de/kinderkirche-ge
 meindebuecherei_id1744245
DTSTART;TZID=Europe/Berlin:20260517T100000
DURATION:PT30M
LOCATION:St. Andreas
END:VEVENT
BEGIN:VEVENT
UID:sabre-vobject-9028b593-b97b-4236-985b-d783f2091cc2
DTSTAMP:20260420T180911Z
SUMMARY:Rosenkranz
DESCRIPTION:https://pfarreien-bistum-augsburg.df-preview.de/rosenkranz_id17
 44246
DTSTART;TZID=Europe/Berlin:20260518T170000
DURATION:PT30M
LOCATION:St. Andreas
END:VEVENT
BEGIN:VEVENT
UID:sabre-vobject-a6648e0f-52e8-4fe7-8540-56d1cb2776a8
DTSTAMP:20260420T180911Z
SUMMARY:Pfarrersprechstunde im Pfarrhof
DESCRIPTION:https://pfarreien-bistum-augsburg.df-preview.de/pfarrersprechst
 unde-im-pfarrhof_id1744248
DTSTART;TZID=Europe/Berlin:20260519T160000
DURATION:PT30M
LOCATION:St. Andreas
END:VEVENT
BEGIN:VEVENT
UID:sabre-vobject-59fe2274-9f18-4607-b0d9-6e43261105f9
DTSTAMP:20260420T180911Z
SUMMARY:Rosenkranz
DESCRIPTION:https://pfarreien-bistum-augsburg.df-preview.de/rosenkranz_id17
 44265
DTSTART;TZID=Europe/Berlin:20260519T170000
DURATION:PT30M
LOCATION:St. Andreas
END:VEVENT
BEGIN:VEVENT
UID:sabre-vobject-3de10f4f-c9d6-448e-ab5d-a57d47485b86
DTSTAMP:20260420T180911Z
SUMMARY:Rosenkranz
DESCRIPTION:https://pfarreien-bistum-augsburg.df-preview.de/rosenkranz_id17
 44263
DTSTART;TZID=Europe/Berlin:20260520T170000
DURATION:PT30M
LOCATION:St. Andreas
END:VEVENT
BEGIN:VEVENT
UID:sabre-vobject-71259b8d-3731-47d6-a218-e854473407b1
DTSTAMP:20260420T180911Z
SUMMARY:Rosenkranz
DESCRIPTION:https://pfarreien-bistum-augsburg.df-preview.de/rosenkranz_id17
 44266
DTSTART;TZID=Europe/Berlin:20260521T172500
DURATION:PT30M
LOCATION:St. Andreas
END:VEVENT
BEGIN:VEVENT
UID:sabre-vobject-3ccec2aa-7ba2-4f93-bcaa-60e593854032
DTSTAMP:20260420T180911Z
SUMMARY:Heilige Messe
DESCRIPTION:https://pfarreien-bistum-augsburg.df-preview.de/heilige-messe_i
 d1744267
DTSTART;TZID=Europe/Berlin:20260521T180000
DURATION:PT30M
LOCATION:St. Andreas
END:VEVENT
BEGIN:VEVENT
UID:sabre-vobject-49a6bf29-9112-4a09-ad58-c30ca6316586
DTSTAMP:20260420T180911Z
SUMMARY:Heilige Messe
DESCRIPTION:https://pfarreien-bistum-augsburg.df-preview.de/heilige-messe_i
 d1744268
DTSTART;TZID=Europe/Berlin:20260522T100000
DURATION:PT30M
LOCATION:St. Andreas
END:VEVENT
BEGIN:VEVENT
UID:sabre-vobject-a21708dc-6626-4498-a290-49b0f56e03a6
DTSTAMP:20260420T180911Z
SUMMARY:Rosenkranz
DESCRIPTION:https://pfarreien-bistum-augsburg.df-preview.de/rosenkranz_id17
 44269
DTSTART;TZID=Europe/Berlin:20260522T170000
DURATION:PT30M
LOCATION:St. Andreas
END:VEVENT
BEGIN:VEVENT
UID:sabre-vobject-3519a92c-acbe-4bff-bf50-ee4bba839873
DTSTAMP:20260420T180911Z
SUMMARY:Beichtgelegenheit
DESCRIPTION:https://pfarreien-bistum-augsburg.df-preview.de/beichtgelegenhe
 it_id1744270
DTSTART;TZID=Europe/Berlin:20260523T171500
DURATION:PT30M
LOCATION:St. Andreas
END:VEVENT
BEGIN:VEVENT
UID:sabre-vobject-02a30d8a-07d1-4d8d-8742-c60eb1a768d1
DTSTAMP:20260420T180911Z
SUMMARY:Vorabendmesse
DESCRIPTION:https://pfarreien-bistum-augsburg.df-preview.de/vorabendmesse_i
 d1744247
DTSTART;TZID=Europe/Berlin:20260523T180000
DURATION:PT30M
LOCATION:St. Andreas
END:VEVENT
BEGIN:VEVENT
UID:sabre-vobject-9b27ed1b-ac23-43ae-b508-dfd2f72d4e9a
DTSTAMP:20260420T180911Z
SUMMARY:Rosenkranz
DESCRIPTION:https://pfarreien-bistum-augsburg.df-preview.de/rosenkranz_id17
 44249
DTSTART;TZID=Europe/Berlin:20260524T092500
DURATION:PT30M
LOCATION:St. Andreas
END:VEVENT
BEGIN:VEVENT
UID:sabre-vobject-bcd5315b-a517-4239-af56-030dcb93823a
DTSTAMP:20260420T180911Z
SUMMARY:Heilige Messe
DESCRIPTION:https://pfarreien-bistum-augsburg.df-preview.de/heilige-messe_i
 d1744264
DTSTART;TZID=Europe/Berlin:20260524T100000
DURATION:PT30M
LOCATION:St. Andreas
END:VEVENT
BEGIN:VEVENT
UID:sabre-vobject-b871692a-ca2e-4345-9b58-4798de77c491
DTSTAMP:20260420T180911Z
SUMMARY:Rosenkranz
DESCRIPTION:https://pfarreien-bistum-augsburg.df-preview.de/rosenkranz_id17
 44291
DTSTART;TZID=Europe/Berlin:20260526T170000
DURATION:PT30M
LOCATION:St. Andreas
END:VEVENT
BEGIN:VEVENT
UID:sabre-vobject-da20580b-402c-4a9f-9634-e02f2144997c
DTSTAMP:20260420T180911Z
SUMMARY:Rosenkranz
DESCRIPTION:https://pfarreien-bistum-augsburg.df-preview.de/rosenkranz_id17
 44292
DTSTART;TZID=Europe/Berlin:20260527T170000
DURATION:PT30M
LOCATION:St. Andreas
END:VEVENT
BEGIN:VEVENT
UID:sabre-vobject-d5f1f2b6-b20d-49fc-9b29-6b4ef8c41430
DTSTAMP:20260420T180911Z
SUMMARY:Rosenkranz
DESCRIPTION:https://pfarreien-bistum-augsburg.df-preview.de/rosenkranz_id17
 44293
DTSTART;TZID=Europe/Berlin:20260528T172500
DURATION:PT30M
LOCATION:St. Andreas
END:VEVENT
BEGIN:VEVENT
UID:sabre-vobject-aba7b245-70ac-4416-b88e-eb4aaa002097
DTSTAMP:20260420T180911Z
SUMMARY:Heilige Messe
DESCRIPTION:https://pfarreien-bistum-augsburg.df-preview.de/heilige-messe_i
 d1744294
DTSTART;TZID=Europe/Berlin:20260528T180000
DURATION:PT30M
LOCATION:St. Andreas
END:VEVENT
BEGIN:VEVENT
UID:sabre-vobject-3bd4009d-fe7d-4fe0-9ca0-f7675750c026
DTSTAMP:20260420T180911Z
SUMMARY:Heilige Messe
DESCRIPTION:https://pfarreien-bistum-augsburg.df-preview.de/heilige-messe_i
 d1744295
DTSTART;TZID=Europe/Berlin:20260529T100000
DURATION:PT30M
LOCATION:St. Andreas
END:VEVENT
BEGIN:VEVENT
UID:sabre-vobject-47b30bfe-20cf-4a09-8a27-07af7ea64260
DTSTAMP:20260420T180911Z
SUMMARY:Rosenkranz
DESCRIPTION:https://pfarreien-bistum-augsburg.df-preview.de/rosenkranz_id17
 44296
DTSTART;TZID=Europe/Berlin:20260529T170000
DURATION:PT30M
LOCATION:St. Andreas
END:VEVENT
BEGIN:VEVENT
UID:sabre-vobject-7932b512-7a5d-4110-8475-9184cdd2c284
DTSTAMP:20260420T180911Z
SUMMARY:Beichtgelegenheit
DESCRIPTION:https://pfarreien-bistum-augsburg.df-preview.de/beichtgelegenhe
 it_id1744297
DTSTART;TZID=Europe/Berlin:20260530T171500
DURATION:PT30M
LOCATION:St. Andreas
END:VEVENT
BEGIN:VEVENT
UID:sabre-vobject-4870f5fa-7683-444c-8511-4b01b65603fa
DTSTAMP:20260420T180911Z
SUMMARY:Vorabendmesse
DESCRIPTION:https://pfarreien-bistum-augsburg.df-preview.de/vorabendmesse_i
 d1744298
DTSTART;TZID=Europe/Berlin:20260530T180000
DURATION:PT30M
LOCATION:St. Andreas
END:VEVENT
BEGIN:VEVENT
UID:sabre-vobject-06dc7a58-382e-478b-90e8-c8151734f07f
DTSTAMP:20260420T180911Z
SUMMARY:Rosenkranz
DESCRIPTION:https://pfarreien-bistum-augsburg.df-preview.de/rosenkranz_id17
 44118
DTSTART;TZID=Europe/Berlin:20260531T092500
DURATION:PT30M
LOCATION:St. Andreas
END:VEVENT
BEGIN:VEVENT
UID:sabre-vobject-2b2405d1-8ecd-473f-b2e3-c78d863f5c9c
DTSTAMP:20260420T180911Z
SUMMARY:Heilige Messe
DESCRIPTION:https://pfarreien-bistum-augsburg.df-preview.de/heilige-messe_i
 d1744119
DTSTART;TZID=Europe/Berlin:20260531T100000
DURATION:PT30M
LOCATION:St. Andreas
END:VEVENT
END:VCALENDAR
