BEGIN:VCALENDAR
VERSION:2.0
PRODID:-//Sabre//Sabre VObject 4.5.8//EN
CALSCALE:GREGORIAN
NAME:Bistum Augsburg
X-WR-CALNAME:Bistum Augsburg
BEGIN:VEVENT
UID:sabre-vobject-b1c5a488-2647-4969-8e49-dce6496f36e0
DTSTAMP:20260423T040021Z
SUMMARY:Hl. Messe (Aschering)
DESCRIPTION:https://pfarreien-bistum-augsburg.df-preview.de/hl-messe-ascher
 ing_id1735416
DTSTART;TZID=Europe/Berlin:20260423T190000
DURATION:PT30M
LOCATION:St. Pius
END:VEVENT
BEGIN:VEVENT
UID:sabre-vobject-1382b65a-226e-4473-9706-5a94cbbc9658
DTSTAMP:20260423T040021Z
SUMMARY:Rosenkranzgebet
DESCRIPTION:https://pfarreien-bistum-augsburg.df-preview.de/rosenkranzgebet
 _id1735356
DTSTART;TZID=Europe/Berlin:20260424T170000
DURATION:PT30M
LOCATION:Mariä Geburt
END:VEVENT
BEGIN:VEVENT
UID:sabre-vobject-88c3a54c-c0fb-4788-8f96-1fd9c7d04167
DTSTAMP:20260423T040021Z
SUMMARY:Glaubensstammtisch im Gasthaus zur Post in Pöcking
DESCRIPTION:https://pfarreien-bistum-augsburg.df-preview.de/glaubensstammti
 sch-im-gasthaus-zur-post-in-poecking_id1735418
DTSTART;TZID=Europe/Berlin:20260424T190000
DURATION:PT30M
LOCATION:St. Pius
END:VEVENT
BEGIN:VEVENT
UID:sabre-vobject-a9baf575-f011-4419-b4d9-8229d0e5eed1
DTSTAMP:20260423T040021Z
SUMMARY:Hl. Messe
DESCRIPTION:https://pfarreien-bistum-augsburg.df-preview.de/hl-messe_id1754
 099
DTSTART;TZID=Europe/Berlin:20260425T180000
DURATION:PT30M
LOCATION:St. Pius
END:VEVENT
BEGIN:VEVENT
UID:sabre-vobject-814c1641-41a2-43aa-aada-036d9ca0ce36
DTSTAMP:20260423T040021Z
SUMMARY:Hl. Messe
DESCRIPTION:https://pfarreien-bistum-augsburg.df-preview.de/hl-messe_id1754
 007
DTSTART;TZID=Europe/Berlin:20260426T101500
DURATION:PT30M
LOCATION:Mariä Geburt
END:VEVENT
BEGIN:VEVENT
UID:sabre-vobject-b024233b-1a02-4f0f-b203-cffd703701ff
DTSTAMP:20260423T040021Z
SUMMARY:Hl. Messe mit Feier der Erstkommunion
DESCRIPTION:https://pfarreien-bistum-augsburg.df-preview.de/hl-messe-mit-fe
 ier-der-erstkommunion_id1754044
DTSTART;TZID=Europe/Berlin:20260426T113000
DURATION:PT30M
LOCATION:Heilig Kreuz
END:VEVENT
BEGIN:VEVENT
UID:sabre-vobject-a2236635-7ee4-4056-a266-2cd569aeae28
DTSTAMP:20260423T040021Z
SUMMARY:Dankandacht
DESCRIPTION:https://pfarreien-bistum-augsburg.df-preview.de/dankandacht_id1
 754062
DTSTART;TZID=Europe/Berlin:20260426T170000
DURATION:PT30M
LOCATION:Heilig Kreuz
END:VEVENT
BEGIN:VEVENT
UID:sabre-vobject-2cb420b8-7e5c-4fb8-a6f6-426074b1d406
DTSTAMP:20260423T040021Z
SUMMARY:Rosenkranzgebet
DESCRIPTION:https://pfarreien-bistum-augsburg.df-preview.de/rosenkranzgebet
 _id1755622
DTSTART;TZID=Europe/Berlin:20260427T173000
DURATION:PT30M
LOCATION:St. Pius
END:VEVENT
BEGIN:VEVENT
UID:sabre-vobject-6ab8e39d-3c3c-4820-8fa9-7887dec569a1
DTSTAMP:20260423T040021Z
SUMMARY:Hl. Messe
DESCRIPTION:https://pfarreien-bistum-augsburg.df-preview.de/hl-messe_id1755
 623
DTSTART;TZID=Europe/Berlin:20260427T180000
DURATION:PT30M
LOCATION:St. Pius
END:VEVENT
BEGIN:VEVENT
UID:sabre-vobject-67b21bb8-c97c-4547-a938-9ed06dd5b3e8
DTSTAMP:20260423T040021Z
SUMMARY:Eucharistische Anbetung
DESCRIPTION:https://pfarreien-bistum-augsburg.df-preview.de/eucharistische-
 anbetung_id1755624
DTSTART;TZID=Europe/Berlin:20260427T183000
DURATION:PT30M
LOCATION:St. Pius
END:VEVENT
BEGIN:VEVENT
UID:sabre-vobject-47e7ee70-ba65-4eac-b78b-048bdf49bf5a
DTSTAMP:20260423T040021Z
SUMMARY:Rosenkranzgebet
DESCRIPTION:https://pfarreien-bistum-augsburg.df-preview.de/rosenkranzgebet
 _id1755613
DTSTART;TZID=Europe/Berlin:20260428T160000
DURATION:PT30M
LOCATION:Heilig Kreuz
END:VEVENT
BEGIN:VEVENT
UID:sabre-vobject-84c73e12-520c-4659-a0c6-d95d004ebff9
DTSTAMP:20260423T040021Z
SUMMARY:Hl. Messe
DESCRIPTION:https://pfarreien-bistum-augsburg.df-preview.de/hl-messe_id1755
 614
DTSTART;TZID=Europe/Berlin:20260428T163000
DURATION:PT30M
LOCATION:Heilig Kreuz
END:VEVENT
BEGIN:VEVENT
UID:sabre-vobject-5582d70a-dead-4836-ac61-0147aef2fea3
DTSTAMP:20260423T040021Z
SUMMARY:Hl. Messe
DESCRIPTION:https://pfarreien-bistum-augsburg.df-preview.de/hl-messe_id1755
 664
DTSTART;TZID=Europe/Berlin:20260429T090000
DURATION:PT30M
LOCATION:Mariä Geburt
END:VEVENT
BEGIN:VEVENT
UID:sabre-vobject-a93f0f5f-b623-4c7e-a869-2389eff1fa38
DTSTAMP:20260423T040021Z
SUMMARY:Hl. Messe (Maising)
DESCRIPTION:https://pfarreien-bistum-augsburg.df-preview.de/hl-messe-maisin
 g_id1755625
DTSTART;TZID=Europe/Berlin:20260430T190000
DURATION:PT30M
LOCATION:St. Pius
END:VEVENT
BEGIN:VEVENT
UID:sabre-vobject-9d8366b5-44cf-440f-8d1b-d4e530f92af7
DTSTAMP:20260423T040021Z
SUMMARY:Maiandacht
DESCRIPTION:https://pfarreien-bistum-augsburg.df-preview.de/maiandacht_id17
 55469
DTSTART;TZID=Europe/Berlin:20260501T190000
DURATION:PT30M
LOCATION:Mariä Geburt
END:VEVENT
BEGIN:VEVENT
UID:sabre-vobject-8eb9a7df-bf6f-4485-8c50-72b6f3e22459
DTSTAMP:20260423T040021Z
SUMMARY:Erstkommunion
DESCRIPTION:https://pfarreien-bistum-augsburg.df-preview.de/erstkommunion_i
 d1755474
DTSTART;TZID=Europe/Berlin:20260502T100000
DURATION:PT30M
LOCATION:Mariä Geburt
END:VEVENT
BEGIN:VEVENT
UID:sabre-vobject-e0736408-a493-41b9-93e7-6b5421be659b
DTSTAMP:20260423T040021Z
SUMMARY:Dankandacht
DESCRIPTION:https://pfarreien-bistum-augsburg.df-preview.de/dankandacht_id1
 755475
DTSTART;TZID=Europe/Berlin:20260502T170000
DURATION:PT30M
LOCATION:Mariä Geburt
END:VEVENT
BEGIN:VEVENT
UID:sabre-vobject-ae31f0e0-bbac-4957-a20f-f4890c2a0793
DTSTAMP:20260423T040021Z
SUMMARY:Hl. Messe
DESCRIPTION:https://pfarreien-bistum-augsburg.df-preview.de/hl-messe_id1754
 995
DTSTART;TZID=Europe/Berlin:20260502T180000
DURATION:PT30M
LOCATION:St. Pius
END:VEVENT
BEGIN:VEVENT
UID:sabre-vobject-c98c8066-dd70-428f-8752-bb60eeb98b37
DTSTAMP:20260423T040021Z
SUMMARY:Hl. Messe
DESCRIPTION:https://pfarreien-bistum-augsburg.df-preview.de/hl-messe_id1755
 615
DTSTART;TZID=Europe/Berlin:20260503T090000
DURATION:PT30M
LOCATION:Heilig Kreuz
END:VEVENT
BEGIN:VEVENT
UID:sabre-vobject-086dc74e-d936-4d02-b0af-5e620b90aa1e
DTSTAMP:20260423T040021Z
SUMMARY:Hl. Messe\; Floriansmesse\; musikalische Gestaltung: Maisingers
DESCRIPTION:https://pfarreien-bistum-augsburg.df-preview.de/hl-messe-floria
 nsmesse-musikalische-gestaltung-maisingers_id1755476
DTSTART;TZID=Europe/Berlin:20260503T101500
DURATION:PT30M
LOCATION:Mariä Geburt
END:VEVENT
BEGIN:VEVENT
UID:sabre-vobject-9031f51b-fa2f-4fba-bd45-728797144a1f
DTSTAMP:20260423T040021Z
SUMMARY:Maiandacht
DESCRIPTION:https://pfarreien-bistum-augsburg.df-preview.de/maiandacht_id17
 55616
DTSTART;TZID=Europe/Berlin:20260503T190000
DURATION:PT30M
LOCATION:Heilig Kreuz
END:VEVENT
BEGIN:VEVENT
UID:sabre-vobject-81a8e96a-978e-4e9e-ab1b-b95bc11bdb63
DTSTAMP:20260423T040021Z
SUMMARY:Rosenkranzgebet
DESCRIPTION:https://pfarreien-bistum-augsburg.df-preview.de/rosenkranzgebet
 _id1755626
DTSTART;TZID=Europe/Berlin:20260504T173000
DURATION:PT30M
LOCATION:St. Pius
END:VEVENT
BEGIN:VEVENT
UID:sabre-vobject-73862ff8-5eeb-4b67-b754-f5dd7204b12f
DTSTAMP:20260423T040021Z
SUMMARY:Hl. Messe
DESCRIPTION:https://pfarreien-bistum-augsburg.df-preview.de/hl-messe_id1755
 627
DTSTART;TZID=Europe/Berlin:20260504T180000
DURATION:PT30M
LOCATION:St. Pius
END:VEVENT
BEGIN:VEVENT
UID:sabre-vobject-f6ba7f31-e00e-4b3c-813d-eb17c256ff4f
DTSTAMP:20260423T040021Z
SUMMARY:Rosenkranzgebet
DESCRIPTION:https://pfarreien-bistum-augsburg.df-preview.de/rosenkranzgebet
 _id1755617
DTSTART;TZID=Europe/Berlin:20260505T160000
DURATION:PT30M
LOCATION:Heilig Kreuz
END:VEVENT
BEGIN:VEVENT
UID:sabre-vobject-28decc8f-eb26-4b6f-983e-00ba6f0c236c
DTSTAMP:20260423T040021Z
SUMMARY:Hl. Messe
DESCRIPTION:https://pfarreien-bistum-augsburg.df-preview.de/hl-messe_id1755
 618
DTSTART;TZID=Europe/Berlin:20260505T163000
DURATION:PT30M
LOCATION:Heilig Kreuz
END:VEVENT
BEGIN:VEVENT
UID:sabre-vobject-b26a2d48-63f1-4cd3-9cbb-a5fc6f36d386
DTSTAMP:20260423T040021Z
SUMMARY:Hl. Messe
DESCRIPTION:https://pfarreien-bistum-augsburg.df-preview.de/hl-messe_id1755
 477
DTSTART;TZID=Europe/Berlin:20260506T090000
DURATION:PT30M
LOCATION:Mariä Geburt
END:VEVENT
BEGIN:VEVENT
UID:sabre-vobject-36598c32-bf04-4dd5-bd72-46cb85d567d1
DTSTAMP:20260423T040021Z
SUMMARY:Hl. Messe (Aschering)
DESCRIPTION:https://pfarreien-bistum-augsburg.df-preview.de/hl-messe-ascher
 ing_id1755628
DTSTART;TZID=Europe/Berlin:20260507T190000
DURATION:PT30M
LOCATION:St. Pius
END:VEVENT
BEGIN:VEVENT
UID:sabre-vobject-5c40f11f-2c1b-418d-b86a-c97a5730c4e8
DTSTAMP:20260423T040021Z
SUMMARY:Rosenkranzgebet
DESCRIPTION:https://pfarreien-bistum-augsburg.df-preview.de/rosenkranzgebet
 _id1755478
DTSTART;TZID=Europe/Berlin:20260508T170000
DURATION:PT30M
LOCATION:Mariä Geburt
END:VEVENT
BEGIN:VEVENT
UID:sabre-vobject-5e1bf599-bb62-47a8-a0a4-13955e9307b2
DTSTAMP:20260423T040021Z
SUMMARY:Floriansmesse (Maising)
DESCRIPTION:https://pfarreien-bistum-augsburg.df-preview.de/floriansmesse-m
 aising_id1755619
DTSTART;TZID=Europe/Berlin:20260509T170000
DURATION:PT30M
LOCATION:St. Pius
END:VEVENT
BEGIN:VEVENT
UID:sabre-vobject-60c5beb6-d42d-4bfb-b680-52c6d7fb8c6b
DTSTAMP:20260423T040021Z
SUMMARY:Hl. Messe\, Musik: Red Owl Singers
DESCRIPTION:https://pfarreien-bistum-augsburg.df-preview.de/hl-messe-musik-
 red-owl-singers_id1755621
DTSTART;TZID=Europe/Berlin:20260509T180000
DURATION:PT30M
LOCATION:St. Pius
END:VEVENT
BEGIN:VEVENT
UID:sabre-vobject-8f818278-8650-4d00-85d0-4b8dfe9bc465
DTSTAMP:20260423T040021Z
SUMMARY:Hl. Messe
DESCRIPTION:https://pfarreien-bistum-augsburg.df-preview.de/hl-messe_id1755
 620
DTSTART;TZID=Europe/Berlin:20260510T090000
DURATION:PT30M
LOCATION:Heilig Kreuz
END:VEVENT
BEGIN:VEVENT
UID:sabre-vobject-d80a4020-ab4a-4d86-b3fd-43a6e70986ec
DTSTAMP:20260423T040021Z
SUMMARY:Hl. Messe
DESCRIPTION:https://pfarreien-bistum-augsburg.df-preview.de/hl-messe_id1755
 479
DTSTART;TZID=Europe/Berlin:20260510T101500
DURATION:PT30M
LOCATION:Mariä Geburt
END:VEVENT
BEGIN:VEVENT
UID:sabre-vobject-9f2f4b4e-ecff-4523-b05f-d74f9cdd0288
DTSTAMP:20260423T040021Z
SUMMARY:Maiandacht (Gut Deixlfurt)\, Musik: Gitti Vockinger
DESCRIPTION:https://pfarreien-bistum-augsburg.df-preview.de/maiandacht-gut-
 deixlfurt-musik-gitti-vockinger_id1755480
DTSTART;TZID=Europe/Berlin:20260510T190000
DURATION:PT30M
LOCATION:Mariä Geburt
END:VEVENT
END:VCALENDAR
