BEGIN:VCALENDAR
VERSION:2.0
PRODID:-//Sabre//Sabre VObject 4.5.8//EN
CALSCALE:GREGORIAN
NAME:Bistum Augsburg
X-WR-CALNAME:Bistum Augsburg
BEGIN:VEVENT
UID:sabre-vobject-3f91128c-b3b3-4197-bb6b-4c71531425bd
DTSTAMP:20260420T090952Z
SUMMARY:Erstkommunionprobe
DESCRIPTION:https://pfarreien-bistum-augsburg.df-preview.de/erstkommunionpr
 obe_id1739471
DTSTART;TZID=Europe/Berlin:20260421T160000
DURATION:PT30M
LOCATION:St. Gabriel\, Neudeker Weg 1\, 86391 Stadtbergen-Deuringen
END:VEVENT
BEGIN:VEVENT
UID:sabre-vobject-173809f7-424d-4263-8078-fc21019bd8ff
DTSTAMP:20260420T090953Z
SUMMARY:Erstkommunionprobe
DESCRIPTION:https://pfarreien-bistum-augsburg.df-preview.de/erstkommunionpr
 obe_id1739504
DTSTART;TZID=Europe/Berlin:20260423T160000
DURATION:PT30M
LOCATION:St. Gabriel\, Neudeker Weg 1\, 86391 Stadtbergen-Deuringen
END:VEVENT
BEGIN:VEVENT
UID:sabre-vobject-fce93e0c-b7ad-42e3-894f-7c8672ecb2bb
DTSTAMP:20260420T090953Z
SUMMARY:Feier der Erstkommunion\, musik. gestaltet von der Musikgruppe "ton
 art"
DESCRIPTION:https://pfarreien-bistum-augsburg.df-preview.de/feier-der-erstk
 ommunion-musik-gestaltet-von-der-musikgruppe-tonart_id1739474
DTSTART;TZID=Europe/Berlin:20260425T104500
DURATION:PT30M
LOCATION:St. Gabriel\, Neudeker Weg 1\, 86391 Stadtbergen-Deuringen
END:VEVENT
BEGIN:VEVENT
UID:sabre-vobject-09abe785-0a86-457e-b638-8548bec5966e
DTSTAMP:20260420T090953Z
SUMMARY:Hl. Messe
DESCRIPTION:https://pfarreien-bistum-augsburg.df-preview.de/hl-messe_id1738
 133
DTSTART;TZID=Europe/Berlin:20260503T091500
DURATION:PT30M
LOCATION:St. Gabriel\, Neudeker Weg 1\, 86391 Stadtbergen-Deuringen
END:VEVENT
BEGIN:VEVENT
UID:sabre-vobject-dd697a59-2541-4148-b491-59c72e25e9fd
DTSTAMP:20260420T090953Z
SUMMARY:Hl. Messe
DESCRIPTION:https://pfarreien-bistum-augsburg.df-preview.de/hl-messe_id1738
 140
DTSTART;TZID=Europe/Berlin:20260507T183000
DURATION:PT30M
LOCATION:St. Gabriel\, Neudeker Weg 1\, 86391 Stadtbergen-Deuringen
END:VEVENT
END:VCALENDAR
