BEGIN:VCALENDAR
VERSION:2.0
PRODID:-//Sabre//Sabre VObject 4.5.8//EN
CALSCALE:GREGORIAN
NAME:Bistum Augsburg
X-WR-CALNAME:Bistum Augsburg
BEGIN:VEVENT
UID:sabre-vobject-3611899a-c0c7-49ac-b64d-0094fedc2d41
DTSTAMP:20260421T005724Z
SUMMARY:Heilige Messe
DESCRIPTION:https://pfarreien-bistum-augsburg.df-preview.de/heilige-messe_i
 d1741043
DTSTART;TZID=Europe/Berlin:20260421T083000
DURATION:PT30M
LOCATION:Maria\, Königin der Apostel\, Marienplatz 4\, 87448 Waltenhofen
END:VEVENT
BEGIN:VEVENT
UID:sabre-vobject-1e9d1626-7f4e-45bd-87c3-c33ee8c04de3
DTSTAMP:20260421T005724Z
SUMMARY:Heilige Messe in Rauns
DESCRIPTION:https://pfarreien-bistum-augsburg.df-preview.de/heilige-messe-i
 n-rauns_id1741265
DTSTART;TZID=Europe/Berlin:20260421T190000
DURATION:PT30M
LOCATION:St. Martin
END:VEVENT
BEGIN:VEVENT
UID:sabre-vobject-a65684ab-4332-40de-9e46-d34a5d338164
DTSTAMP:20260421T005724Z
SUMMARY:Rosenkranz
DESCRIPTION:https://pfarreien-bistum-augsburg.df-preview.de/rosenkranz_id17
 41266
DTSTART;TZID=Europe/Berlin:20260423T165500
DURATION:PT30M
LOCATION:St. Martin
END:VEVENT
BEGIN:VEVENT
UID:sabre-vobject-6fdf8964-0d27-48c6-bcce-3a33ee2388bc
DTSTAMP:20260421T005724Z
SUMMARY:Heilige Messe
DESCRIPTION:https://pfarreien-bistum-augsburg.df-preview.de/heilige-messe_i
 d1741062
DTSTART;TZID=Europe/Berlin:20260423T173000
DURATION:PT30M
LOCATION:St. Martin
END:VEVENT
BEGIN:VEVENT
UID:sabre-vobject-a848f556-e1ae-4d70-bb7b-5d2dd0fe896a
DTSTAMP:20260421T005724Z
SUMMARY:Rosenkranz
DESCRIPTION:https://pfarreien-bistum-augsburg.df-preview.de/rosenkranz_id17
 41099
DTSTART;TZID=Europe/Berlin:20260423T183000
DURATION:PT30M
LOCATION:St. Martin
END:VEVENT
BEGIN:VEVENT
UID:sabre-vobject-c83c5355-b728-4842-a6bb-33a5c0affed5
DTSTAMP:20260421T005724Z
SUMMARY:Heilige Messe in Oberdorf
DESCRIPTION:https://pfarreien-bistum-augsburg.df-preview.de/heilige-messe-i
 n-oberdorf_id1741105
DTSTART;TZID=Europe/Berlin:20260423T190000
DURATION:PT30M
LOCATION:St. Martin
END:VEVENT
BEGIN:VEVENT
UID:sabre-vobject-8eeaae17-19e0-408c-9665-2fcb0c904185
DTSTAMP:20260421T005724Z
SUMMARY:Heilige Messe
DESCRIPTION:https://pfarreien-bistum-augsburg.df-preview.de/heilige-messe_i
 d1741267
DTSTART;TZID=Europe/Berlin:20260424T083000
DURATION:PT30M
LOCATION:St. Alexander und Georg\, Sonnenstraße 8\, 87448 Niedersonthofen
END:VEVENT
BEGIN:VEVENT
UID:sabre-vobject-7ca42134-c7f3-469d-a2b6-7cf4ff91d474
DTSTAMP:20260421T005724Z
SUMMARY:Rosenkranz
DESCRIPTION:https://pfarreien-bistum-augsburg.df-preview.de/rosenkranz_id17
 41106
DTSTART;TZID=Europe/Berlin:20260424T153000
DURATION:PT30M
LOCATION:St. Martin
END:VEVENT
BEGIN:VEVENT
UID:sabre-vobject-cdc89090-3d0b-456a-a9e5-ab8d63c65004
DTSTAMP:20260421T005724Z
SUMMARY:Heilige Messe
DESCRIPTION:https://pfarreien-bistum-augsburg.df-preview.de/heilige-messe_i
 d1741107
DTSTART;TZID=Europe/Berlin:20260424T160000
DURATION:PT30M
LOCATION:St. Martin
END:VEVENT
BEGIN:VEVENT
UID:sabre-vobject-0dbcfce6-4d6d-4428-b5bc-853449c0f793
DTSTAMP:20260421T005724Z
SUMMARY:Kleidersammlung Aktion Hoffnung\; Abgabe bis 10 Uhr am alten Kinder
 garten
DESCRIPTION:https://pfarreien-bistum-augsburg.df-preview.de/kleidersammlung
 -aktion-hoffnung-abgabe-bis-10-uhr-am-alten-kindergarten_id1741096
DTSTART;TZID=Europe/Berlin:20260425T000000
DURATION:PT30M
LOCATION:Maria\, Königin der Apostel\, Marienplatz 4\, 87448 Waltenhofen
END:VEVENT
BEGIN:VEVENT
UID:sabre-vobject-c60a03f4-82e4-4109-b6b5-536a53711f53
DTSTAMP:20260421T005724Z
SUMMARY:bis 10:30 Uhr Abgabetermin Kleidersammlung Aktion Hoffnung im Pfarr
 heim
DESCRIPTION:https://pfarreien-bistum-augsburg.df-preview.de/bis-10-30-uhr-a
 bgabetermin-kleidersammlung-aktion-hoffnung-im-pfarrheim_id1741104
DTSTART;TZID=Europe/Berlin:20260425T083000
DURATION:PT30M
LOCATION:St. Martin
END:VEVENT
BEGIN:VEVENT
UID:sabre-vobject-6c1f625f-7161-4dd0-b4f7-d6de6cbbd7a5
DTSTAMP:20260421T005724Z
SUMMARY:Stellprobe Erstkommunion
DESCRIPTION:https://pfarreien-bistum-augsburg.df-preview.de/stellprobe-erst
 kommunion_id1741215
DTSTART;TZID=Europe/Berlin:20260425T100000
DURATION:PT30M
LOCATION:St. Martin
END:VEVENT
BEGIN:VEVENT
UID:sabre-vobject-8bf1c0c7-4523-4cca-b20e-f458c2fceaf5
DTSTAMP:20260421T005724Z
SUMMARY:Taufe in Martinszell
DESCRIPTION:https://pfarreien-bistum-augsburg.df-preview.de/taufe-in-martin
 szell_id1741084
DTSTART;TZID=Europe/Berlin:20260425T140000
DURATION:PT30M
LOCATION:St. Martin
END:VEVENT
BEGIN:VEVENT
UID:sabre-vobject-0cc3715a-dcd3-4e14-8d2e-33f6e5ee8969
DTSTAMP:20260421T005724Z
SUMMARY:Taufe in Martinszell
DESCRIPTION:https://pfarreien-bistum-augsburg.df-preview.de/taufe-in-martin
 szell_id1741108
DTSTART;TZID=Europe/Berlin:20260425T150000
DURATION:PT30M
LOCATION:St. Martin
END:VEVENT
BEGIN:VEVENT
UID:sabre-vobject-da93db8e-74ff-47a8-8b86-42afa057fc45
DTSTAMP:20260421T005725Z
SUMMARY:Rosenkranz
DESCRIPTION:https://pfarreien-bistum-augsburg.df-preview.de/rosenkranz_id17
 41268
DTSTART;TZID=Europe/Berlin:20260426T083000
DURATION:PT30M
LOCATION:St. Alexander und Georg\, Sonnenstraße 8\, 87448 Niedersonthofen
END:VEVENT
BEGIN:VEVENT
UID:sabre-vobject-24966a87-f887-4c93-89ec-de4de307887a
DTSTAMP:20260421T005725Z
SUMMARY:Heilige Messe
DESCRIPTION:https://pfarreien-bistum-augsburg.df-preview.de/heilige-messe_i
 d1741250
DTSTART;TZID=Europe/Berlin:20260426T090000
DURATION:PT30M
LOCATION:St. Martin
END:VEVENT
BEGIN:VEVENT
UID:sabre-vobject-53336a64-f3a1-43fb-8de4-e77cada6969c
DTSTAMP:20260421T005725Z
SUMMARY:Heilige Messe
DESCRIPTION:https://pfarreien-bistum-augsburg.df-preview.de/heilige-messe_i
 d1741264
DTSTART;TZID=Europe/Berlin:20260426T090000
DURATION:PT30M
LOCATION:St. Alexander und Georg\, Sonnenstraße 8\, 87448 Niedersonthofen
END:VEVENT
BEGIN:VEVENT
UID:sabre-vobject-0533ae0b-f4b5-47b8-ba5f-b5f3ccf71cc9
DTSTAMP:20260421T005725Z
SUMMARY:Heilige Messe mit Erstkommunion mitgestaltet von der Gruppe Rücken
 wind
DESCRIPTION:https://pfarreien-bistum-augsburg.df-preview.de/heilige-messe-m
 it-erstkommunion-mitgestaltet-von-der-gruppe-rueckenwind_id1741098
DTSTART;TZID=Europe/Berlin:20260426T103000
DURATION:PT30M
LOCATION:Maria\, Königin der Apostel\, Marienplatz 4\, 87448 Waltenhofen
END:VEVENT
BEGIN:VEVENT
UID:sabre-vobject-3ec1df3c-f3a6-4fd7-94b7-17308343e6b5
DTSTAMP:20260421T005725Z
SUMMARY:Heilige Messe mit Erstkommunion mitgestaltet v. d. Gruppe Aufwind
DESCRIPTION:https://pfarreien-bistum-augsburg.df-preview.de/heilige-messe-m
 it-erstkommunion-mitgestaltet-v-d-gruppe-aufwind_id1741109
DTSTART;TZID=Europe/Berlin:20260426T103000
DURATION:PT30M
LOCATION:St. Martin
END:VEVENT
BEGIN:VEVENT
UID:sabre-vobject-c5d0e2f0-b87f-4a00-b60d-87f0304342d7
DTSTAMP:20260421T005725Z
SUMMARY:Heilige Messe anschl. Fahrer- und Fahrzeugsegnung
DESCRIPTION:https://pfarreien-bistum-augsburg.df-preview.de/heilige-messe-a
 nschl-fahrer-und-fahrzeugsegnung_id1741110
DTSTART;TZID=Europe/Berlin:20260426T103000
DURATION:PT30M
LOCATION:St. Andreas\, Memhölz 30\, 87448 Memhölz
END:VEVENT
END:VCALENDAR
