BEGIN:VCALENDAR
VERSION:2.0
PRODID:-//Sabre//Sabre VObject 4.5.8//EN
CALSCALE:GREGORIAN
NAME:Bistum Augsburg
X-WR-CALNAME:Bistum Augsburg
BEGIN:VEVENT
UID:sabre-vobject-aad18318-1ba5-46e9-9925-f5b7672b3142
DTSTAMP:20260424T061200Z
SUMMARY:Erste feierliche Maiandacht m.d. Erstkommunionkindern
DESCRIPTION:https://pfarreien-bistum-augsburg.df-preview.de/erste-feierlich
 e-maiandacht-m-d-erstkommunionkindern_id1735208
DTSTART;TZID=Europe/Berlin:20260501T183000
DURATION:PT30M
LOCATION:St. Johannes Baptist\, Kühbacher Strasse 8\, 86556 Großhausen 
END:VEVENT
BEGIN:VEVENT
UID:sabre-vobject-35c22048-1f90-4485-a83e-c2cb86eeea0f
DTSTAMP:20260424T061200Z
SUMMARY:Heilige Messe
DESCRIPTION:https://pfarreien-bistum-augsburg.df-preview.de/heilige-messe_i
 d1735209
DTSTART;TZID=Europe/Berlin:20260502T180000
DURATION:PT30M
LOCATION:St. Johannes Baptist\, Kühbacher Strasse 8\, 86556 Großhausen 
END:VEVENT
END:VCALENDAR
