BEGIN:VCALENDAR
VERSION:2.0
PRODID:-//Sabre//Sabre VObject 4.5.8//EN
CALSCALE:GREGORIAN
NAME:Bistum Augsburg
X-WR-CALNAME:Bistum Augsburg
BEGIN:VEVENT
UID:sabre-vobject-95384488-7863-4fc7-b9f8-483b7dadaefb
DTSTAMP:20260424T134636Z
SUMMARY:Heilige Messe mit Gedenken für:
DESCRIPTION:https://pfarreien-bistum-augsburg.df-preview.de/heilige-messe-m
 it-gedenken-fuer_id1739033
DTSTART;TZID=Europe/Berlin:20260424T173000
DURATION:PT30M
LOCATION:St. Martin
END:VEVENT
BEGIN:VEVENT
UID:sabre-vobject-275df71f-a9d5-4c09-bee4-e50d3da514c2
DTSTAMP:20260424T134636Z
SUMMARY:fire-Abend
DESCRIPTION:https://pfarreien-bistum-augsburg.df-preview.de/fire-abend_id17
 39036
DTSTART;TZID=Europe/Berlin:20260424T193000
DURATION:PT30M
LOCATION:St. Martin
END:VEVENT
BEGIN:VEVENT
UID:sabre-vobject-94da044f-ee1a-448b-bd78-6494eb4b5391
DTSTAMP:20260424T134636Z
SUMMARY:Feier der Erstkommunion
DESCRIPTION:https://pfarreien-bistum-augsburg.df-preview.de/feier-der-erstk
 ommunion_id1753825
DTSTART;TZID=Europe/Berlin:20260425T133000
DURATION:PT30M
LOCATION:St. Martin
END:VEVENT
BEGIN:VEVENT
UID:sabre-vobject-e9e208e3-e6b1-4747-9874-0761b016234d
DTSTAMP:20260424T134636Z
SUMMARY:Feier der Erstkommunion
DESCRIPTION:https://pfarreien-bistum-augsburg.df-preview.de/feier-der-erstk
 ommunion_id1753826
DTSTART;TZID=Europe/Berlin:20260426T100000
DURATION:PT30M
LOCATION:St. Martin
END:VEVENT
BEGIN:VEVENT
UID:sabre-vobject-7bf2a28e-6b76-49cf-8728-d545eec238c8
DTSTAMP:20260424T134636Z
SUMMARY:"Ökumenisches Friedensgebet am Mittag"
DESCRIPTION:https://pfarreien-bistum-augsburg.df-preview.de/oekumenisches-f
 riedensgebet-am-mittag_id1753854
DTSTART;TZID=Europe/Berlin:20260427T120000
DURATION:PT30M
LOCATION:St. Martin
END:VEVENT
BEGIN:VEVENT
UID:sabre-vobject-e4bf8722-98a9-4d67-a1aa-cd989ea6b621
DTSTAMP:20260424T134636Z
SUMMARY:Rosenkranz
DESCRIPTION:https://pfarreien-bistum-augsburg.df-preview.de/rosenkranz_id17
 53855
DTSTART;TZID=Europe/Berlin:20260428T175500
DURATION:PT30M
LOCATION:St. Martin
END:VEVENT
BEGIN:VEVENT
UID:sabre-vobject-8f6090b2-f15f-4df8-afc8-ab91150c7c8a
DTSTAMP:20260424T134636Z
SUMMARY:Heilige Messe mit Gedenken für:
DESCRIPTION:https://pfarreien-bistum-augsburg.df-preview.de/heilige-messe-m
 it-gedenken-fuer_id1753911
DTSTART;TZID=Europe/Berlin:20260428T183000
DURATION:PT30M
LOCATION:St. Martin
END:VEVENT
BEGIN:VEVENT
UID:sabre-vobject-52bed27c-e440-49ef-9f26-15071b72b74b
DTSTAMP:20260424T134636Z
SUMMARY:Rosenkranz
DESCRIPTION:https://pfarreien-bistum-augsburg.df-preview.de/rosenkranz_id17
 53912
DTSTART;TZID=Europe/Berlin:20260429T170000
DURATION:PT30M
LOCATION:St. Martin
END:VEVENT
BEGIN:VEVENT
UID:sabre-vobject-55243820-a4bd-4b25-a3ba-c425a14db117
DTSTAMP:20260424T134636Z
SUMMARY:Heilige Messe
DESCRIPTION:https://pfarreien-bistum-augsburg.df-preview.de/heilige-messe_i
 d1753931
DTSTART;TZID=Europe/Berlin:20260430T094500
DURATION:PT30M
LOCATION:St. Martin
END:VEVENT
BEGIN:VEVENT
UID:sabre-vobject-888ab0d5-a114-4e43-8cc6-0e4a3890f727
DTSTAMP:20260424T134636Z
SUMMARY:Bittgang
DESCRIPTION:https://pfarreien-bistum-augsburg.df-preview.de/bittgang_id1753
 932
DTSTART;TZID=Europe/Berlin:20260501T083000
DURATION:PT30M
LOCATION:St. Martin
END:VEVENT
BEGIN:VEVENT
UID:sabre-vobject-2bb5eab9-6ed7-45a4-b720-ffd2eb201b5e
DTSTAMP:20260424T134636Z
SUMMARY:Zentraler Gottesdienst der Pfarreiengemeinschaft mit Gedenken für:
DESCRIPTION:https://pfarreien-bistum-augsburg.df-preview.de/zentraler-gotte
 sdienst-der-pfarreiengemeinschaft-mit-gedenken-fuer_id1753933
DTSTART;TZID=Europe/Berlin:20260501T100000
DURATION:PT30M
LOCATION:St. Martin
END:VEVENT
BEGIN:VEVENT
UID:sabre-vobject-18761bd1-34d0-4adf-bffe-a68ee1eba366
DTSTAMP:20260424T134636Z
SUMMARY:fire-Abend
DESCRIPTION:https://pfarreien-bistum-augsburg.df-preview.de/fire-abend_id17
 54494
DTSTART;TZID=Europe/Berlin:20260501T193000
DURATION:PT30M
LOCATION:St. Martin
END:VEVENT
END:VCALENDAR
