BEGIN:VCALENDAR
VERSION:2.0
PRODID:-//Sabre//Sabre VObject 4.5.8//EN
CALSCALE:GREGORIAN
NAME:Bistum Augsburg
X-WR-CALNAME:Bistum Augsburg
BEGIN:VEVENT
UID:sabre-vobject-12d09637-3b49-43aa-a2d8-a5d673bf694b
DTSTAMP:20260422T024143Z
SUMMARY:VAM
DESCRIPTION:https://pfarreien-bistum-augsburg.df-preview.de/vam_id1745489
DTSTART;TZID=Europe/Berlin:20260425T180000
DURATION:PT30M
LOCATION:St. Laurentius
END:VEVENT
BEGIN:VEVENT
UID:sabre-vobject-87ae9dd8-0446-4321-8bc8-38976111533a
DTSTAMP:20260422T024143Z
SUMMARY:Maiandacht
DESCRIPTION:https://pfarreien-bistum-augsburg.df-preview.de/maiandacht_id17
 45490
DTSTART;TZID=Europe/Berlin:20260501T183000
DURATION:PT30M
LOCATION:St. Laurentius
END:VEVENT
BEGIN:VEVENT
UID:sabre-vobject-b7ac68e0-ec5f-4559-a7ff-a2ccdd93d4f1
DTSTAMP:20260422T024143Z
SUMMARY:VAM
DESCRIPTION:https://pfarreien-bistum-augsburg.df-preview.de/vam_id1745369
DTSTART;TZID=Europe/Berlin:20260502T191500
DURATION:PT30M
LOCATION:St. Laurentius
END:VEVENT
BEGIN:VEVENT
UID:sabre-vobject-2fa840fc-af33-42f8-8d9f-e4333454d6db
DTSTAMP:20260422T024143Z
SUMMARY:Hl.  Messe
DESCRIPTION:https://pfarreien-bistum-augsburg.df-preview.de/hl-messe_id1745
 370
DTSTART;TZID=Europe/Berlin:20260506T183000
DURATION:PT30M
LOCATION:St. Laurentius
END:VEVENT
BEGIN:VEVENT
UID:sabre-vobject-c5e80f2b-b5f9-428c-8fbf-2878f91bc09f
DTSTAMP:20260422T024143Z
SUMMARY:VAM
DESCRIPTION:https://pfarreien-bistum-augsburg.df-preview.de/vam_id1744780
DTSTART;TZID=Europe/Berlin:20260509T191500
DURATION:PT30M
LOCATION:St. Laurentius
END:VEVENT
BEGIN:VEVENT
UID:sabre-vobject-e6c704e7-20c6-4484-836d-2ca04cdf1436
DTSTAMP:20260422T024143Z
SUMMARY:RK
DESCRIPTION:https://pfarreien-bistum-augsburg.df-preview.de/rk_id1744781
DTSTART;TZID=Europe/Berlin:20260511T183000
DURATION:PT30M
LOCATION:St. Laurentius
END:VEVENT
BEGIN:VEVENT
UID:sabre-vobject-e70ba142-a8db-42f4-846c-9b6ca10ffda9
DTSTAMP:20260422T024143Z
SUMMARY:RK
DESCRIPTION:https://pfarreien-bistum-augsburg.df-preview.de/rk_id1744827
DTSTART;TZID=Europe/Berlin:20260512T183000
DURATION:PT30M
LOCATION:St. Laurentius
END:VEVENT
BEGIN:VEVENT
UID:sabre-vobject-23906f08-ad0e-4b34-9646-8a5bec90818e
DTSTAMP:20260422T024143Z
SUMMARY:VAM - Feldmesse am Ölbohrparkplatz
DESCRIPTION:https://pfarreien-bistum-augsburg.df-preview.de/vam-feldmesse-a
 m-oelbohrparkplatz_id1744821
DTSTART;TZID=Europe/Berlin:20260513T180000
DURATION:PT30M
LOCATION:St. Laurentius
END:VEVENT
END:VCALENDAR
