BEGIN:VCALENDAR
VERSION:2.0
PRODID:-//Sabre//Sabre VObject 4.5.8//EN
CALSCALE:GREGORIAN
NAME:Bistum Augsburg
X-WR-CALNAME:Bistum Augsburg
BEGIN:VEVENT
UID:sabre-vobject-a981adb1-3242-4f6d-b517-fdc83cd62e62
DTSTAMP:20260421T232625Z
SUMMARY:Kindergottesdienst
DESCRIPTION:https://pfarreien-bistum-augsburg.df-preview.de/kindergottesdie
 nst_id1729073
DTSTART;TZID=Europe/Berlin:20260422T170000
DURATION:PT30M
LOCATION:St. Michael
END:VEVENT
BEGIN:VEVENT
UID:sabre-vobject-510bdf0b-bf0e-47f2-b385-a3835647fa6c
DTSTAMP:20260421T232625Z
SUMMARY:Rosenkranz für den Frieden in der Welt
DESCRIPTION:https://pfarreien-bistum-augsburg.df-preview.de/rosenkranz-fuer
 -den-frieden-in-der-welt_id1729095
DTSTART;TZID=Europe/Berlin:20260423T183000
DURATION:PT30M
LOCATION:St. Michael
END:VEVENT
BEGIN:VEVENT
UID:sabre-vobject-b3d2f042-3abf-4bb9-9139-5122568e5db3
DTSTAMP:20260421T232625Z
SUMMARY:Heilige Messe
DESCRIPTION:https://pfarreien-bistum-augsburg.df-preview.de/heilige-messe_i
 d1729097
DTSTART;TZID=Europe/Berlin:20260423T190000
DURATION:PT30M
LOCATION:St. Michael
END:VEVENT
BEGIN:VEVENT
UID:sabre-vobject-29ef1d15-b7e2-4b60-8f59-7077fd1b16f2
DTSTAMP:20260421T232625Z
SUMMARY:Rosenkranz für den Frieden in der Welt
DESCRIPTION:https://pfarreien-bistum-augsburg.df-preview.de/rosenkranz-fuer
 -den-frieden-in-der-welt_id1745466
DTSTART;TZID=Europe/Berlin:20260425T183000
DURATION:PT30M
LOCATION:St. Michael
END:VEVENT
BEGIN:VEVENT
UID:sabre-vobject-c20cf12b-2efe-4acc-914c-fba28c7e27f3
DTSTAMP:20260421T232625Z
SUMMARY:Vorabendmesse
DESCRIPTION:https://pfarreien-bistum-augsburg.df-preview.de/vorabendmesse_i
 d1745468
DTSTART;TZID=Europe/Berlin:20260425T190000
DURATION:PT30M
LOCATION:St. Michael
END:VEVENT
BEGIN:VEVENT
UID:sabre-vobject-b1907461-dc8f-4552-8c0e-824c4a314d9c
DTSTAMP:20260421T232625Z
SUMMARY:Rosenkranz für den Frieden in der Welt
DESCRIPTION:https://pfarreien-bistum-augsburg.df-preview.de/rosenkranz-fuer
 -den-frieden-in-der-welt_id1745149
DTSTART;TZID=Europe/Berlin:20260430T183000
DURATION:PT30M
LOCATION:St. Michael
END:VEVENT
BEGIN:VEVENT
UID:sabre-vobject-125ba168-76df-4e60-a48c-6224a961d45d
DTSTAMP:20260421T232625Z
SUMMARY:Heilige Messe
DESCRIPTION:https://pfarreien-bistum-augsburg.df-preview.de/heilige-messe_i
 d1745150
DTSTART;TZID=Europe/Berlin:20260430T190000
DURATION:PT30M
LOCATION:St. Michael
END:VEVENT
BEGIN:VEVENT
UID:sabre-vobject-8f1bc0f1-aee3-47e6-abee-54994f434c99
DTSTAMP:20260421T232625Z
SUMMARY:Rosenkranz am Herz-Jesu-Freitag
DESCRIPTION:https://pfarreien-bistum-augsburg.df-preview.de/rosenkranz-am-h
 erz-jesu-freitag_id1745327
DTSTART;TZID=Europe/Berlin:20260501T173000
DURATION:PT30M
LOCATION:St. Michael
END:VEVENT
BEGIN:VEVENT
UID:sabre-vobject-9f6de7d0-3951-45eb-bd04-e1de9a14359e
DTSTAMP:20260421T232625Z
SUMMARY:Rosenkranz für den Frieden in der Welt
DESCRIPTION:https://pfarreien-bistum-augsburg.df-preview.de/rosenkranz-fuer
 -den-frieden-in-der-welt_id1745352
DTSTART;TZID=Europe/Berlin:20260503T094500
DURATION:PT30M
LOCATION:St. Michael
END:VEVENT
BEGIN:VEVENT
UID:sabre-vobject-93968725-0566-4c65-a48c-494eee3f1608
DTSTAMP:20260421T232625Z
SUMMARY:Heilige Messe
DESCRIPTION:https://pfarreien-bistum-augsburg.df-preview.de/heilige-messe_i
 d1745353
DTSTART;TZID=Europe/Berlin:20260503T101500
DURATION:PT30M
LOCATION:St. Michael
END:VEVENT
BEGIN:VEVENT
UID:sabre-vobject-e63c9d91-276c-4f27-a5ef-6eafe7e0284f
DTSTAMP:20260421T232625Z
SUMMARY:Maiandacht
DESCRIPTION:https://pfarreien-bistum-augsburg.df-preview.de/maiandacht_id17
 45351
DTSTART;TZID=Europe/Berlin:20260503T190000
DURATION:PT30M
LOCATION:St. Michael
END:VEVENT
END:VCALENDAR
