BEGIN:VCALENDAR
VERSION:2.0
PRODID:-//Sabre//Sabre VObject 4.5.8//EN
CALSCALE:GREGORIAN
NAME:Bistum Augsburg
X-WR-CALNAME:Bistum Augsburg
BEGIN:VEVENT
UID:sabre-vobject-51c16ad9-5043-4579-a3e2-2538059415ea
DTSTAMP:20260422T114414Z
SUMMARY:Hl. M.:
DESCRIPTION:https://pfarreien-bistum-augsburg.df-preview.de/hl-m_id1725421
DTSTART;TZID=Europe/Berlin:20260422T190000
DURATION:PT30M
LOCATION:St. Vitus
END:VEVENT
BEGIN:VEVENT
UID:sabre-vobject-9b9adaeb-d5de-4e89-a7e3-25221152452f
DTSTAMP:20260422T114414Z
SUMMARY:PfGD:
DESCRIPTION:https://pfarreien-bistum-augsburg.df-preview.de/pfgd_id1727830
DTSTART;TZID=Europe/Berlin:20260426T084500
DURATION:PT30M
LOCATION:St. Vitus
END:VEVENT
BEGIN:VEVENT
UID:sabre-vobject-36460746-4ae7-4a8b-9cc3-1ae4a195fc4b
DTSTAMP:20260422T114414Z
SUMMARY:Hl. M.:
DESCRIPTION:https://pfarreien-bistum-augsburg.df-preview.de/hl-m_id1727831
DTSTART;TZID=Europe/Berlin:20260429T190000
DURATION:PT30M
LOCATION:St. Vitus
END:VEVENT
BEGIN:VEVENT
UID:sabre-vobject-97356446-725b-4546-99e2-b81e41903216
DTSTAMP:20260422T114414Z
SUMMARY:Hl. M.
DESCRIPTION:https://pfarreien-bistum-augsburg.df-preview.de/hl-m_id1727832
DTSTART;TZID=Europe/Berlin:20260501T090000
DURATION:PT30M
LOCATION:St. Vitus
END:VEVENT
BEGIN:VEVENT
UID:sabre-vobject-92083a63-0058-45c0-af31-520ea1c77e93
DTSTAMP:20260422T114414Z
SUMMARY:Maiandacht
DESCRIPTION:https://pfarreien-bistum-augsburg.df-preview.de/maiandacht_id17
 27833
DTSTART;TZID=Europe/Berlin:20260501T190000
DURATION:PT30M
LOCATION:St. Vitus
END:VEVENT
BEGIN:VEVENT
UID:sabre-vobject-2730a6ba-c2c8-47c3-8d2d-82fe6292682a
DTSTAMP:20260422T114414Z
SUMMARY:PfGD:
DESCRIPTION:https://pfarreien-bistum-augsburg.df-preview.de/pfgd_id1738027
DTSTART;TZID=Europe/Berlin:20260503T084500
DURATION:PT30M
LOCATION:St. Vitus
END:VEVENT
BEGIN:VEVENT
UID:sabre-vobject-156a26a1-0b46-43dc-a2a4-7b43e48adcf4
DTSTAMP:20260422T114414Z
SUMMARY:Maiandacht gestaltet vom Team "ANGEDACHT"
DESCRIPTION:https://pfarreien-bistum-augsburg.df-preview.de/maiandacht-gest
 altet-vom-team-angedacht_id1738028
DTSTART;TZID=Europe/Berlin:20260503T190000
DURATION:PT30M
LOCATION:St. Vitus
END:VEVENT
BEGIN:VEVENT
UID:sabre-vobject-fcb9578d-8170-4abd-953e-1bb47e276b06
DTSTAMP:20260422T114414Z
SUMMARY:Krankenkommunion
DESCRIPTION:https://pfarreien-bistum-augsburg.df-preview.de/krankenkommunio
 n_id1738029
DTSTART;TZID=Europe/Berlin:20260506T164500
DURATION:PT30M
LOCATION:St. Vitus
END:VEVENT
BEGIN:VEVENT
UID:sabre-vobject-e23be51f-fa79-4eab-a3fc-6d17c130c6e3
DTSTAMP:20260422T114414Z
SUMMARY:Hl. M.:
DESCRIPTION:https://pfarreien-bistum-augsburg.df-preview.de/hl-m_id1738030
DTSTART;TZID=Europe/Berlin:20260506T190000
DURATION:PT30M
LOCATION:St. Vitus
END:VEVENT
BEGIN:VEVENT
UID:sabre-vobject-0df64d66-86d3-4570-b48e-5a23dabbb12d
DTSTAMP:20260422T114415Z
SUMMARY:FamGD:
DESCRIPTION:https://pfarreien-bistum-augsburg.df-preview.de/famgd_id1749276
DTSTART;TZID=Europe/Berlin:20260510T100000
DURATION:PT30M
LOCATION:St. Vitus
END:VEVENT
BEGIN:VEVENT
UID:sabre-vobject-66247199-a8e8-4ece-b2b9-ce275fb94136
DTSTAMP:20260422T114415Z
SUMMARY:Tauffeier von Jakob Heider
DESCRIPTION:https://pfarreien-bistum-augsburg.df-preview.de/tauffeier-von-j
 akob-heider_id1749279
DTSTART;TZID=Europe/Berlin:20260510T143000
DURATION:PT30M
LOCATION:St. Vitus
END:VEVENT
BEGIN:VEVENT
UID:sabre-vobject-942b382c-d80e-473d-bdcd-cad92adcc0f6
DTSTAMP:20260422T114415Z
SUMMARY:Maiandacht gestaltet vom Männerkreis
DESCRIPTION:https://pfarreien-bistum-augsburg.df-preview.de/maiandacht-gest
 altet-vom-maennerkreis_id1749280
DTSTART;TZID=Europe/Berlin:20260510T190000
DURATION:PT30M
LOCATION:St. Vitus
END:VEVENT
BEGIN:VEVENT
UID:sabre-vobject-4347b005-e33c-4633-a942-499f787dd4a3
DTSTAMP:20260422T114415Z
SUMMARY:Start zum Bittgang von den Pfarrkirchen (mit dem Fahrrad in O)
DESCRIPTION:https://pfarreien-bistum-augsburg.df-preview.de/start-zum-bittg
 ang-von-den-pfarrkirchen-mit-dem-fahrrad-in-o_id1749281
DTSTART;TZID=Europe/Berlin:20260511T180000
DURATION:PT30M
LOCATION:St. Vitus
END:VEVENT
BEGIN:VEVENT
UID:sabre-vobject-b2d10108-c865-445c-a3b5-1aded614f6fd
DTSTAMP:20260422T114415Z
SUMMARY:Hl. M. am Stadel: um Frieden - mit Abordnung des Musikvereins Wehri
 ngen. Bei schlechtem Wetter (Glockenläuten) entfällt der Bittgang\, stat
 tdessen Messe in G und WGF in W jeweils um 18.00 Uhr
DESCRIPTION:https://pfarreien-bistum-augsburg.df-preview.de/hl-m-am-stadel-
 um-frieden-mit-abordnung-des-musikvereins-wehringen-bei-schlechtem-wetter-
 glockenlaeuten-entfaellt-der-bittgang-stattdessen-messe-in-g-und-wgf-in-w-
 jeweils-um-18-00-uhr_id1749282
DTSTART;TZID=Europe/Berlin:20260511T185000
DURATION:PT30M
LOCATION:St. Vitus
END:VEVENT
BEGIN:VEVENT
UID:sabre-vobject-ed2a16d3-2463-4d0e-91e3-c4d1f51f54b0
DTSTAMP:20260422T114415Z
SUMMARY:PfGD\; anschl. Flurumgang
DESCRIPTION:https://pfarreien-bistum-augsburg.df-preview.de/pfgd-anschl-flu
 rumgang_id1749277
DTSTART;TZID=Europe/Berlin:20260514T084500
DURATION:PT30M
LOCATION:St. Vitus
END:VEVENT
END:VCALENDAR
