BEGIN:VCALENDAR
VERSION:2.0
PRODID:-//Sabre//Sabre VObject 4.5.8//EN
CALSCALE:GREGORIAN
NAME:Bistum Augsburg
X-WR-CALNAME:Bistum Augsburg
BEGIN:VEVENT
UID:sabre-vobject-a7e7584c-e6c6-4912-80e2-bdd51640f63c
DTSTAMP:20260420T143259Z
SUMMARY:Andacht i.d. Nikolauskapelle
DESCRIPTION:https://pfarreien-bistum-augsburg.df-preview.de/andacht-i-d-nik
 olauskapelle_id1738704
DTSTART;TZID=Europe/Berlin:20260420T190000
DURATION:PT30M
LOCATION:St. Martin\, Dorfstraße 5\, 87547 Missen-Wilhams
END:VEVENT
BEGIN:VEVENT
UID:sabre-vobject-a9b4cc39-bb6f-4525-b049-8024c00090b5
DTSTAMP:20260420T143259Z
SUMMARY:konstituierende Sitzung d. PGR
DESCRIPTION:https://pfarreien-bistum-augsburg.df-preview.de/konstituierende
 -sitzung-d-pgr_id1738634
DTSTART;TZID=Europe/Berlin:20260421T100000
DURATION:PT30M
LOCATION:St. Otmar
END:VEVENT
BEGIN:VEVENT
UID:sabre-vobject-59786c10-e621-4944-913c-63ade20971c2
DTSTAMP:20260420T143259Z
SUMMARY:Hl. Messe
DESCRIPTION:https://pfarreien-bistum-augsburg.df-preview.de/hl-messe_id1738
 705
DTSTART;TZID=Europe/Berlin:20260421T190000
DURATION:PT30M
LOCATION:St. Martin\, Dorfstraße 5\, 87547 Missen-Wilhams
END:VEVENT
BEGIN:VEVENT
UID:sabre-vobject-8f364b23-2381-483b-bccb-514d20a66ca8
DTSTAMP:20260420T143259Z
SUMMARY:Steiner Dorftreff Ü66 m. Mundartautor Helmut Rothmayr\, hierzu sin
 d auch die Ruheständler aus Eckarts herzlich eingeladen
DESCRIPTION:https://pfarreien-bistum-augsburg.df-preview.de/steiner-dorftre
 ff-ue66-m-mundartautor-helmut-rothmayr-hierzu-sind-auch-die-ruhestaendler-
 aus-eckarts-herzlich-eingeladen_id1738677
DTSTART;TZID=Europe/Berlin:20260422T140000
DURATION:PT30M
LOCATION:St. Mauritius
END:VEVENT
BEGIN:VEVENT
UID:sabre-vobject-7d354805-2e8c-457f-824d-17968ccf6e8a
DTSTAMP:20260420T143259Z
SUMMARY:Seniorennachmittag
DESCRIPTION:https://pfarreien-bistum-augsburg.df-preview.de/seniorennachmit
 tag_id1738708
DTSTART;TZID=Europe/Berlin:20260422T140000
DURATION:PT30M
LOCATION:St. Martin\, Dorfstraße 5\, 87547 Missen-Wilhams
END:VEVENT
BEGIN:VEVENT
UID:sabre-vobject-a55dfcba-f901-4011-ba14-79015f1bdb86
DTSTAMP:20260420T143259Z
SUMMARY:Hl. Messe
DESCRIPTION:https://pfarreien-bistum-augsburg.df-preview.de/hl-messe_id1738
 572
DTSTART;TZID=Europe/Berlin:20260422T190000
DURATION:PT30M
LOCATION:St. Mauritius
END:VEVENT
BEGIN:VEVENT
UID:sabre-vobject-c41de2df-15bd-4c8e-82e8-db09090e5ee5
DTSTAMP:20260420T143259Z
SUMMARY:konstituierende Sitzung d. PGR
DESCRIPTION:https://pfarreien-bistum-augsburg.df-preview.de/konstituierende
 -sitzung-d-pgr_id1738774
DTSTART;TZID=Europe/Berlin:20260422T200000
DURATION:PT30M
LOCATION:St. Oswald
END:VEVENT
BEGIN:VEVENT
UID:sabre-vobject-ac7e5983-7a63-416e-832b-d2f93f63cd29
DTSTAMP:20260420T143259Z
SUMMARY:Hl. Messe
DESCRIPTION:https://pfarreien-bistum-augsburg.df-preview.de/hl-messe_id1738
 750
DTSTART;TZID=Europe/Berlin:20260423T190000
DURATION:PT30M
LOCATION:St. Peter und Paul
END:VEVENT
BEGIN:VEVENT
UID:sabre-vobject-8c11930b-e1f2-4878-8fc2-0e70af229301
DTSTAMP:20260420T143259Z
SUMMARY:Rosenkranz
DESCRIPTION:https://pfarreien-bistum-augsburg.df-preview.de/rosenkranz_id17
 38751
DTSTART;TZID=Europe/Berlin:20260425T183000
DURATION:PT30M
LOCATION:St. Peter und Paul
END:VEVENT
BEGIN:VEVENT
UID:sabre-vobject-25e82263-c122-49f7-9397-1aaeffd43e66
DTSTAMP:20260420T143259Z
SUMMARY:Dankgottesdienst d. Erstkommunionkinder
DESCRIPTION:https://pfarreien-bistum-augsburg.df-preview.de/dankgottesdiens
 t-d-erstkommunionkinder_id1738573
DTSTART;TZID=Europe/Berlin:20260425T190000
DURATION:PT30M
LOCATION:St. Mauritius
END:VEVENT
BEGIN:VEVENT
UID:sabre-vobject-458996f3-4975-405d-8ccd-c363709baf20
DTSTAMP:20260420T143259Z
SUMMARY:Pfarrgottesdienst
DESCRIPTION:https://pfarreien-bistum-augsburg.df-preview.de/pfarrgottesdien
 st_id1738752
DTSTART;TZID=Europe/Berlin:20260425T190000
DURATION:PT30M
LOCATION:St. Peter und Paul
END:VEVENT
BEGIN:VEVENT
UID:sabre-vobject-6899b9a4-dcea-4a2e-bbf2-295aab905ded
DTSTAMP:20260420T143259Z
SUMMARY:Pfarrgottesdienst
DESCRIPTION:https://pfarreien-bistum-augsburg.df-preview.de/pfarrgottesdien
 st_id1738635
DTSTART;TZID=Europe/Berlin:20260426T090000
DURATION:PT30M
LOCATION:St. Otmar
END:VEVENT
BEGIN:VEVENT
UID:sabre-vobject-c75c6c2f-8a5b-4226-ab07-f0ef08df46dd
DTSTAMP:20260420T143259Z
SUMMARY:Pfarrgottesdienst
DESCRIPTION:https://pfarreien-bistum-augsburg.df-preview.de/pfarrgottesdien
 st_id1738687
DTSTART;TZID=Europe/Berlin:20260426T090000
DURATION:PT30M
LOCATION:St. Blasius
END:VEVENT
BEGIN:VEVENT
UID:sabre-vobject-d2de89b0-bee3-4027-96c1-b8147f0b1ba1
DTSTAMP:20260420T143259Z
SUMMARY:Pfarrgottesdienst
DESCRIPTION:https://pfarreien-bistum-augsburg.df-preview.de/pfarrgottesdien
 st_id1738747
DTSTART;TZID=Europe/Berlin:20260426T101500
DURATION:PT30M
LOCATION:St. Martin\, Dorfstraße 5\, 87547 Missen-Wilhams
END:VEVENT
BEGIN:VEVENT
UID:sabre-vobject-03b48bd4-a0bd-4e93-8866-7b1c48256c7e
DTSTAMP:20260420T143259Z
SUMMARY:Lebenst(t)räume -Glaubensräume im Pfarrheim
DESCRIPTION:https://pfarreien-bistum-augsburg.df-preview.de/lebenst-t-raeum
 e-glaubensraeume-im-pfarrheim_id1738580
DTSTART;TZID=Europe/Berlin:20260427T193000
DURATION:PT30M
LOCATION:St. Mauritius
END:VEVENT
BEGIN:VEVENT
UID:sabre-vobject-09112b18-3a24-436d-b2ff-3f097bb2458d
DTSTAMP:20260420T143259Z
SUMMARY:Hl. Messe
DESCRIPTION:https://pfarreien-bistum-augsburg.df-preview.de/hl-messe_id1738
 748
DTSTART;TZID=Europe/Berlin:20260428T190000
DURATION:PT30M
LOCATION:St. Martin\, Dorfstraße 5\, 87547 Missen-Wilhams
END:VEVENT
BEGIN:VEVENT
UID:sabre-vobject-44d10e66-35d4-420a-be4e-2f5ec9267d00
DTSTAMP:20260420T143259Z
SUMMARY:Hl. Messe
DESCRIPTION:https://pfarreien-bistum-augsburg.df-preview.de/hl-messe_id1738
 581
DTSTART;TZID=Europe/Berlin:20260429T190000
DURATION:PT30M
LOCATION:St. Mauritius
END:VEVENT
BEGIN:VEVENT
UID:sabre-vobject-43aeeee4-0f47-4d28-b75a-11387c9ed418
DTSTAMP:20260420T143259Z
SUMMARY:Sitzung d. PGR
DESCRIPTION:https://pfarreien-bistum-augsburg.df-preview.de/sitzung-d-pgr_i
 d1738749
DTSTART;TZID=Europe/Berlin:20260429T200000
DURATION:PT30M
LOCATION:St. Martin\, Dorfstraße 5\, 87547 Missen-Wilhams
END:VEVENT
BEGIN:VEVENT
UID:sabre-vobject-fb5e094e-3d65-4398-8bce-c6a92a712234
DTSTAMP:20260420T143259Z
SUMMARY:Hl. Messe
DESCRIPTION:https://pfarreien-bistum-augsburg.df-preview.de/hl-messe_id1738
 753
DTSTART;TZID=Europe/Berlin:20260430T190000
DURATION:PT30M
LOCATION:St. Peter und Paul
END:VEVENT
BEGIN:VEVENT
UID:sabre-vobject-f71730a7-267d-46bb-ac09-aa948b53b615
DTSTAMP:20260420T143259Z
SUMMARY:Sitzung d. PGR
DESCRIPTION:https://pfarreien-bistum-augsburg.df-preview.de/sitzung-d-pgr_i
 d1738754
DTSTART;TZID=Europe/Berlin:20260430T194500
DURATION:PT30M
LOCATION:St. Peter und Paul
END:VEVENT
BEGIN:VEVENT
UID:sabre-vobject-5ce22b4c-a88d-41f9-8de3-2999ba37a451
DTSTAMP:20260420T143259Z
SUMMARY:Maiandacht gest. v. PGR
DESCRIPTION:https://pfarreien-bistum-augsburg.df-preview.de/maiandacht-gest
 -v-pgr_id1738569
DTSTART;TZID=Europe/Berlin:20260501T100000
DURATION:PT30M
LOCATION:St. Oswald
END:VEVENT
BEGIN:VEVENT
UID:sabre-vobject-e819ebb0-47b2-49c9-a508-4d4ea91f1a3b
DTSTAMP:20260420T143259Z
SUMMARY:Familienwallfahrt v. Einharz n. Bühl
DESCRIPTION:https://pfarreien-bistum-augsburg.df-preview.de/familienwallfah
 rt-v-einharz-n-buehl_id1738582
DTSTART;TZID=Europe/Berlin:20260502T080000
DURATION:PT30M
LOCATION:St. Mauritius
END:VEVENT
BEGIN:VEVENT
UID:sabre-vobject-bd0cb889-59b2-4c69-be50-767c1bc105be
DTSTAMP:20260420T143259Z
SUMMARY:Pilgeramt i. St. Loretto Bühl
DESCRIPTION:https://pfarreien-bistum-augsburg.df-preview.de/pilgeramt-i-st-
 loretto-buehl_id1738583
DTSTART;TZID=Europe/Berlin:20260502T090000
DURATION:PT30M
LOCATION:St. Mauritius
END:VEVENT
BEGIN:VEVENT
UID:sabre-vobject-36c68ce4-283b-4fe2-ba18-131e5feafd45
DTSTAMP:20260420T143259Z
SUMMARY:Taufe
DESCRIPTION:https://pfarreien-bistum-augsburg.df-preview.de/taufe_id1738590
DTSTART;TZID=Europe/Berlin:20260502T140000
DURATION:PT30M
LOCATION:St. Martin\, Dorfstraße 5\, 87547 Missen-Wilhams
END:VEVENT
BEGIN:VEVENT
UID:sabre-vobject-c8c5c953-e8b8-4a34-831f-0086404a8a64
DTSTAMP:20260420T143259Z
SUMMARY:Jugendgottesdienst mitgest. v.d. Firmbewerbern
DESCRIPTION:https://pfarreien-bistum-augsburg.df-preview.de/jugendgottesdie
 nst-mitgest-v-d-firmbewerbern_id1738767
DTSTART;TZID=Europe/Berlin:20260502T190000
DURATION:PT30M
LOCATION:St. Peter und Paul
END:VEVENT
BEGIN:VEVENT
UID:sabre-vobject-d2f12114-25fb-430f-b060-a50454840de1
DTSTAMP:20260420T143259Z
SUMMARY:Pfarrgottesdienst
DESCRIPTION:https://pfarreien-bistum-augsburg.df-preview.de/pfarrgottesdien
 st_id1738636
DTSTART;TZID=Europe/Berlin:20260503T090000
DURATION:PT30M
LOCATION:St. Otmar
END:VEVENT
BEGIN:VEVENT
UID:sabre-vobject-8662ec7a-85d5-45e5-b6b5-bfeaefc918b5
DTSTAMP:20260420T143259Z
SUMMARY:Kinderkirche f. Kleinkinder i. Pfarrheim
DESCRIPTION:https://pfarreien-bistum-augsburg.df-preview.de/kinderkirche-f-
 kleinkinder-i-pfarrheim_id1738584
DTSTART;TZID=Europe/Berlin:20260503T100000
DURATION:PT30M
LOCATION:St. Mauritius
END:VEVENT
BEGIN:VEVENT
UID:sabre-vobject-ff81bea4-4661-47c0-932e-ffcc8ac67137
DTSTAMP:20260420T143259Z
SUMMARY:Pfarrgottesdienst
DESCRIPTION:https://pfarreien-bistum-augsburg.df-preview.de/pfarrgottesdien
 st_id1738654
DTSTART;TZID=Europe/Berlin:20260503T101500
DURATION:PT30M
LOCATION:St. Oswald
END:VEVENT
BEGIN:VEVENT
UID:sabre-vobject-19f4249d-43d9-4816-aa60-c6513cdd18c4
DTSTAMP:20260420T143259Z
SUMMARY:Familienmaiandacht mitgest. v. PGR
DESCRIPTION:https://pfarreien-bistum-augsburg.df-preview.de/familienmaianda
 cht-mitgest-v-pgr_id1738585
DTSTART;TZID=Europe/Berlin:20260503T190000
DURATION:PT30M
LOCATION:St. Mauritius
END:VEVENT
BEGIN:VEVENT
UID:sabre-vobject-53556893-55e2-405e-8220-0492c674a5e5
DTSTAMP:20260420T143259Z
SUMMARY:Maiandacht
DESCRIPTION:https://pfarreien-bistum-augsburg.df-preview.de/maiandacht_id17
 38768
DTSTART;TZID=Europe/Berlin:20260503T190000
DURATION:PT30M
LOCATION:St. Peter und Paul
END:VEVENT
BEGIN:VEVENT
UID:sabre-vobject-97e4d567-b55a-4e7a-9070-2f55de48cca3
DTSTAMP:20260420T143259Z
SUMMARY:Seniorenwallfahrt n. Wettenhausen
DESCRIPTION:https://pfarreien-bistum-augsburg.df-preview.de/seniorenwallfah
 rt-n-wettenhausen_id1738591
DTSTART;TZID=Europe/Berlin:20260505T080000
DURATION:PT30M
LOCATION:St. Martin\, Dorfstraße 5\, 87547 Missen-Wilhams
END:VEVENT
BEGIN:VEVENT
UID:sabre-vobject-5aea2ec1-0713-4ec1-9cf9-24f184f78a38
DTSTAMP:20260420T143259Z
SUMMARY:Maiandacht gest. v. PGR
DESCRIPTION:https://pfarreien-bistum-augsburg.df-preview.de/maiandacht-gest
 -v-pgr_id1738592
DTSTART;TZID=Europe/Berlin:20260505T190000
DURATION:PT30M
LOCATION:St. Martin\, Dorfstraße 5\, 87547 Missen-Wilhams
END:VEVENT
BEGIN:VEVENT
UID:sabre-vobject-af329946-9c77-4b18-a2d7-62fba3ad6f17
DTSTAMP:20260420T143259Z
SUMMARY:Hl. Messe
DESCRIPTION:https://pfarreien-bistum-augsburg.df-preview.de/hl-messe_id1738
 586
DTSTART;TZID=Europe/Berlin:20260506T190000
DURATION:PT30M
LOCATION:St. Mauritius
END:VEVENT
BEGIN:VEVENT
UID:sabre-vobject-1dbfc378-352b-4543-a4f2-6766f2268dd3
DTSTAMP:20260420T143259Z
SUMMARY:Firmandacht d. Dekanates in Seifriedsberg
DESCRIPTION:https://pfarreien-bistum-augsburg.df-preview.de/firmandacht-d-d
 ekanates-in-seifriedsberg_id1738656
DTSTART;TZID=Europe/Berlin:20260506T190000
DURATION:PT30M
LOCATION:St. Martin\, Dorfstraße 5\, 87547 Missen-Wilhams
END:VEVENT
BEGIN:VEVENT
UID:sabre-vobject-4bc2a556-95c0-4c04-9304-3ff352c3bd57
DTSTAMP:20260420T143259Z
SUMMARY:Bezirksmaiandacht d. KDFB  - musik. mitgest. v.d. Niedersonthofer S
 ingfehla
DESCRIPTION:https://pfarreien-bistum-augsburg.df-preview.de/bezirksmaiandac
 ht-d-kdfb-musik-mitgest-v-d-niedersonthofer-singfehla_id1738609
DTSTART;TZID=Europe/Berlin:20260506T193000
DURATION:PT30M
LOCATION:St. Martin\, Dorfstraße 5\, 87547 Missen-Wilhams
END:VEVENT
BEGIN:VEVENT
UID:sabre-vobject-94ab2213-fcc4-4c25-8dd9-1043c5a4cf4a
DTSTAMP:20260420T143259Z
SUMMARY:Maiandacht f. Kinder gest. v. PGR
DESCRIPTION:https://pfarreien-bistum-augsburg.df-preview.de/maiandacht-f-ki
 nder-gest-v-pgr_id1738655
DTSTART;TZID=Europe/Berlin:20260507T170000
DURATION:PT30M
LOCATION:St. Oswald
END:VEVENT
BEGIN:VEVENT
UID:sabre-vobject-ba2dcf68-7260-4115-89fb-55117e5cfb02
DTSTAMP:20260420T143259Z
SUMMARY:Rosenkranz f.d. Frieden
DESCRIPTION:https://pfarreien-bistum-augsburg.df-preview.de/rosenkranz-f-d-
 frieden_id1738756
DTSTART;TZID=Europe/Berlin:20260507T183000
DURATION:PT30M
LOCATION:St. Peter und Paul
END:VEVENT
BEGIN:VEVENT
UID:sabre-vobject-bfa72f6b-2d80-4753-a645-4639b4758fef
DTSTAMP:20260420T143259Z
SUMMARY:Hl. Messe
DESCRIPTION:https://pfarreien-bistum-augsburg.df-preview.de/hl-messe_id1738
 759
DTSTART;TZID=Europe/Berlin:20260507T190000
DURATION:PT30M
LOCATION:St. Peter und Paul
END:VEVENT
BEGIN:VEVENT
UID:sabre-vobject-bcdd7429-3687-49e5-b4d0-d11ca04d9694
DTSTAMP:20260420T143259Z
SUMMARY:Krankenkommunion in der PG
DESCRIPTION:https://pfarreien-bistum-augsburg.df-preview.de/krankenkommunio
 n-in-der-pg_id1738587
DTSTART;TZID=Europe/Berlin:20260508T000000
DURATION:PT30M
LOCATION:St. Mauritius
END:VEVENT
BEGIN:VEVENT
UID:sabre-vobject-f1e19599-b89b-4f03-867a-743127be80f5
DTSTAMP:20260420T143259Z
SUMMARY:Krankenkommunion in der PG
DESCRIPTION:https://pfarreien-bistum-augsburg.df-preview.de/krankenkommunio
 n-in-der-pg_id1738610
DTSTART;TZID=Europe/Berlin:20260508T000000
DURATION:PT30M
LOCATION:St. Martin\, Dorfstraße 5\, 87547 Missen-Wilhams
END:VEVENT
BEGIN:VEVENT
UID:sabre-vobject-170e6de7-d356-4aef-9c32-a36808f312d0
DTSTAMP:20260420T143259Z
SUMMARY:Krankenkommunion in der PG
DESCRIPTION:https://pfarreien-bistum-augsburg.df-preview.de/krankenkommunio
 n-in-der-pg_id1738760
DTSTART;TZID=Europe/Berlin:20260508T000000
DURATION:PT30M
LOCATION:St. Peter und Paul
END:VEVENT
BEGIN:VEVENT
UID:sabre-vobject-6d0cb871-e6b8-46f1-a23e-97c3298c2d5b
DTSTAMP:20260420T143259Z
SUMMARY:Maiandacht gest. v. PGR mit den Gruppen "goanz gleagele" u.d. Werta
 cher Singföhla
DESCRIPTION:https://pfarreien-bistum-augsburg.df-preview.de/maiandacht-gest
 -v-pgr-mit-den-gruppen-goanz-gleagele-u-d-wertacher-singfoehla_id1738688
DTSTART;TZID=Europe/Berlin:20260508T193000
DURATION:PT30M
LOCATION:St. Blasius
END:VEVENT
BEGIN:VEVENT
UID:sabre-vobject-42303c16-4faf-4f84-9fde-6dd5d67e0e52
DTSTAMP:20260420T143259Z
SUMMARY:Patrozinium d. Nikolauskapelle Missen-Berg
DESCRIPTION:https://pfarreien-bistum-augsburg.df-preview.de/patrozinium-d-n
 ikolauskapelle-missen-berg_id1738611
DTSTART;TZID=Europe/Berlin:20260509T143000
DURATION:PT30M
LOCATION:St. Martin\, Dorfstraße 5\, 87547 Missen-Wilhams
END:VEVENT
BEGIN:VEVENT
UID:sabre-vobject-fb68713a-ff0b-4fd0-8d98-29cd5ec73337
DTSTAMP:20260420T143259Z
SUMMARY:Pfarrgottesdienst
DESCRIPTION:https://pfarreien-bistum-augsburg.df-preview.de/pfarrgottesdien
 st_id1738678
DTSTART;TZID=Europe/Berlin:20260509T190000
DURATION:PT30M
LOCATION:St. Otmar
END:VEVENT
BEGIN:VEVENT
UID:sabre-vobject-904a97fb-90b5-4cb1-b577-5d0401cd926b
DTSTAMP:20260420T143259Z
SUMMARY:Rosenkranz
DESCRIPTION:https://pfarreien-bistum-augsburg.df-preview.de/rosenkranz_id17
 38588
DTSTART;TZID=Europe/Berlin:20260510T083000
DURATION:PT30M
LOCATION:St. Mauritius
END:VEVENT
BEGIN:VEVENT
UID:sabre-vobject-f967c9e0-997b-411a-92a8-70145ff67754
DTSTAMP:20260420T143259Z
SUMMARY:Pfarrgottesdienst
DESCRIPTION:https://pfarreien-bistum-augsburg.df-preview.de/pfarrgottesdien
 st_id1738589
DTSTART;TZID=Europe/Berlin:20260510T090000
DURATION:PT30M
LOCATION:St. Mauritius
END:VEVENT
BEGIN:VEVENT
UID:sabre-vobject-ee46a779-7deb-4a8f-9ff1-77fd0b26ead0
DTSTAMP:20260420T143259Z
SUMMARY:Pfarrgottesdienst
DESCRIPTION:https://pfarreien-bistum-augsburg.df-preview.de/pfarrgottesdien
 st_id1738644
DTSTART;TZID=Europe/Berlin:20260510T090000
DURATION:PT30M
LOCATION:St. Martin\, Dorfstraße 5\, 87547 Missen-Wilhams
END:VEVENT
BEGIN:VEVENT
UID:sabre-vobject-2265c3f1-bba0-4f3e-b9f9-13a96d23ebd9
DTSTAMP:20260420T143259Z
SUMMARY:Rosenkranz
DESCRIPTION:https://pfarreien-bistum-augsburg.df-preview.de/rosenkranz_id17
 38764
DTSTART;TZID=Europe/Berlin:20260510T094500
DURATION:PT30M
LOCATION:St. Peter und Paul
END:VEVENT
BEGIN:VEVENT
UID:sabre-vobject-84c1c273-6284-440e-bc70-f65efc3c2c74
DTSTAMP:20260420T143259Z
SUMMARY:Pfarrgottesdienst
DESCRIPTION:https://pfarreien-bistum-augsburg.df-preview.de/pfarrgottesdien
 st_id1738691
DTSTART;TZID=Europe/Berlin:20260510T101500
DURATION:PT30M
LOCATION:St. Blasius
END:VEVENT
BEGIN:VEVENT
UID:sabre-vobject-1f60c15f-47ca-4618-89ee-699a4129ad04
DTSTAMP:20260420T143259Z
SUMMARY:Pfarrgottesdienst
DESCRIPTION:https://pfarreien-bistum-augsburg.df-preview.de/pfarrgottesdien
 st_id1738765
DTSTART;TZID=Europe/Berlin:20260510T101500
DURATION:PT30M
LOCATION:St. Peter und Paul
END:VEVENT
BEGIN:VEVENT
UID:sabre-vobject-9a762818-ab26-4081-a052-c8a2de0bc0e9
DTSTAMP:20260420T143259Z
SUMMARY:Maiandacht gest. v. PGR
DESCRIPTION:https://pfarreien-bistum-augsburg.df-preview.de/maiandacht-gest
 -v-pgr_id1738645
DTSTART;TZID=Europe/Berlin:20260510T190000
DURATION:PT30M
LOCATION:St. Martin\, Dorfstraße 5\, 87547 Missen-Wilhams
END:VEVENT
BEGIN:VEVENT
UID:sabre-vobject-e7e833e8-7ed4-448b-ae37-f591fbc27ee3
DTSTAMP:20260420T143259Z
SUMMARY:Maiandacht a.d. Burgruine Werdenstein
DESCRIPTION:https://pfarreien-bistum-augsburg.df-preview.de/maiandacht-a-d-
 burgruine-werdenstein_id1738772
DTSTART;TZID=Europe/Berlin:20260510T190000
DURATION:PT30M
LOCATION:St. Peter und Paul
END:VEVENT
END:VCALENDAR
