BEGIN:VCALENDAR
VERSION:2.0
PRODID:-//Sabre//Sabre VObject 4.5.8//EN
CALSCALE:GREGORIAN
NAME:Bistum Augsburg
X-WR-CALNAME:Bistum Augsburg
BEGIN:VEVENT
UID:sabre-vobject-42e79977-9cfe-4667-b44a-4c6444bc343c
DTSTAMP:20260421T024346Z
SUMMARY:Hl.Messe in der Krankenhauskapelle
DESCRIPTION:https://pfarreien-bistum-augsburg.df-preview.de/hl-messe-in-der
 -krankenhauskapelle_id1722150
DTSTART;TZID=Europe/Berlin:20260421T183000
DURATION:PT30M
LOCATION:St. Felizitas
END:VEVENT
BEGIN:VEVENT
UID:sabre-vobject-3130fbd0-9b87-4dca-99d1-383e1c24f2d6
DTSTAMP:20260421T024346Z
SUMMARY:Hl. Messe in St. Wolfgang und Wendelin
DESCRIPTION:https://pfarreien-bistum-augsburg.df-preview.de/hl-messe-in-st-
 wolfgang-und-wendelin_id1722151
DTSTART;TZID=Europe/Berlin:20260422T080000
DURATION:PT30M
LOCATION:St. Felizitas
END:VEVENT
BEGIN:VEVENT
UID:sabre-vobject-b5e4357f-b412-4abc-bad1-7b20ca7ef090
DTSTAMP:20260421T024346Z
SUMMARY:Hl. Messe
DESCRIPTION:https://pfarreien-bistum-augsburg.df-preview.de/hl-messe_id1722
 152
DTSTART;TZID=Europe/Berlin:20260423T183000
DURATION:PT30M
LOCATION:St. Felizitas
END:VEVENT
BEGIN:VEVENT
UID:sabre-vobject-4a4297e2-16ec-4dd9-b7b6-6639eeb09685
DTSTAMP:20260421T024346Z
SUMMARY:Hl.  Messe
DESCRIPTION:https://pfarreien-bistum-augsburg.df-preview.de/hl-messe_id1722
 153
DTSTART;TZID=Europe/Berlin:20260424T183000
DURATION:PT30M
LOCATION:St. Felizitas
END:VEVENT
BEGIN:VEVENT
UID:sabre-vobject-4144409b-e44a-4dab-a9c5-f7daac4baba3
DTSTAMP:20260421T024346Z
SUMMARY:Erstkommunion Singoldschule
DESCRIPTION:https://pfarreien-bistum-augsburg.df-preview.de/erstkommunion-s
 ingoldschule_id1745492
DTSTART;TZID=Europe/Berlin:20260425T100000
DURATION:PT30M
LOCATION:St. Felizitas
END:VEVENT
BEGIN:VEVENT
UID:sabre-vobject-2f1cb26e-0f0f-4690-8f9d-9bf84b399768
DTSTAMP:20260421T024346Z
SUMMARY:Rosenkranz
DESCRIPTION:https://pfarreien-bistum-augsburg.df-preview.de/rosenkranz_id17
 45496
DTSTART;TZID=Europe/Berlin:20260425T173000
DURATION:PT30M
LOCATION:St. Felizitas
END:VEVENT
BEGIN:VEVENT
UID:sabre-vobject-27cd413d-fb51-4a17-80fc-0867642b1e6e
DTSTAMP:20260421T024346Z
SUMMARY:Beichtgelegenheit
DESCRIPTION:https://pfarreien-bistum-augsburg.df-preview.de/beichtgelegenhe
 it_id1745497
DTSTART;TZID=Europe/Berlin:20260425T173000
DURATION:PT30M
LOCATION:St. Felizitas
END:VEVENT
BEGIN:VEVENT
UID:sabre-vobject-547b9734-5253-4f74-b024-979e44b869c0
DTSTAMP:20260421T024346Z
SUMMARY:VAM
DESCRIPTION:https://pfarreien-bistum-augsburg.df-preview.de/vam_id1745500
DTSTART;TZID=Europe/Berlin:20260425T180000
DURATION:PT30M
LOCATION:St. Felizitas
END:VEVENT
BEGIN:VEVENT
UID:sabre-vobject-ba656e04-3dcf-4bb0-b174-9ee1d9e8c6b6
DTSTAMP:20260421T024346Z
SUMMARY:Erstkommunion Singoldschule
DESCRIPTION:https://pfarreien-bistum-augsburg.df-preview.de/erstkommunion-s
 ingoldschule_id1745501
DTSTART;TZID=Europe/Berlin:20260426T100000
DURATION:PT30M
LOCATION:St. Felizitas
END:VEVENT
BEGIN:VEVENT
UID:sabre-vobject-556b5d7d-a78f-4b90-a529-53f3523cd80f
DTSTAMP:20260421T024346Z
SUMMARY:Hl.Messe in der Krankenhauskapelle
DESCRIPTION:https://pfarreien-bistum-augsburg.df-preview.de/hl-messe-in-der
 -krankenhauskapelle_id1745502
DTSTART;TZID=Europe/Berlin:20260428T183000
DURATION:PT30M
LOCATION:St. Felizitas
END:VEVENT
BEGIN:VEVENT
UID:sabre-vobject-48559ff9-e08a-4005-a84f-4c1b1bfc86d2
DTSTAMP:20260421T024346Z
SUMMARY:Hl. Messe in St. Wolfgang und Wendelin
DESCRIPTION:https://pfarreien-bistum-augsburg.df-preview.de/hl-messe-in-st-
 wolfgang-und-wendelin_id1745481
DTSTART;TZID=Europe/Berlin:20260429T080000
DURATION:PT30M
LOCATION:St. Felizitas
END:VEVENT
BEGIN:VEVENT
UID:sabre-vobject-0bdbe78f-dd74-4ccb-a96e-d820e89f3c9f
DTSTAMP:20260421T024346Z
SUMMARY:Hl. Messe
DESCRIPTION:https://pfarreien-bistum-augsburg.df-preview.de/hl-messe_id1745
 482
DTSTART;TZID=Europe/Berlin:20260430T183000
DURATION:PT30M
LOCATION:St. Felizitas
END:VEVENT
BEGIN:VEVENT
UID:sabre-vobject-423340b3-179d-49b8-9f12-a3fba8d3c029
DTSTAMP:20260421T024346Z
SUMMARY:Hl.  Messe
DESCRIPTION:https://pfarreien-bistum-augsburg.df-preview.de/hl-messe_id1745
 483
DTSTART;TZID=Europe/Berlin:20260501T103000
DURATION:PT30M
LOCATION:St. Felizitas
END:VEVENT
BEGIN:VEVENT
UID:sabre-vobject-2f3fa2dd-5044-49d0-98f0-0d1d1c228328
DTSTAMP:20260421T024346Z
SUMMARY:Maiandacht mit Solistin
DESCRIPTION:https://pfarreien-bistum-augsburg.df-preview.de/maiandacht-mit-
 solistin_id1745484
DTSTART;TZID=Europe/Berlin:20260501T183000
DURATION:PT30M
LOCATION:St. Felizitas
END:VEVENT
BEGIN:VEVENT
UID:sabre-vobject-8307c4fe-9bae-4d77-b632-b8f574fc2b59
DTSTAMP:20260421T024346Z
SUMMARY:Taufe - Alexander Kondrat
DESCRIPTION:https://pfarreien-bistum-augsburg.df-preview.de/taufe-alexander
 -kondrat_id1745424
DTSTART;TZID=Europe/Berlin:20260502T103000
DURATION:PT30M
LOCATION:St. Felizitas
END:VEVENT
BEGIN:VEVENT
UID:sabre-vobject-a985ec09-997f-432e-9ab9-baa33256d48e
DTSTAMP:20260421T024346Z
SUMMARY:Taufe - Luis Segenschmid
DESCRIPTION:https://pfarreien-bistum-augsburg.df-preview.de/taufe-luis-sege
 nschmid_id1745418
DTSTART;TZID=Europe/Berlin:20260502T150000
DURATION:PT30M
LOCATION:St. Felizitas
END:VEVENT
BEGIN:VEVENT
UID:sabre-vobject-08200ef8-edaf-45d0-b8e6-c3aecd36d787
DTSTAMP:20260421T024346Z
SUMMARY:Rosenkranz
DESCRIPTION:https://pfarreien-bistum-augsburg.df-preview.de/rosenkranz_id17
 45419
DTSTART;TZID=Europe/Berlin:20260502T173000
DURATION:PT30M
LOCATION:St. Felizitas
END:VEVENT
BEGIN:VEVENT
UID:sabre-vobject-45277485-87b4-4969-a163-76a8a50ce88f
DTSTAMP:20260421T024346Z
SUMMARY:Beichtgelegenheit
DESCRIPTION:https://pfarreien-bistum-augsburg.df-preview.de/beichtgelegenhe
 it_id1745420
DTSTART;TZID=Europe/Berlin:20260502T173000
DURATION:PT30M
LOCATION:St. Felizitas
END:VEVENT
BEGIN:VEVENT
UID:sabre-vobject-2a4c0a88-2b04-4846-a6aa-a644fc1453a0
DTSTAMP:20260421T024346Z
SUMMARY:VAM
DESCRIPTION:https://pfarreien-bistum-augsburg.df-preview.de/vam_id1745421
DTSTART;TZID=Europe/Berlin:20260502T180000
DURATION:PT30M
LOCATION:St. Felizitas
END:VEVENT
BEGIN:VEVENT
UID:sabre-vobject-564f84e6-8de0-42d8-8264-27c1e83c8140
DTSTAMP:20260421T024346Z
SUMMARY:Pfarrgottesdienst - Floriani Messe mit d. Stadtkapelle
DESCRIPTION:https://pfarreien-bistum-augsburg.df-preview.de/pfarrgottesdien
 st-floriani-messe-mit-d-stadtkapelle_id1745423
DTSTART;TZID=Europe/Berlin:20260503T090000
DURATION:PT30M
LOCATION:St. Felizitas
END:VEVENT
BEGIN:VEVENT
UID:sabre-vobject-e8fd066b-95f9-4d42-afc7-4f13d70c923e
DTSTAMP:20260421T024346Z
SUMMARY:Pfarrgottesdienst
DESCRIPTION:https://pfarreien-bistum-augsburg.df-preview.de/pfarrgottesdien
 st_id1745402
DTSTART;TZID=Europe/Berlin:20260503T103000
DURATION:PT30M
LOCATION:St. Felizitas
END:VEVENT
BEGIN:VEVENT
UID:sabre-vobject-5a7eb700-d468-4080-ac9b-d9964dc14ffd
DTSTAMP:20260421T024346Z
SUMMARY:Taufe - Kaja Valeria Krist
DESCRIPTION:https://pfarreien-bistum-augsburg.df-preview.de/taufe-kaja-vale
 ria-krist_id1745422
DTSTART;TZID=Europe/Berlin:20260503T120000
DURATION:PT30M
LOCATION:St. Felizitas
END:VEVENT
BEGIN:VEVENT
UID:sabre-vobject-2c85fc28-b26c-4a20-be9e-8379e4648df6
DTSTAMP:20260421T024346Z
SUMMARY:Hl.Messe in der Krankenhauskapelle
DESCRIPTION:https://pfarreien-bistum-augsburg.df-preview.de/hl-messe-in-der
 -krankenhauskapelle_id1745262
DTSTART;TZID=Europe/Berlin:20260505T183000
DURATION:PT30M
LOCATION:St. Felizitas
END:VEVENT
BEGIN:VEVENT
UID:sabre-vobject-63f3d9a5-797e-4229-b211-6d938c9ad0b1
DTSTAMP:20260421T024346Z
SUMMARY:Hl. Messe in St. Wolfgang und Wendelin
DESCRIPTION:https://pfarreien-bistum-augsburg.df-preview.de/hl-messe-in-st-
 wolfgang-und-wendelin_id1745263
DTSTART;TZID=Europe/Berlin:20260506T080000
DURATION:PT30M
LOCATION:St. Felizitas
END:VEVENT
BEGIN:VEVENT
UID:sabre-vobject-9f97521d-5ab2-44ed-9dff-a785d5cddc13
DTSTAMP:20260421T024346Z
SUMMARY:Maiandacht im Kursana gest. Kinderkirchen-Team
DESCRIPTION:https://pfarreien-bistum-augsburg.df-preview.de/maiandacht-im-k
 ursana-gest-kinderkirchen-team_id1745266
DTSTART;TZID=Europe/Berlin:20260507T160000
DURATION:PT30M
LOCATION:St. Felizitas
END:VEVENT
BEGIN:VEVENT
UID:sabre-vobject-c9bd4e64-28be-41c5-8551-c179e5aa7da5
DTSTAMP:20260421T024346Z
SUMMARY:Hl. Messe
DESCRIPTION:https://pfarreien-bistum-augsburg.df-preview.de/hl-messe_id1745
 264
DTSTART;TZID=Europe/Berlin:20260507T183000
DURATION:PT30M
LOCATION:St. Felizitas
END:VEVENT
BEGIN:VEVENT
UID:sabre-vobject-f9b014bf-a57b-4092-baab-c52e1a4ff17a
DTSTAMP:20260421T024346Z
SUMMARY:Maiandacht gest. von Kolping
DESCRIPTION:https://pfarreien-bistum-augsburg.df-preview.de/maiandacht-gest
 -von-kolping_id1745267
DTSTART;TZID=Europe/Berlin:20260508T183000
DURATION:PT30M
LOCATION:St. Felizitas
END:VEVENT
BEGIN:VEVENT
UID:sabre-vobject-a6cd2efe-146a-4089-93b9-7b8e227002eb
DTSTAMP:20260421T024346Z
SUMMARY:Rosenkranz
DESCRIPTION:https://pfarreien-bistum-augsburg.df-preview.de/rosenkranz_id17
 44806
DTSTART;TZID=Europe/Berlin:20260509T173000
DURATION:PT30M
LOCATION:St. Felizitas
END:VEVENT
BEGIN:VEVENT
UID:sabre-vobject-fd6734a5-7c61-46e1-b55d-143e98167301
DTSTAMP:20260421T024346Z
SUMMARY:Beichtgelegenheit
DESCRIPTION:https://pfarreien-bistum-augsburg.df-preview.de/beichtgelegenhe
 it_id1744807
DTSTART;TZID=Europe/Berlin:20260509T173000
DURATION:PT30M
LOCATION:St. Felizitas
END:VEVENT
BEGIN:VEVENT
UID:sabre-vobject-9a8ae4fa-e5e8-4325-b513-6fc971bffd7f
DTSTAMP:20260421T024346Z
SUMMARY:VAM
DESCRIPTION:https://pfarreien-bistum-augsburg.df-preview.de/vam_id1744808
DTSTART;TZID=Europe/Berlin:20260509T180000
DURATION:PT30M
LOCATION:St. Felizitas
END:VEVENT
BEGIN:VEVENT
UID:sabre-vobject-b95af092-f8d4-47f3-ae63-f3943654274b
DTSTAMP:20260421T024346Z
SUMMARY:Pfarrgottesdienst
DESCRIPTION:https://pfarreien-bistum-augsburg.df-preview.de/pfarrgottesdien
 st_id1744809
DTSTART;TZID=Europe/Berlin:20260510T090000
DURATION:PT30M
LOCATION:St. Felizitas
END:VEVENT
BEGIN:VEVENT
UID:sabre-vobject-2bd431fa-136e-463d-a8db-5bf7b9059446
DTSTAMP:20260421T024346Z
SUMMARY:Pfarrgottesdienst - musik.gest. v. caminando
DESCRIPTION:https://pfarreien-bistum-augsburg.df-preview.de/pfarrgottesdien
 st-musik-gest-v-caminando_id1744792
DTSTART;TZID=Europe/Berlin:20260510T103000
DURATION:PT30M
LOCATION:St. Felizitas
END:VEVENT
BEGIN:VEVENT
UID:sabre-vobject-f5942184-b58f-49a3-b544-d6cac4ee25fd
DTSTAMP:20260421T024346Z
SUMMARY:Bittgang zum Kolpingkreuz
DESCRIPTION:https://pfarreien-bistum-augsburg.df-preview.de/bittgang-zum-ko
 lpingkreuz_id1744779
DTSTART;TZID=Europe/Berlin:20260511T183000
DURATION:PT30M
LOCATION:St. Felizitas
END:VEVENT
BEGIN:VEVENT
UID:sabre-vobject-4c4485ee-4143-4ece-9e02-bc99b3959781
DTSTAMP:20260421T024346Z
SUMMARY:Bittgang v. St. Wolfgang u. Wendelin zum Krankenhaus
DESCRIPTION:https://pfarreien-bistum-augsburg.df-preview.de/bittgang-v-st-w
 olfgang-u-wendelin-zum-krankenhaus_id1744802
DTSTART;TZID=Europe/Berlin:20260512T183000
DURATION:PT30M
LOCATION:St. Felizitas
END:VEVENT
BEGIN:VEVENT
UID:sabre-vobject-a6839a5e-a83a-4b94-9ba5-e49576a0f6d6
DTSTAMP:20260421T024346Z
SUMMARY:Hl.Messe in der Krankenhauskapelle
DESCRIPTION:https://pfarreien-bistum-augsburg.df-preview.de/hl-messe-in-der
 -krankenhauskapelle_id1744801
DTSTART;TZID=Europe/Berlin:20260512T190000
DURATION:PT30M
LOCATION:St. Felizitas
END:VEVENT
BEGIN:VEVENT
UID:sabre-vobject-4d013f3c-63d6-477d-9a5f-38b40c5845b2
DTSTAMP:20260421T024346Z
SUMMARY:Bittgang von St.Wendelin & Wolfgang und von d. Liebfrauenkirche zur
  Pfarrkirche
DESCRIPTION:https://pfarreien-bistum-augsburg.df-preview.de/bittgang-von-st
 -wendelin-wolfgang-und-von-d-liebfrauenkirche-zur-pfarrkirche_id1744804
DTSTART;TZID=Europe/Berlin:20260513T183000
DURATION:PT30M
LOCATION:St. Felizitas
END:VEVENT
BEGIN:VEVENT
UID:sabre-vobject-e3a2a41d-1359-4e42-9517-fafa926101f9
DTSTAMP:20260421T024346Z
SUMMARY:VAM zu Christi Himmelfahrt
DESCRIPTION:https://pfarreien-bistum-augsburg.df-preview.de/vam-zu-christi-
 himmelfahrt_id1744805
DTSTART;TZID=Europe/Berlin:20260513T190000
DURATION:PT30M
LOCATION:St. Felizitas
END:VEVENT
BEGIN:VEVENT
UID:sabre-vobject-c39a84e5-9626-4ef5-8bc1-1319074bda42
DTSTAMP:20260421T024346Z
SUMMARY:Scheppacher Kapelle gest. von Kolping und den Bläsern
DESCRIPTION:https://pfarreien-bistum-augsburg.df-preview.de/scheppacher-kap
 elle-gest-von-kolping-und-den-blaesern_id1744810
DTSTART;TZID=Europe/Berlin:20260514T103000
DURATION:PT30M
LOCATION:St. Felizitas
END:VEVENT
BEGIN:VEVENT
UID:sabre-vobject-923c5982-4c05-4cb8-969f-f6b4b5c1566d
DTSTAMP:20260421T024346Z
SUMMARY:Maiandacht m. Kommunionkindern u. d. Stadtkapelle
DESCRIPTION:https://pfarreien-bistum-augsburg.df-preview.de/maiandacht-m-ko
 mmunionkindern-u-d-stadtkapelle_id1744811
DTSTART;TZID=Europe/Berlin:20260515T180000
DURATION:PT30M
LOCATION:St. Felizitas
END:VEVENT
END:VCALENDAR
