BEGIN:VCALENDAR
VERSION:2.0
PRODID:-//Sabre//Sabre VObject 4.5.8//EN
CALSCALE:GREGORIAN
NAME:Bistum Augsburg
X-WR-CALNAME:Bistum Augsburg
BEGIN:VEVENT
UID:sabre-vobject-0f6a465b-076b-4eeb-8247-3c61476b67e8
DTSTAMP:20260422T141927Z
SUMMARY:Festgottesdienst zur Erstkommunion für die verst. Angehörigen der
  Erstkommunionkinder
DESCRIPTION:https://pfarreien-bistum-augsburg.df-preview.de/festgottesdiens
 t-zur-erstkommunion-fuer-die-verst-angehoerigen-der-erstkommunionkinder_id
 1745574
DTSTART;TZID=Europe/Berlin:20260425T100000
DURATION:PT30M
LOCATION:St. Johannes Baptist
END:VEVENT
BEGIN:VEVENT
UID:sabre-vobject-76269571-227e-4de9-a053-6431447bd14d
DTSTAMP:20260422T141927Z
SUMMARY:Sonntagsmessfeier für
DESCRIPTION:https://pfarreien-bistum-augsburg.df-preview.de/sonntagsmessfei
 er-fuer_id1745575
DTSTART;TZID=Europe/Berlin:20260426T083000
DURATION:PT30M
LOCATION:St. Johannes Baptist
END:VEVENT
BEGIN:VEVENT
UID:sabre-vobject-347aeb64-a563-4070-9458-f92b7cc241b7
DTSTAMP:20260422T141927Z
SUMMARY:Messfeier für
DESCRIPTION:https://pfarreien-bistum-augsburg.df-preview.de/messfeier-fuer_
 id1745576
DTSTART;TZID=Europe/Berlin:20260428T190000
DURATION:PT30M
LOCATION:St. Johannes Baptist
END:VEVENT
BEGIN:VEVENT
UID:sabre-vobject-36f775c5-52be-40c2-aafb-10ec19e1bd33
DTSTAMP:20260422T141927Z
SUMMARY:Gelöbniswallfahrt nach Violau  Abmarsch der Fußwallfahrer
DESCRIPTION:https://pfarreien-bistum-augsburg.df-preview.de/geloebniswallfa
 hrt-nach-violau-abmarsch-der-fusswallfahrer_id1745577
DTSTART;TZID=Europe/Berlin:20260501T063000
DURATION:PT30M
LOCATION:St. Johannes Baptist
END:VEVENT
BEGIN:VEVENT
UID:sabre-vobject-a307848f-f7aa-4be0-a1eb-49a26846bf9d
DTSTAMP:20260422T141927Z
SUMMARY:Abfahrt des Busses bei der Pfarrkirche mit Halt in Kruichen
DESCRIPTION:https://pfarreien-bistum-augsburg.df-preview.de/abfahrt-des-bus
 ses-bei-der-pfarrkirche-mit-halt-in-kruichen_id1745578
DTSTART;TZID=Europe/Berlin:20260501T090000
DURATION:PT30M
LOCATION:St. Johannes Baptist
END:VEVENT
BEGIN:VEVENT
UID:sabre-vobject-84fb9d87-9363-48e7-ad1e-08333963b50c
DTSTAMP:20260422T141927Z
SUMMARY:Wallfahrtsgottesdienst in Violau
DESCRIPTION:https://pfarreien-bistum-augsburg.df-preview.de/wallfahrtsgotte
 sdienst-in-violau_id1745579
DTSTART;TZID=Europe/Berlin:20260501T100000
DURATION:PT30M
LOCATION:St. Johannes Baptist
END:VEVENT
BEGIN:VEVENT
UID:sabre-vobject-31f652f9-77aa-4f56-9b9e-45f250cbdfb3
DTSTAMP:20260422T141927Z
SUMMARY:Rückfahrt des Busses
DESCRIPTION:https://pfarreien-bistum-augsburg.df-preview.de/rueckfahrt-des-
 busses_id1745580
DTSTART;TZID=Europe/Berlin:20260501T113000
DURATION:PT30M
LOCATION:St. Johannes Baptist
END:VEVENT
BEGIN:VEVENT
UID:sabre-vobject-bff42655-366f-4693-a888-97618996ad6d
DTSTAMP:20260422T141927Z
SUMMARY:Trauung
DESCRIPTION:https://pfarreien-bistum-augsburg.df-preview.de/trauung_id17455
 82
DTSTART;TZID=Europe/Berlin:20260501T140000
DURATION:PT30M
LOCATION:St. Johannes Baptist
END:VEVENT
BEGIN:VEVENT
UID:sabre-vobject-595d7e4f-d9b7-4497-8e85-4e5b014aebfc
DTSTAMP:20260422T141927Z
SUMMARY:Pfarrgottesdienst anschl. Konventgebet für alle Lebenden und Verst
 orbenen der Pfarreiengemeinschaft im Gebetsgedenken an:
DESCRIPTION:https://pfarreien-bistum-augsburg.df-preview.de/pfarrgottesdien
 st-anschl-konventgebet-fuer-alle-lebenden-und-verstorbenen-der-pfarreienge
 meinschaft-im-gebetsgedenken-an_id1745650
DTSTART;TZID=Europe/Berlin:20260503T100000
DURATION:PT30M
LOCATION:St. Johannes Baptist
END:VEVENT
BEGIN:VEVENT
UID:sabre-vobject-27708f03-1404-401a-ae6e-9dbf233c01b9
DTSTAMP:20260422T141927Z
SUMMARY:Maiandacht an der Steigfeldkapelle (Bei schlechtem Wetter findet di
 e Maiandacht in der Pfarrkirche Adelsried statt)
DESCRIPTION:https://pfarreien-bistum-augsburg.df-preview.de/maiandacht-an-d
 er-steigfeldkapelle-bei-schlechtem-wetter-findet-die-maiandacht-in-der-pfa
 rrkirche-adelsried-statt_id1745651
DTSTART;TZID=Europe/Berlin:20260503T190000
DURATION:PT30M
LOCATION:Maria\, Schutz der Reisenden\, A8\, 86477 Adelsried
END:VEVENT
BEGIN:VEVENT
UID:sabre-vobject-6b727f0b-ed25-4cd8-ac20-77b1ea135bb5
DTSTAMP:20260422T141927Z
SUMMARY:Messfeier für
DESCRIPTION:https://pfarreien-bistum-augsburg.df-preview.de/messfeier-fuer_
 id1745652
DTSTART;TZID=Europe/Berlin:20260505T190000
DURATION:PT30M
LOCATION:St. Johannes Baptist
END:VEVENT
BEGIN:VEVENT
UID:sabre-vobject-4b414266-c145-4f4a-bbf9-8016a8d7d64d
DTSTAMP:20260422T141927Z
SUMMARY:Sonntagsmessfeier bei der Flurkapelle am Axtesberg (bei schlechtem 
 Wetter in der Pfarrkirche) für
DESCRIPTION:https://pfarreien-bistum-augsburg.df-preview.de/sonntagsmessfei
 er-bei-der-flurkapelle-am-axtesberg-bei-schlechtem-wetter-in-der-pfarrkirc
 he-fuer_id1745011
DTSTART;TZID=Europe/Berlin:20260510T100000
DURATION:PT30M
LOCATION:Maria\, Schutz der Reisenden\, A8\, 86477 Adelsried
END:VEVENT
BEGIN:VEVENT
UID:sabre-vobject-f7f21a9e-8638-470a-978e-16bfd22e0686
DTSTAMP:20260422T141927Z
SUMMARY:Bitt-Messfeier in Kruichen
DESCRIPTION:https://pfarreien-bistum-augsburg.df-preview.de/bitt-messfeier-
 in-kruichen_id1745382
DTSTART;TZID=Europe/Berlin:20260512T190000
DURATION:PT30M
LOCATION:St. Johannes Baptist
END:VEVENT
BEGIN:VEVENT
UID:sabre-vobject-b8d634fe-942c-4a1c-ac3f-5c43658923c3
DTSTAMP:20260422T141927Z
SUMMARY:Treffpunkt in Reutern zum Festgottesdienst am Bildstock\, Abmarsch 
 an der Keltenschanzstr. - Ecke Feldweg zum Bildstock
DESCRIPTION:https://pfarreien-bistum-augsburg.df-preview.de/treffpunkt-in-r
 eutern-zum-festgottesdienst-am-bildstock-abmarsch-an-der-keltenschanzstr-e
 cke-feldweg-zum-bildstock_id1745277
DTSTART;TZID=Europe/Berlin:20260514T084500
DURATION:PT30M
LOCATION:St. Johannes Baptist
END:VEVENT
BEGIN:VEVENT
UID:sabre-vobject-c60e72a4-f477-4414-b2f2-4579fde9b55a
DTSTAMP:20260422T141927Z
SUMMARY:Vorabendmesse für
DESCRIPTION:https://pfarreien-bistum-augsburg.df-preview.de/vorabendmesse-f
 uer_id1745530
DTSTART;TZID=Europe/Berlin:20260516T190000
DURATION:PT30M
LOCATION:St. Johannes Baptist
END:VEVENT
BEGIN:VEVENT
UID:sabre-vobject-8d7ef519-3d24-46d8-a4db-c0bd8455b7e6
DTSTAMP:20260422T141927Z
SUMMARY:Messfeier für
DESCRIPTION:https://pfarreien-bistum-augsburg.df-preview.de/messfeier-fuer_
 id1745503
DTSTART;TZID=Europe/Berlin:20260519T190000
DURATION:PT30M
LOCATION:St. Johannes Baptist
END:VEVENT
BEGIN:VEVENT
UID:sabre-vobject-ed4d1e6f-ef78-4bea-90f1-18ef01e6899a
DTSTAMP:20260422T141927Z
SUMMARY:Sonntagsmessfeier für
DESCRIPTION:https://pfarreien-bistum-augsburg.df-preview.de/sonntagsmessfei
 er-fuer_id1745328
DTSTART;TZID=Europe/Berlin:20260524T083000
DURATION:PT30M
LOCATION:St. Johannes Baptist
END:VEVENT
BEGIN:VEVENT
UID:sabre-vobject-7d837c95-1c3e-411b-9288-279de014a21d
DTSTAMP:20260422T141927Z
SUMMARY:Maiandacht gest. v. Frauenbund
DESCRIPTION:https://pfarreien-bistum-augsburg.df-preview.de/maiandacht-gest
 -v-frauenbund_id1745330
DTSTART;TZID=Europe/Berlin:20260524T190000
DURATION:PT30M
LOCATION:St. Johannes Baptist
END:VEVENT
END:VCALENDAR
