BEGIN:VCALENDAR
VERSION:2.0
PRODID:-//Sabre//Sabre VObject 4.5.8//EN
CALSCALE:GREGORIAN
NAME:Bistum Augsburg
X-WR-CALNAME:Bistum Augsburg
BEGIN:VEVENT
UID:sabre-vobject-6fece05e-8e97-4525-83f5-5a39e8f085a3
DTSTAMP:20260422T061711Z
SUMMARY:Kleidersammlung Aktion Hoffnung\; Abgabe bis 10 Uhr am alten Kinder
 garten
DESCRIPTION:https://pfarreien-bistum-augsburg.df-preview.de/kleidersammlung
 -aktion-hoffnung-abgabe-bis-10-uhr-am-alten-kindergarten_id1751761
DTSTART;TZID=Europe/Berlin:20260425T000000
DURATION:PT30M
LOCATION:Maria\, Königin der Apostel\, Marienplatz 4\, 87448 Waltenhofen
END:VEVENT
BEGIN:VEVENT
UID:sabre-vobject-bd927007-d8a2-4885-8986-c7ff29d0a3fd
DTSTAMP:20260422T061711Z
SUMMARY:Heilige Messe mit Erstkommunion mitgestaltet von der Gruppe Rücken
 wind
DESCRIPTION:https://pfarreien-bistum-augsburg.df-preview.de/heilige-messe-m
 it-erstkommunion-mitgestaltet-von-der-gruppe-rueckenwind_id1751774
DTSTART;TZID=Europe/Berlin:20260426T103000
DURATION:PT30M
LOCATION:Maria\, Königin der Apostel\, Marienplatz 4\, 87448 Waltenhofen
END:VEVENT
BEGIN:VEVENT
UID:sabre-vobject-b6acfd1a-3c28-4423-80f6-d6f732f4525c
DTSTAMP:20260422T061711Z
SUMMARY:Rosenkranz für Agathe Endres
DESCRIPTION:https://pfarreien-bistum-augsburg.df-preview.de/rosenkranz-fuer
 -agathe-endres_id1750985
DTSTART;TZID=Europe/Berlin:20260427T180000
DURATION:PT30M
LOCATION:Maria\, Königin der Apostel\, Marienplatz 4\, 87448 Waltenhofen
END:VEVENT
BEGIN:VEVENT
UID:sabre-vobject-3ca0ec5c-a8f9-4e4a-937b-c941736e95df
DTSTAMP:20260422T061711Z
SUMMARY:Requiem für Agathe Endres
DESCRIPTION:https://pfarreien-bistum-augsburg.df-preview.de/requiem-fuer-ag
 athe-endres_id1750991
DTSTART;TZID=Europe/Berlin:20260428T140000
DURATION:PT30M
LOCATION:Maria\, Königin der Apostel\, Marienplatz 4\, 87448 Waltenhofen
END:VEVENT
BEGIN:VEVENT
UID:sabre-vobject-5cf4cc64-341d-4d38-a1bf-8343a8234eeb
DTSTAMP:20260422T061711Z
SUMMARY:Heilige Messe
DESCRIPTION:https://pfarreien-bistum-augsburg.df-preview.de/heilige-messe_i
 d1751118
DTSTART;TZID=Europe/Berlin:20260503T090000
DURATION:PT30M
LOCATION:Maria\, Königin der Apostel\, Marienplatz 4\, 87448 Waltenhofen
END:VEVENT
END:VCALENDAR
