BEGIN:VCALENDAR
VERSION:2.0
PRODID:-//Sabre//Sabre VObject 4.5.8//EN
CALSCALE:GREGORIAN
NAME:Bistum Augsburg
X-WR-CALNAME:Bistum Augsburg
BEGIN:VEVENT
UID:sabre-vobject-9929df9e-a60c-4409-990c-7e2431f294ba
DTSTAMP:20260422T141828Z
SUMMARY:Requiem für Kuno Hauck\, anschl. Urnenbeisetzung
DESCRIPTION:https://pfarreien-bistum-augsburg.df-preview.de/requiem-fuer-ku
 no-hauck-anschl-urnenbeisetzung_id1742225
DTSTART;TZID=Europe/Berlin:20260422T143000
DURATION:PT30M
LOCATION:St. Vitus
END:VEVENT
BEGIN:VEVENT
UID:sabre-vobject-1abaaf79-97a2-4ec2-b73c-6cbf5a9ae693
DTSTAMP:20260422T141828Z
SUMMARY:Hl. Messe
DESCRIPTION:https://pfarreien-bistum-augsburg.df-preview.de/hl-messe_id1742
 237
DTSTART;TZID=Europe/Berlin:20260424T183000
DURATION:PT30M
LOCATION:St. Vitus
END:VEVENT
END:VCALENDAR
