BEGIN:VCALENDAR
VERSION:2.0
PRODID:-//Sabre//Sabre VObject 4.5.8//EN
CALSCALE:GREGORIAN
NAME:Bistum Augsburg
X-WR-CALNAME:Bistum Augsburg
BEGIN:VEVENT
UID:sabre-vobject-aef9d29c-16c8-46ee-95f8-44894db8b112
DTSTAMP:20260423T105408Z
SUMMARY:Fahrzeugsegnung FFW Lichtenau
DESCRIPTION:https://pfarreien-bistum-augsburg.df-preview.de/fahrzeugsegnung
 -ffw-lichtenau_id1751021
DTSTART;TZID=Europe/Berlin:20260425T163000
DURATION:PT30M
LOCATION:St. Johannes Baptist
END:VEVENT
BEGIN:VEVENT
UID:sabre-vobject-277fc213-c7b6-465a-a929-44b9511017af
DTSTAMP:20260423T105408Z
SUMMARY:Pfarrgottesdienst
DESCRIPTION:https://pfarreien-bistum-augsburg.df-preview.de/pfarrgottesdien
 st_id1751022
DTSTART;TZID=Europe/Berlin:20260426T100000
DURATION:PT30M
LOCATION:St. Johannes Baptist
END:VEVENT
BEGIN:VEVENT
UID:sabre-vobject-3e93e39c-06ad-4e85-81cf-8dfae75cf58d
DTSTAMP:20260423T105408Z
SUMMARY:Taufe Nico Meyer
DESCRIPTION:https://pfarreien-bistum-augsburg.df-preview.de/taufe-nico-meye
 r_id1751023
DTSTART;TZID=Europe/Berlin:20260426T111500
DURATION:PT30M
LOCATION:St. Johannes Baptist
END:VEVENT
BEGIN:VEVENT
UID:sabre-vobject-96efc028-27db-42a5-bfa9-24cc8b564bfe
DTSTAMP:20260423T105408Z
SUMMARY:Heilige Messe
DESCRIPTION:https://pfarreien-bistum-augsburg.df-preview.de/heilige-messe_i
 d1751024
DTSTART;TZID=Europe/Berlin:20260428T183000
DURATION:PT30M
LOCATION:St. Johannes Baptist
END:VEVENT
BEGIN:VEVENT
UID:sabre-vobject-249f69c6-8143-43c1-8a08-9f072d9efe66
DTSTAMP:20260423T105408Z
SUMMARY:Festgottesdienst zu Maria Patrona Bavariae
DESCRIPTION:https://pfarreien-bistum-augsburg.df-preview.de/festgottesdiens
 t-zu-maria-patrona-bavariae_id1751025
DTSTART;TZID=Europe/Berlin:20260501T083000
DURATION:PT30M
LOCATION:St. Johannes Baptist
END:VEVENT
BEGIN:VEVENT
UID:sabre-vobject-9d2b3ed8-88c7-4dfd-a23d-48f36fac6171
DTSTAMP:20260423T105408Z
SUMMARY:Beichtgelegenheit
DESCRIPTION:https://pfarreien-bistum-augsburg.df-preview.de/beichtgelegenhe
 it_id1751632
DTSTART;TZID=Europe/Berlin:20260502T180000
DURATION:PT30M
LOCATION:St. Johannes Baptist
END:VEVENT
BEGIN:VEVENT
UID:sabre-vobject-be122073-2d6a-431a-a15c-610ca45b9770
DTSTAMP:20260423T105408Z
SUMMARY:Vorabendmesse\, Verabschiedung und Begrüßung des Pfarrgemeinderat
 es
DESCRIPTION:https://pfarreien-bistum-augsburg.df-preview.de/vorabendmesse-v
 erabschiedung-und-begruessung-des-pfarrgemeinderates_id1750151
DTSTART;TZID=Europe/Berlin:20260502T183000
DURATION:PT30M
LOCATION:St. Johannes Baptist
END:VEVENT
BEGIN:VEVENT
UID:sabre-vobject-701c3b02-1abe-43fa-8dd2-51709c2cf49f
DTSTAMP:20260423T105408Z
SUMMARY:Heilige Messe
DESCRIPTION:https://pfarreien-bistum-augsburg.df-preview.de/heilige-messe_i
 d1750152
DTSTART;TZID=Europe/Berlin:20260505T183000
DURATION:PT30M
LOCATION:St. Johannes Baptist
END:VEVENT
BEGIN:VEVENT
UID:sabre-vobject-0adf1efd-7631-4b5d-ae39-0aef60d54e53
DTSTAMP:20260423T105408Z
SUMMARY:Friedensgebet an der Kirche
DESCRIPTION:https://pfarreien-bistum-augsburg.df-preview.de/friedensgebet-a
 n-der-kirche_id1751633
DTSTART;TZID=Europe/Berlin:20260506T183000
DURATION:PT30M
LOCATION:St. Johannes Baptist
END:VEVENT
BEGIN:VEVENT
UID:sabre-vobject-74e96588-1c64-4b90-bba1-0f686ab35943
DTSTAMP:20260423T105408Z
SUMMARY:Pfarrgottesdienst für die Lebenden und Verstorbenen der Pfarreieng
 emeinschaft
DESCRIPTION:https://pfarreien-bistum-augsburg.df-preview.de/pfarrgottesdien
 st-fuer-die-lebenden-und-verstorbenen-der-pfarreiengemeinschaft_id1751659
DTSTART;TZID=Europe/Berlin:20260510T083000
DURATION:PT30M
LOCATION:St. Johannes Baptist
END:VEVENT
BEGIN:VEVENT
UID:sabre-vobject-6ce42912-eb47-4e8d-a37d-fabb83e62b80
DTSTAMP:20260423T105408Z
SUMMARY:Maiandacht
DESCRIPTION:https://pfarreien-bistum-augsburg.df-preview.de/maiandacht_id17
 51426
DTSTART;TZID=Europe/Berlin:20260510T183000
DURATION:PT30M
LOCATION:St. Johannes Baptist
END:VEVENT
BEGIN:VEVENT
UID:sabre-vobject-d3d5ea68-c902-440b-9cd6-3f0f64bb5d34
DTSTAMP:20260423T105408Z
SUMMARY:Bittmesse und Flurumgang
DESCRIPTION:https://pfarreien-bistum-augsburg.df-preview.de/bittmesse-und-f
 lurumgang_id1751469
DTSTART;TZID=Europe/Berlin:20260512T183000
DURATION:PT30M
LOCATION:St. Johannes Baptist
END:VEVENT
BEGIN:VEVENT
UID:sabre-vobject-018c9ca5-12cc-4279-a564-1b1a83292326
DTSTAMP:20260423T105408Z
SUMMARY:Ewige Anbetung
DESCRIPTION:https://pfarreien-bistum-augsburg.df-preview.de/ewige-anbetung_
 id1751470
DTSTART;TZID=Europe/Berlin:20260514T080000
DURATION:PT30M
LOCATION:St. Johannes Baptist
END:VEVENT
BEGIN:VEVENT
UID:sabre-vobject-0fc323f0-ec45-48da-b8a6-91d599036547
DTSTAMP:20260423T105408Z
SUMMARY:Festgottesdienst Christi Himmelfahrt
DESCRIPTION:https://pfarreien-bistum-augsburg.df-preview.de/festgottesdiens
 t-christi-himmelfahrt_id1751471
DTSTART;TZID=Europe/Berlin:20260514T083000
DURATION:PT30M
LOCATION:St. Johannes Baptist
END:VEVENT
BEGIN:VEVENT
UID:sabre-vobject-89ee657f-4457-4d79-8765-dcb89b7d9a6f
DTSTAMP:20260423T105408Z
SUMMARY:Taufe Lucia Neumayr
DESCRIPTION:https://pfarreien-bistum-augsburg.df-preview.de/taufe-lucia-neu
 mayr_id1751200
DTSTART;TZID=Europe/Berlin:20260516T140000
DURATION:PT30M
LOCATION:St. Johannes Baptist
END:VEVENT
BEGIN:VEVENT
UID:sabre-vobject-8848d404-f822-4e91-a623-515afc571fbf
DTSTAMP:20260423T105408Z
SUMMARY:Beichtgelegenheit
DESCRIPTION:https://pfarreien-bistum-augsburg.df-preview.de/beichtgelegenhe
 it_id1751201
DTSTART;TZID=Europe/Berlin:20260516T180000
DURATION:PT30M
LOCATION:St. Johannes Baptist
END:VEVENT
BEGIN:VEVENT
UID:sabre-vobject-08c92e92-4ad1-4a67-8e40-60e2fcc1f419
DTSTAMP:20260423T105408Z
SUMMARY:Vorabendmesse
DESCRIPTION:https://pfarreien-bistum-augsburg.df-preview.de/vorabendmesse_i
 d1751202
DTSTART;TZID=Europe/Berlin:20260516T183000
DURATION:PT30M
LOCATION:St. Johannes Baptist
END:VEVENT
BEGIN:VEVENT
UID:sabre-vobject-73b2f251-2dc9-4365-9c00-eda30d8de05a
DTSTAMP:20260423T105408Z
SUMMARY:Heilige Messe
DESCRIPTION:https://pfarreien-bistum-augsburg.df-preview.de/heilige-messe_i
 d1751203
DTSTART;TZID=Europe/Berlin:20260519T183000
DURATION:PT30M
LOCATION:St. Johannes Baptist
END:VEVENT
END:VCALENDAR
