BEGIN:VCALENDAR
VERSION:2.0
PRODID:-//Sabre//Sabre VObject 4.5.8//EN
CALSCALE:GREGORIAN
NAME:Bistum Augsburg
X-WR-CALNAME:Bistum Augsburg
BEGIN:VEVENT
UID:sabre-vobject-832d6d07-0152-42df-a858-d2d600a46d74
DTSTAMP:20260424T223733Z
SUMMARY:Wallfahrtsgottesdienst der Pfarrei Herrenstetten
DESCRIPTION:https://pfarreien-bistum-augsburg.df-preview.de/wallfahrtsgotte
 sdienst-der-pfarrei-herrenstetten_id1747784
DTSTART;TZID=Europe/Berlin:20260501T090000
DURATION:PT30M
LOCATION:Zur schmerzhaften Muttergottes
END:VEVENT
END:VCALENDAR
