BEGIN:VCALENDAR
VERSION:2.0
PRODID:-//Sabre//Sabre VObject 4.5.8//EN
CALSCALE:GREGORIAN
NAME:Bistum Augsburg
X-WR-CALNAME:Bistum Augsburg
BEGIN:VEVENT
UID:sabre-vobject-d012f7bd-aa28-4c94-aedc-4c02ec286088
DTSTAMP:20260420T215441Z
SUMMARY:Heilige Messe
DESCRIPTION:https://pfarreien-bistum-augsburg.df-preview.de/heilige-messe_i
 d1738844
DTSTART;TZID=Europe/Berlin:20260426T110000
DURATION:PT30M
LOCATION:St. Thomas Morus
END:VEVENT
BEGIN:VEVENT
UID:sabre-vobject-9adbe793-641c-400d-8829-f5d4237754ea
DTSTAMP:20260420T215441Z
SUMMARY:Heilige Messe
DESCRIPTION:https://pfarreien-bistum-augsburg.df-preview.de/heilige-messe_i
 d1740100
DTSTART;TZID=Europe/Berlin:20260503T110000
DURATION:PT30M
LOCATION:St. Thomas Morus
END:VEVENT
BEGIN:VEVENT
UID:sabre-vobject-93c98947-3ad3-4934-a2c6-7d0da63c247d
DTSTAMP:20260420T215441Z
SUMMARY:Spätmesse PLUS\, mit neuen geistlichen Liedern
DESCRIPTION:https://pfarreien-bistum-augsburg.df-preview.de/spaetmesse-plus
 -mit-neuen-geistlichen-liedern_id1740101
DTSTART;TZID=Europe/Berlin:20260503T201000
DURATION:PT30M
LOCATION:St. Thomas Morus
END:VEVENT
BEGIN:VEVENT
UID:sabre-vobject-a52cc771-5218-4b47-8f0e-128448110590
DTSTAMP:20260420T215441Z
SUMMARY:Heilige Messe im Pflegeheim am Lohwald
DESCRIPTION:https://pfarreien-bistum-augsburg.df-preview.de/heilige-messe-i
 m-pflegeheim-am-lohwald_id1740102
DTSTART;TZID=Europe/Berlin:20260505T100000
DURATION:PT30M
LOCATION:St. Thomas Morus
END:VEVENT
END:VCALENDAR
