BEGIN:VCALENDAR
VERSION:2.0
PRODID:-//Sabre//Sabre VObject 4.5.8//EN
CALSCALE:GREGORIAN
NAME:Bistum Augsburg
X-WR-CALNAME:Bistum Augsburg
BEGIN:VEVENT
UID:sabre-vobject-8ea8ca8f-3885-4c25-ad1a-3c17e240e2b7
DTSTAMP:20260422T084233Z
SUMMARY:Rosenkranz
DESCRIPTION:https://pfarreien-bistum-augsburg.df-preview.de/rosenkranz_id16
 92718
DTSTART;TZID=Europe/Berlin:20260423T184500
DURATION:PT30M
LOCATION:St. Laurentius\, Hauptstraße 22\, 87662 Frankenhofen
END:VEVENT
BEGIN:VEVENT
UID:sabre-vobject-74b998a2-519d-4181-bbe0-1f751f55849f
DTSTAMP:20260422T084233Z
SUMMARY:Rosenkranz
DESCRIPTION:https://pfarreien-bistum-augsburg.df-preview.de/rosenkranz_id17
 37076
DTSTART;TZID=Europe/Berlin:20260423T184500
DURATION:PT30M
LOCATION:St. Laurentius\, Hauptstraße 22\, 87662 Frankenhofen
END:VEVENT
BEGIN:VEVENT
UID:sabre-vobject-9dcf415e-b5e3-43db-b651-b66678cc8e38
DTSTAMP:20260422T084233Z
SUMMARY:Hl. Messe
DESCRIPTION:https://pfarreien-bistum-augsburg.df-preview.de/hl-messe_id1692
 719
DTSTART;TZID=Europe/Berlin:20260423T191500
DURATION:PT30M
LOCATION:St. Laurentius\, Hauptstraße 22\, 87662 Frankenhofen
END:VEVENT
BEGIN:VEVENT
UID:sabre-vobject-83b8ae51-18d6-4bfa-a594-f3e20fdb29e9
DTSTAMP:20260422T084233Z
SUMMARY:Hl. Messe
DESCRIPTION:https://pfarreien-bistum-augsburg.df-preview.de/hl-messe_id1737
 077
DTSTART;TZID=Europe/Berlin:20260423T191500
DURATION:PT30M
LOCATION:St. Laurentius\, Hauptstraße 22\, 87662 Frankenhofen
END:VEVENT
BEGIN:VEVENT
UID:sabre-vobject-1eb29b32-6ff8-48d3-adbb-8aa1bb7fa1c7
DTSTAMP:20260422T084233Z
SUMMARY:Rosenkranz
DESCRIPTION:https://pfarreien-bistum-augsburg.df-preview.de/rosenkranz_id16
 92720
DTSTART;TZID=Europe/Berlin:20260425T184500
DURATION:PT30M
LOCATION:St. Laurentius\, Hauptstraße 22\, 87662 Frankenhofen
END:VEVENT
BEGIN:VEVENT
UID:sabre-vobject-3a5c3cf3-63ab-4bfa-81ca-04dc1611da72
DTSTAMP:20260422T084233Z
SUMMARY:Rosenkranz
DESCRIPTION:https://pfarreien-bistum-augsburg.df-preview.de/rosenkranz_id17
 37078
DTSTART;TZID=Europe/Berlin:20260425T184500
DURATION:PT30M
LOCATION:St. Laurentius\, Hauptstraße 22\, 87662 Frankenhofen
END:VEVENT
BEGIN:VEVENT
UID:sabre-vobject-0e503f89-f01d-47e1-9a29-5cd0c4c7b230
DTSTAMP:20260422T084233Z
SUMMARY:Vorabendgottesdienst
DESCRIPTION:https://pfarreien-bistum-augsburg.df-preview.de/vorabendgottesd
 ienst_id1692721
DTSTART;TZID=Europe/Berlin:20260425T191500
DURATION:PT30M
LOCATION:St. Laurentius\, Hauptstraße 22\, 87662 Frankenhofen
END:VEVENT
BEGIN:VEVENT
UID:sabre-vobject-b9c4ee9b-30fc-424d-996f-4c58e09a16f9
DTSTAMP:20260422T084233Z
SUMMARY:Vorabendgottesdienst
DESCRIPTION:https://pfarreien-bistum-augsburg.df-preview.de/vorabendgottesd
 ienst_id1737079
DTSTART;TZID=Europe/Berlin:20260425T191500
DURATION:PT30M
LOCATION:St. Laurentius\, Hauptstraße 22\, 87662 Frankenhofen
END:VEVENT
BEGIN:VEVENT
UID:sabre-vobject-3271a2a2-2b11-45b2-bd4c-b932c5f754fd
DTSTAMP:20260422T084233Z
SUMMARY:Trauung - Patricia Gröger u. Michael Ullmann
DESCRIPTION:https://pfarreien-bistum-augsburg.df-preview.de/trauung-patrici
 a-groeger-u-michael-ullmann_id1737165
DTSTART;TZID=Europe/Berlin:20260502T130000
DURATION:PT30M
LOCATION:St. Laurentius\, Hauptstraße 22\, 87662 Frankenhofen
END:VEVENT
BEGIN:VEVENT
UID:sabre-vobject-ec8f6116-b44d-4753-96b3-c87a0b855472
DTSTAMP:20260422T084233Z
SUMMARY:Rosenkranz
DESCRIPTION:https://pfarreien-bistum-augsburg.df-preview.de/rosenkranz_id17
 37310
DTSTART;TZID=Europe/Berlin:20260502T184500
DURATION:PT30M
LOCATION:St. Laurentius\, Hauptstraße 22\, 87662 Frankenhofen
END:VEVENT
BEGIN:VEVENT
UID:sabre-vobject-74e02efe-66af-42cd-9098-e933a52dd4cb
DTSTAMP:20260422T084233Z
SUMMARY:Sonntagsgottesdienst
DESCRIPTION:https://pfarreien-bistum-augsburg.df-preview.de/sonntagsgottesd
 ienst_id1737299
DTSTART;TZID=Europe/Berlin:20260503T084500
DURATION:PT30M
LOCATION:St. Laurentius\, Hauptstraße 22\, 87662 Frankenhofen
END:VEVENT
BEGIN:VEVENT
UID:sabre-vobject-427d4d7e-feb0-4296-9943-bacf61b315c0
DTSTAMP:20260422T084233Z
SUMMARY:Rosenkranz
DESCRIPTION:https://pfarreien-bistum-augsburg.df-preview.de/rosenkranz_id17
 37300
DTSTART;TZID=Europe/Berlin:20260507T184500
DURATION:PT30M
LOCATION:St. Laurentius\, Hauptstraße 22\, 87662 Frankenhofen
END:VEVENT
BEGIN:VEVENT
UID:sabre-vobject-5b1c7a1f-1eb0-4ad0-b2de-95f5cbec7194
DTSTAMP:20260422T084233Z
SUMMARY:Hl. Messe
DESCRIPTION:https://pfarreien-bistum-augsburg.df-preview.de/hl-messe_id1737
 301
DTSTART;TZID=Europe/Berlin:20260507T191500
DURATION:PT30M
LOCATION:St. Laurentius\, Hauptstraße 22\, 87662 Frankenhofen
END:VEVENT
BEGIN:VEVENT
UID:sabre-vobject-a0538692-82ac-4a40-b0a7-d08e5495af8d
DTSTAMP:20260422T084233Z
SUMMARY:Rosenkranz
DESCRIPTION:https://pfarreien-bistum-augsburg.df-preview.de/rosenkranz_id17
 37302
DTSTART;TZID=Europe/Berlin:20260509T184500
DURATION:PT30M
LOCATION:St. Laurentius\, Hauptstraße 22\, 87662 Frankenhofen
END:VEVENT
BEGIN:VEVENT
UID:sabre-vobject-7c29aac1-e007-4d70-afef-feee64296a00
DTSTAMP:20260422T084233Z
SUMMARY:Vorabendgottesdienst
DESCRIPTION:https://pfarreien-bistum-augsburg.df-preview.de/vorabendgottesd
 ienst_id1737303
DTSTART;TZID=Europe/Berlin:20260509T191500
DURATION:PT30M
LOCATION:St. Laurentius\, Hauptstraße 22\, 87662 Frankenhofen
END:VEVENT
BEGIN:VEVENT
UID:sabre-vobject-8415d01a-2da4-41e9-9485-bb8cdef2c529
DTSTAMP:20260422T084233Z
SUMMARY:Bittgang der Pfarrgemeinden Aufkirch\, Osterzell und Frankenhofen z
 ur Kirche nach Frankenhofen (bei schlechtem Wetter\, Bittmesse in Frankenh
 ofen um 19.15 Uhr)
DESCRIPTION:https://pfarreien-bistum-augsburg.df-preview.de/bittgang-der-pf
 arrgemeinden-aufkirch-osterzell-und-frankenhofen-zur-kirche-nach-frankenho
 fen-bei-schlechtem-wetter-bittmesse-in-frankenhofen-um-19-15-uhr_id1737304
DTSTART;TZID=Europe/Berlin:20260512T184500
DURATION:PT30M
LOCATION:St. Laurentius\, Hauptstraße 22\, 87662 Frankenhofen
END:VEVENT
BEGIN:VEVENT
UID:sabre-vobject-f312759f-2bc6-491c-917b-28908430f28f
DTSTAMP:20260422T084233Z
SUMMARY:Rosenkranz
DESCRIPTION:https://pfarreien-bistum-augsburg.df-preview.de/rosenkranz_id17
 37305
DTSTART;TZID=Europe/Berlin:20260516T184500
DURATION:PT30M
LOCATION:St. Laurentius\, Hauptstraße 22\, 87662 Frankenhofen
END:VEVENT
BEGIN:VEVENT
UID:sabre-vobject-0d19b65e-2e9b-42da-8e07-638d0d9fb189
DTSTAMP:20260422T084233Z
SUMMARY:Gemeindegottesdienst mit Flurumgang\n  -bei schlechtem Wetter\, ent
 fällt der Flurumgang-
DESCRIPTION:https://pfarreien-bistum-augsburg.df-preview.de/gemeindegottesd
 ienst-mit-flurumgang-bei-schlechtem-wetter-entfaellt-der-flurumgang_id1737
 179
DTSTART;TZID=Europe/Berlin:20260517T101500
DURATION:PT30M
LOCATION:St. Laurentius\, Hauptstraße 22\, 87662 Frankenhofen
END:VEVENT
BEGIN:VEVENT
UID:sabre-vobject-91ddf910-4dfe-44f6-a222-e62c98d01d5d
DTSTAMP:20260422T084233Z
SUMMARY:Rosenkranz
DESCRIPTION:https://pfarreien-bistum-augsburg.df-preview.de/rosenkranz_id17
 37180
DTSTART;TZID=Europe/Berlin:20260521T184500
DURATION:PT30M
LOCATION:St. Laurentius\, Hauptstraße 22\, 87662 Frankenhofen
END:VEVENT
BEGIN:VEVENT
UID:sabre-vobject-afbae269-be78-4823-ac48-b42182a0176f
DTSTAMP:20260422T084233Z
SUMMARY:Hl. Messe
DESCRIPTION:https://pfarreien-bistum-augsburg.df-preview.de/hl-messe_id1737
 181
DTSTART;TZID=Europe/Berlin:20260521T191500
DURATION:PT30M
LOCATION:St. Laurentius\, Hauptstraße 22\, 87662 Frankenhofen
END:VEVENT
BEGIN:VEVENT
UID:sabre-vobject-0c5dba2b-3d50-4e9e-b7da-22f7f28779c2
DTSTAMP:20260422T084233Z
SUMMARY:Tauffeier - Levi Karl Korff
DESCRIPTION:https://pfarreien-bistum-augsburg.df-preview.de/tauffeier-levi-
 karl-korff_id1737191
DTSTART;TZID=Europe/Berlin:20260523T140000
DURATION:PT30M
LOCATION:St. Laurentius\, Hauptstraße 22\, 87662 Frankenhofen
END:VEVENT
BEGIN:VEVENT
UID:sabre-vobject-c8e21464-e4ce-4ff2-ae04-506a4ba7f3c7
DTSTAMP:20260422T084233Z
SUMMARY:Rosenkranz
DESCRIPTION:https://pfarreien-bistum-augsburg.df-preview.de/rosenkranz_id17
 37204
DTSTART;TZID=Europe/Berlin:20260523T184500
DURATION:PT30M
LOCATION:St. Laurentius\, Hauptstraße 22\, 87662 Frankenhofen
END:VEVENT
BEGIN:VEVENT
UID:sabre-vobject-3c1d08ac-aa21-41b8-a877-5dd24ec24ac7
DTSTAMP:20260422T084233Z
SUMMARY:Vorabendgottesdienst
DESCRIPTION:https://pfarreien-bistum-augsburg.df-preview.de/vorabendgottesd
 ienst_id1737205
DTSTART;TZID=Europe/Berlin:20260523T191500
DURATION:PT30M
LOCATION:St. Laurentius\, Hauptstraße 22\, 87662 Frankenhofen
END:VEVENT
BEGIN:VEVENT
UID:sabre-vobject-3b8149c0-dd31-40a0-9baf-3faa66bce6b1
DTSTAMP:20260422T084233Z
SUMMARY:Tauffeier - Anton Lachner
DESCRIPTION:https://pfarreien-bistum-augsburg.df-preview.de/tauffeier-anton
 -lachner_id1737206
DTSTART;TZID=Europe/Berlin:20260524T113000
DURATION:PT30M
LOCATION:St. Laurentius\, Hauptstraße 22\, 87662 Frankenhofen
END:VEVENT
BEGIN:VEVENT
UID:sabre-vobject-466c7932-3f0d-496a-b2cd-d8de2af2c604
DTSTAMP:20260422T084233Z
SUMMARY:Rosenkranz
DESCRIPTION:https://pfarreien-bistum-augsburg.df-preview.de/rosenkranz_id17
 37207
DTSTART;TZID=Europe/Berlin:20260530T184500
DURATION:PT30M
LOCATION:St. Laurentius\, Hauptstraße 22\, 87662 Frankenhofen
END:VEVENT
BEGIN:VEVENT
UID:sabre-vobject-9634aca8-8d98-4a56-b332-f4bb08c7cb9f
DTSTAMP:20260422T084233Z
SUMMARY:Sonntagsgottesdienst
DESCRIPTION:https://pfarreien-bistum-augsburg.df-preview.de/sonntagsgottesd
 ienst_id1737208
DTSTART;TZID=Europe/Berlin:20260531T084500
DURATION:PT30M
LOCATION:St. Laurentius\, Hauptstraße 22\, 87662 Frankenhofen
END:VEVENT
BEGIN:VEVENT
UID:sabre-vobject-335b9d42-7c33-41b2-9494-341e320d3200
DTSTAMP:20260422T084233Z
SUMMARY:Barockkonzert mit Marienliedern
DESCRIPTION:https://pfarreien-bistum-augsburg.df-preview.de/barockkonzert-m
 it-marienliedern_id1737213
DTSTART;TZID=Europe/Berlin:20260531T170000
DURATION:PT30M
LOCATION:St. Laurentius\, Hauptstraße 22\, 87662 Frankenhofen
END:VEVENT
END:VCALENDAR
