BEGIN:VCALENDAR
VERSION:2.0
PRODID:-//Sabre//Sabre VObject 4.5.8//EN
CALSCALE:GREGORIAN
NAME:Bistum Augsburg
X-WR-CALNAME:Bistum Augsburg
BEGIN:VEVENT
UID:sabre-vobject-25ddb727-052c-4998-8dcc-1dd9ff3326b8
DTSTAMP:20260420T214536Z
SUMMARY:Rosenkranz
DESCRIPTION:https://pfarreien-bistum-augsburg.df-preview.de/rosenkranz_id17
 07931
DTSTART;TZID=Europe/Berlin:20260420T082500
DURATION:PT30M
LOCATION:St. Nikolaus
END:VEVENT
BEGIN:VEVENT
UID:sabre-vobject-1a30651e-fc7a-4d88-9794-7c88c7c70290
DTSTAMP:20260420T214536Z
SUMMARY:Messe mit Radio Horeb
DESCRIPTION:https://pfarreien-bistum-augsburg.df-preview.de/messe-mit-radio
 -horeb_id1707932
DTSTART;TZID=Europe/Berlin:20260420T090000
DURATION:PT30M
LOCATION:St. Nikolaus
END:VEVENT
BEGIN:VEVENT
UID:sabre-vobject-c642dacf-2195-414e-b836-5e1250d369f0
DTSTAMP:20260420T214536Z
SUMMARY:Rosenkranz
DESCRIPTION:https://pfarreien-bistum-augsburg.df-preview.de/rosenkranz_id17
 07642
DTSTART;TZID=Europe/Berlin:20260421T092500
DURATION:PT30M
LOCATION:St. Josef
END:VEVENT
BEGIN:VEVENT
UID:sabre-vobject-c3128384-4b18-4b91-b8d2-f0d7a571d721
DTSTAMP:20260420T214536Z
SUMMARY:Messe\, anschl. Anbetung bis 12 Uhr
DESCRIPTION:https://pfarreien-bistum-augsburg.df-preview.de/messe-anschl-an
 betung-bis-12-uhr_id1707619
DTSTART;TZID=Europe/Berlin:20260421T100000
DURATION:PT30M
LOCATION:St. Josef
END:VEVENT
BEGIN:VEVENT
UID:sabre-vobject-d19cf9b4-f383-4f0d-bef6-b85e762998af
DTSTAMP:20260420T214536Z
SUMMARY:Rosenkranz
DESCRIPTION:https://pfarreien-bistum-augsburg.df-preview.de/rosenkranz_id17
 07933
DTSTART;TZID=Europe/Berlin:20260422T092500
DURATION:PT30M
LOCATION:St. Nikolaus
END:VEVENT
BEGIN:VEVENT
UID:sabre-vobject-ea4529d2-8fb9-4f96-9e20-5442d980a474
DTSTAMP:20260420T214536Z
SUMMARY:Messe
DESCRIPTION:https://pfarreien-bistum-augsburg.df-preview.de/messe_id1708116
DTSTART;TZID=Europe/Berlin:20260422T100000
DURATION:PT30M
LOCATION:St. Nikolaus
END:VEVENT
BEGIN:VEVENT
UID:sabre-vobject-5f54de59-2c0e-4ad1-8789-eb93874aa514
DTSTAMP:20260420T214536Z
SUMMARY:Rosenkranz\, Gebet um Frieden
DESCRIPTION:https://pfarreien-bistum-augsburg.df-preview.de/rosenkranz-gebe
 t-um-frieden_id1708117
DTSTART;TZID=Europe/Berlin:20260422T180000
DURATION:PT30M
LOCATION:St. Nikolaus
END:VEVENT
BEGIN:VEVENT
UID:sabre-vobject-70784d42-5050-4c25-b62c-6ef941b9676a
DTSTAMP:20260420T214536Z
SUMMARY:Rosenkranz
DESCRIPTION:https://pfarreien-bistum-augsburg.df-preview.de/rosenkranz_id17
 07637
DTSTART;TZID=Europe/Berlin:20260423T082500
DURATION:PT30M
LOCATION:St. Josef
END:VEVENT
BEGIN:VEVENT
UID:sabre-vobject-2dfcf172-e75d-4694-9478-2aa52dd3c4db
DTSTAMP:20260420T214536Z
SUMMARY:Messe
DESCRIPTION:https://pfarreien-bistum-augsburg.df-preview.de/messe_id1707639
DTSTART;TZID=Europe/Berlin:20260423T090000
DURATION:PT30M
LOCATION:St. Josef
END:VEVENT
BEGIN:VEVENT
UID:sabre-vobject-cf2ab0a3-7144-472a-9ab5-55cdc42c0ef8
DTSTAMP:20260420T214536Z
SUMMARY:Rosenkranz meditativ
DESCRIPTION:https://pfarreien-bistum-augsburg.df-preview.de/rosenkranz-medi
 tativ_id1707585
DTSTART;TZID=Europe/Berlin:20260423T170000
DURATION:PT30M
LOCATION:St. Stephan
END:VEVENT
BEGIN:VEVENT
UID:sabre-vobject-c7ca399a-efa3-4662-b522-18b522c41fa5
DTSTAMP:20260420T214536Z
SUMMARY:Messe
DESCRIPTION:https://pfarreien-bistum-augsburg.df-preview.de/messe_id1707586
DTSTART;TZID=Europe/Berlin:20260423T190000
DURATION:PT30M
LOCATION:St. Stephan
END:VEVENT
BEGIN:VEVENT
UID:sabre-vobject-77425542-c911-4b29-9d77-139be01b11d6
DTSTAMP:20260420T214536Z
SUMMARY:Rosenkranz
DESCRIPTION:https://pfarreien-bistum-augsburg.df-preview.de/rosenkranz_id17
 07643
DTSTART;TZID=Europe/Berlin:20260424T082500
DURATION:PT30M
LOCATION:St. Josef
END:VEVENT
BEGIN:VEVENT
UID:sabre-vobject-308033c7-a38f-446c-b6da-69f85117633b
DTSTAMP:20260420T214536Z
SUMMARY:Messe
DESCRIPTION:https://pfarreien-bistum-augsburg.df-preview.de/messe_id1707644
DTSTART;TZID=Europe/Berlin:20260424T090000
DURATION:PT30M
LOCATION:St. Josef
END:VEVENT
BEGIN:VEVENT
UID:sabre-vobject-ba2e3b56-d8ac-43f2-8a75-5bf39f3829b3
DTSTAMP:20260420T214536Z
SUMMARY:Laudes
DESCRIPTION:https://pfarreien-bistum-augsburg.df-preview.de/laudes_id170735
 3
DTSTART;TZID=Europe/Berlin:20260425T090000
DURATION:PT30M
LOCATION:St. Josef
END:VEVENT
BEGIN:VEVENT
UID:sabre-vobject-37d8dbc7-d6cc-4152-a718-4ec9a5762db8
DTSTAMP:20260420T214536Z
SUMMARY:Rosenkranz und Beichtgelegenheit
DESCRIPTION:https://pfarreien-bistum-augsburg.df-preview.de/rosenkranz-und-
 beichtgelegenheit_id1707354
DTSTART;TZID=Europe/Berlin:20260425T175000
DURATION:PT30M
LOCATION:St. Josef
END:VEVENT
BEGIN:VEVENT
UID:sabre-vobject-5deda81c-9da8-4f5a-9495-35798dd00ad7
DTSTAMP:20260420T214536Z
SUMMARY:Messe
DESCRIPTION:https://pfarreien-bistum-augsburg.df-preview.de/messe_id1707355
DTSTART;TZID=Europe/Berlin:20260425T183000
DURATION:PT30M
LOCATION:St. Josef
END:VEVENT
BEGIN:VEVENT
UID:sabre-vobject-7dfa1778-782f-4d58-8804-7ff26ac7d988
DTSTAMP:20260420T214536Z
SUMMARY:Rosenkranz und Beichtgelegenheit
DESCRIPTION:https://pfarreien-bistum-augsburg.df-preview.de/rosenkranz-und-
 beichtgelegenheit_id1707587
DTSTART;TZID=Europe/Berlin:20260426T082000
DURATION:PT30M
LOCATION:St. Stephan
END:VEVENT
BEGIN:VEVENT
UID:sabre-vobject-a9422638-0e7b-4148-9b0a-224662563b3a
DTSTAMP:20260420T214536Z
SUMMARY:Messe
DESCRIPTION:https://pfarreien-bistum-augsburg.df-preview.de/messe_id1708118
DTSTART;TZID=Europe/Berlin:20260426T084500
DURATION:PT30M
LOCATION:St. Nikolaus
END:VEVENT
BEGIN:VEVENT
UID:sabre-vobject-2fe154c7-ceb9-4c63-a916-a386bd836626
DTSTAMP:20260420T214536Z
SUMMARY:Messe
DESCRIPTION:https://pfarreien-bistum-augsburg.df-preview.de/messe_id1707588
DTSTART;TZID=Europe/Berlin:20260426T090000
DURATION:PT30M
LOCATION:St. Stephan
END:VEVENT
BEGIN:VEVENT
UID:sabre-vobject-d58ae587-0f6a-41c0-82a5-f81a65c7a57a
DTSTAMP:20260420T214536Z
SUMMARY:Rosenkranz
DESCRIPTION:https://pfarreien-bistum-augsburg.df-preview.de/rosenkranz_id17
 08119
DTSTART;TZID=Europe/Berlin:20260426T095000
DURATION:PT30M
LOCATION:St. Nikolaus
END:VEVENT
BEGIN:VEVENT
UID:sabre-vobject-0d1394d3-9632-43d2-96bd-0244070c7832
DTSTAMP:20260420T214536Z
SUMMARY:Messe
DESCRIPTION:https://pfarreien-bistum-augsburg.df-preview.de/messe_id1708176
DTSTART;TZID=Europe/Berlin:20260426T103000
DURATION:PT30M
LOCATION:St. Nikolaus
END:VEVENT
END:VCALENDAR
