BEGIN:VCALENDAR
VERSION:2.0
PRODID:-//Sabre//Sabre VObject 4.5.8//EN
CALSCALE:GREGORIAN
NAME:Bistum Augsburg
X-WR-CALNAME:Bistum Augsburg
BEGIN:VEVENT
UID:sabre-vobject-7ecddf8e-f6f0-45ee-9f88-65d6050855ad
DTSTAMP:20260422T134307Z
SUMMARY:Abendmesse
DESCRIPTION:https://pfarreien-bistum-augsburg.df-preview.de/abendmesse_id17
 13225
DTSTART;TZID=Europe/Berlin:20260422T190000
DURATION:PT30M
LOCATION:St. Ulrich
END:VEVENT
BEGIN:VEVENT
UID:sabre-vobject-6e1800b4-acdd-4b9a-a1be-86b0d972e945
DTSTAMP:20260422T134307Z
SUMMARY:Vorabendmesse
DESCRIPTION:https://pfarreien-bistum-augsburg.df-preview.de/vorabendmesse_i
 d1713226
DTSTART;TZID=Europe/Berlin:20260425T190000
DURATION:PT30M
LOCATION:St. Ulrich
END:VEVENT
BEGIN:VEVENT
UID:sabre-vobject-127168a0-dacc-4eb1-a524-190d1fd364a3
DTSTAMP:20260422T134307Z
SUMMARY:Oase\, gemeinsames Singen und Beten
DESCRIPTION:https://pfarreien-bistum-augsburg.df-preview.de/oase-gemeinsame
 s-singen-und-beten_id1713229
DTSTART;TZID=Europe/Berlin:20260426T193000
DURATION:PT30M
LOCATION:St. Ulrich
END:VEVENT
BEGIN:VEVENT
UID:sabre-vobject-dd06bed5-f540-49c6-9b39-a2a9ec914f2a
DTSTAMP:20260422T134307Z
SUMMARY:Probe Erstkommunion
DESCRIPTION:https://pfarreien-bistum-augsburg.df-preview.de/probe-erstkommu
 nion_id1713101
DTSTART;TZID=Europe/Berlin:20260429T160000
DURATION:PT30M
LOCATION:St. Ulrich
END:VEVENT
BEGIN:VEVENT
UID:sabre-vobject-e30fdcc1-cdfc-441d-9ec3-a7e849df1249
DTSTAMP:20260422T134307Z
SUMMARY:Abendmesse
DESCRIPTION:https://pfarreien-bistum-augsburg.df-preview.de/abendmesse_id17
 13102
DTSTART;TZID=Europe/Berlin:20260429T190000
DURATION:PT30M
LOCATION:St. Ulrich
END:VEVENT
BEGIN:VEVENT
UID:sabre-vobject-6ac57ec2-6216-419b-b99c-cd82e58c055b
DTSTAMP:20260422T134307Z
SUMMARY:ERSTKOMMUNION\, es singt der Kinderchor
DESCRIPTION:https://pfarreien-bistum-augsburg.df-preview.de/erstkommunion-e
 s-singt-der-kinderchor_id1713104
DTSTART;TZID=Europe/Berlin:20260503T101500
DURATION:PT30M
LOCATION:St. Ulrich
END:VEVENT
BEGIN:VEVENT
UID:sabre-vobject-b246b78a-d4a5-4ff9-b77e-eabb3bce2aea
DTSTAMP:20260422T134307Z
SUMMARY:Feierliche Maiandacht in der Pfarrkirche
DESCRIPTION:https://pfarreien-bistum-augsburg.df-preview.de/feierliche-maia
 ndacht-in-der-pfarrkirche_id1713105
DTSTART;TZID=Europe/Berlin:20260506T190000
DURATION:PT30M
LOCATION:St. Ulrich
END:VEVENT
BEGIN:VEVENT
UID:sabre-vobject-bfeeef75-4822-4250-9a4b-3756af1bab58
DTSTAMP:20260422T134307Z
SUMMARY:Heilige Messe
DESCRIPTION:https://pfarreien-bistum-augsburg.df-preview.de/heilige-messe_i
 d1713106
DTSTART;TZID=Europe/Berlin:20260510T084500
DURATION:PT30M
LOCATION:St. Ulrich
END:VEVENT
BEGIN:VEVENT
UID:sabre-vobject-eadb1176-7835-48b2-93c2-0e4d7c5c97be
DTSTAMP:20260422T134307Z
SUMMARY:Heilige Messe\, anschl. Pfarrfest
DESCRIPTION:https://pfarreien-bistum-augsburg.df-preview.de/heilige-messe-a
 nschl-pfarrfest_id1713103
DTSTART;TZID=Europe/Berlin:20260514T101500
DURATION:PT30M
LOCATION:St. Ulrich
END:VEVENT
BEGIN:VEVENT
UID:sabre-vobject-692f127d-4a2e-4399-8b97-fa89f0eab0ff
DTSTAMP:20260422T134307Z
SUMMARY:Heilige Messe
DESCRIPTION:https://pfarreien-bistum-augsburg.df-preview.de/heilige-messe_i
 d1713107
DTSTART;TZID=Europe/Berlin:20260517T101500
DURATION:PT30M
LOCATION:St. Ulrich
END:VEVENT
BEGIN:VEVENT
UID:sabre-vobject-b0abf074-bd47-4a96-84a5-654ac1f17c5c
DTSTAMP:20260422T134307Z
SUMMARY:Maiandacht Grotte
DESCRIPTION:https://pfarreien-bistum-augsburg.df-preview.de/maiandacht-grot
 te_id1713108
DTSTART;TZID=Europe/Berlin:20260520T190000
DURATION:PT30M
LOCATION:St. Ulrich
END:VEVENT
BEGIN:VEVENT
UID:sabre-vobject-464b51b2-d034-495c-b42a-590b66ac43d5
DTSTAMP:20260422T134307Z
SUMMARY:Hochamt\, es singt der Kirchenchor
DESCRIPTION:https://pfarreien-bistum-augsburg.df-preview.de/hochamt-es-sing
 t-der-kirchenchor_id1713109
DTSTART;TZID=Europe/Berlin:20260524T101500
DURATION:PT30M
LOCATION:St. Ulrich
END:VEVENT
END:VCALENDAR
