BEGIN:VCALENDAR
VERSION:2.0
PRODID:-//Sabre//Sabre VObject 4.5.8//EN
CALSCALE:GREGORIAN
NAME:Bistum Augsburg
X-WR-CALNAME:Bistum Augsburg
BEGIN:VEVENT
UID:sabre-vobject-c560dc4d-9265-4b06-b9e6-7c17c5fede1f
DTSTAMP:20260422T072726Z
SUMMARY:Hl. Messe
DESCRIPTION:https://pfarreien-bistum-augsburg.df-preview.de/hl-messe_id1712
 177
DTSTART;TZID=Europe/Berlin:20260422T191500
DURATION:PT30M
LOCATION:St. Remigius\, Kirchenweg 10\, 82399 Raisting
END:VEVENT
BEGIN:VEVENT
UID:sabre-vobject-7e827065-ac4b-4d11-9456-9c7636ba3f60
DTSTAMP:20260422T072726Z
SUMMARY:Hl. Messe
DESCRIPTION:https://pfarreien-bistum-augsburg.df-preview.de/hl-messe_id1712
 187
DTSTART;TZID=Europe/Berlin:20260422T191500
DURATION:PT30M
LOCATION:St. Valentin\, Peter-Kaufinger-Str. 13\, 82407 Wielenbach
END:VEVENT
BEGIN:VEVENT
UID:sabre-vobject-ac1482d0-aa23-4680-b63f-60b73d2a82c2
DTSTAMP:20260422T072726Z
SUMMARY:Hl. Messe
DESCRIPTION:https://pfarreien-bistum-augsburg.df-preview.de/hl-messe_id1712
 124
DTSTART;TZID=Europe/Berlin:20260423T191500
DURATION:PT30M
LOCATION:St. Laurentius
END:VEVENT
BEGIN:VEVENT
UID:sabre-vobject-baceedcc-aa84-4f17-901e-5acdfaaeac08
DTSTAMP:20260422T072726Z
SUMMARY:Hl. Messe
DESCRIPTION:https://pfarreien-bistum-augsburg.df-preview.de/hl-messe_id1712
 225
DTSTART;TZID=Europe/Berlin:20260423T191500
DURATION:PT30M
LOCATION:St. Peter
END:VEVENT
BEGIN:VEVENT
UID:sabre-vobject-05f30852-125c-4923-afbc-bc65242eeda9
DTSTAMP:20260422T072726Z
SUMMARY:Hl. Messe
DESCRIPTION:https://pfarreien-bistum-augsburg.df-preview.de/hl-messe_id1712
 226
DTSTART;TZID=Europe/Berlin:20260424T160000
DURATION:PT30M
LOCATION:St. Peter
END:VEVENT
BEGIN:VEVENT
UID:sabre-vobject-042b82b9-e1a9-41bd-a609-7c697d4c00f6
DTSTAMP:20260422T072726Z
SUMMARY:Markus-Bittgang nach St. Johann\; Hl. Messe
DESCRIPTION:https://pfarreien-bistum-augsburg.df-preview.de/markus-bittgang
 -nach-st-johann-hl-messe_id1712178
DTSTART;TZID=Europe/Berlin:20260424T190000
DURATION:PT30M
LOCATION:St. Remigius\, Kirchenweg 10\, 82399 Raisting
END:VEVENT
BEGIN:VEVENT
UID:sabre-vobject-7fd743ca-102c-4659-88c5-7d98ef7fbae1
DTSTAMP:20260422T072726Z
SUMMARY:bis 16:00 Gesprächs- und Beichtgelegenheit ohne Anmeldung im Pfarr
 haus\, Kirchenweg 10
DESCRIPTION:https://pfarreien-bistum-augsburg.df-preview.de/bis-16-00-gespr
 aechs-und-beichtgelegenheit-ohne-anmeldung-im-pfarrhaus-kirchenweg-10_id17
 11965
DTSTART;TZID=Europe/Berlin:20260425T153000
DURATION:PT30M
LOCATION:St. Remigius\, Kirchenweg 10\, 82399 Raisting
END:VEVENT
BEGIN:VEVENT
UID:sabre-vobject-de39c7e5-9dfb-47f1-915b-5b90c2647f79
DTSTAMP:20260422T072726Z
SUMMARY:Rosenkranz
DESCRIPTION:https://pfarreien-bistum-augsburg.df-preview.de/rosenkranz_id17
 12249
DTSTART;TZID=Europe/Berlin:20260425T160000
DURATION:PT30M
LOCATION:St. Laurentius
END:VEVENT
BEGIN:VEVENT
UID:sabre-vobject-dc3180d2-f1d5-4350-aaca-c293926b3b75
DTSTAMP:20260422T072726Z
SUMMARY:Rosenkranz für die Pfarrei
DESCRIPTION:https://pfarreien-bistum-augsburg.df-preview.de/rosenkranz-fuer
 -die-pfarrei_id1711966
DTSTART;TZID=Europe/Berlin:20260425T161500
DURATION:PT30M
LOCATION:St. Remigius\, Kirchenweg 10\, 82399 Raisting
END:VEVENT
BEGIN:VEVENT
UID:sabre-vobject-d23737f4-2bfa-4030-8f49-0ebb230518ae
DTSTAMP:20260422T072726Z
SUMMARY:Rosenkranz
DESCRIPTION:https://pfarreien-bistum-augsburg.df-preview.de/rosenkranz_id17
 12227
DTSTART;TZID=Europe/Berlin:20260425T163000
DURATION:PT30M
LOCATION:St. Peter
END:VEVENT
BEGIN:VEVENT
UID:sabre-vobject-cdba6906-82fb-4e2d-b66b-8cc4951eef8d
DTSTAMP:20260422T072726Z
SUMMARY:Vorabendmesse
DESCRIPTION:https://pfarreien-bistum-augsburg.df-preview.de/vorabendmesse_i
 d1712188
DTSTART;TZID=Europe/Berlin:20260425T191500
DURATION:PT30M
LOCATION:St. Valentin\, Peter-Kaufinger-Str. 13\, 82407 Wielenbach
END:VEVENT
BEGIN:VEVENT
UID:sabre-vobject-4a047aba-bce4-4759-af11-8d2aea5acb58
DTSTAMP:20260422T072726Z
SUMMARY:Vorabendmesse
DESCRIPTION:https://pfarreien-bistum-augsburg.df-preview.de/vorabendmesse_i
 d1712277
DTSTART;TZID=Europe/Berlin:20260425T191500
DURATION:PT30M
LOCATION:St. Pankratius
END:VEVENT
BEGIN:VEVENT
UID:sabre-vobject-ba51f203-b4cd-4803-8f0d-447c22fd810e
DTSTAMP:20260422T072726Z
SUMMARY:Hl. Messe
DESCRIPTION:https://pfarreien-bistum-augsburg.df-preview.de/hl-messe_id1712
 228
DTSTART;TZID=Europe/Berlin:20260426T083000
DURATION:PT30M
LOCATION:St. Peter
END:VEVENT
BEGIN:VEVENT
UID:sabre-vobject-a5fc8b16-6502-4fd2-b3dd-4c22b6918ffc
DTSTAMP:20260422T072726Z
SUMMARY:Hl. Messe - Veteranenstiftungsfest\; \nmusik. Gestaltung: Trachtenk
 apelle Pähl
DESCRIPTION:https://pfarreien-bistum-augsburg.df-preview.de/hl-messe-vetera
 nenstiftungsfest-musik-gestaltung-trachtenkapelle-paehl_id1712140
DTSTART;TZID=Europe/Berlin:20260426T090000
DURATION:PT30M
LOCATION:St. Laurentius
END:VEVENT
BEGIN:VEVENT
UID:sabre-vobject-6eaae0ee-aed0-4f2b-a722-9b5594ea2af8
DTSTAMP:20260422T072726Z
SUMMARY:Kirchenzug von der alten Schule - Hochamt zur Erstkommunion
DESCRIPTION:https://pfarreien-bistum-augsburg.df-preview.de/kirchenzug-von-
 der-alten-schule-hochamt-zur-erstkommunion_id1711900
DTSTART;TZID=Europe/Berlin:20260426T100000
DURATION:PT30M
LOCATION:St. Gallus
END:VEVENT
BEGIN:VEVENT
UID:sabre-vobject-c4a99293-7066-4484-addc-56c0b55c184c
DTSTAMP:20260422T072726Z
SUMMARY:Kirchenzug vom Pfarrheim - Hochamt zur Erstkommunion
DESCRIPTION:https://pfarreien-bistum-augsburg.df-preview.de/kirchenzug-vom-
 pfarrheim-hochamt-zur-erstkommunion_id1711967
DTSTART;TZID=Europe/Berlin:20260426T100000
DURATION:PT30M
LOCATION:St. Remigius\, Kirchenweg 10\, 82399 Raisting
END:VEVENT
BEGIN:VEVENT
UID:sabre-vobject-98e3b4ee-7e23-4723-9c7a-5c5e1aa019d1
DTSTAMP:20260422T072726Z
SUMMARY:Hl. Messe für die lebenden und verstorbenen Mitglieder unserer Pfa
 rreiengemeinschaft
DESCRIPTION:https://pfarreien-bistum-augsburg.df-preview.de/hl-messe-fuer-d
 ie-lebenden-und-verstorbenen-mitglieder-unserer-pfarreiengemeinschaft_id17
 12141
DTSTART;TZID=Europe/Berlin:20260427T191500
DURATION:PT30M
LOCATION:St. Laurentius
END:VEVENT
BEGIN:VEVENT
UID:sabre-vobject-b24cdcb7-8641-4a9e-a79a-f547fd9dad7c
DTSTAMP:20260422T072726Z
SUMMARY:Hl. Messe in Sölb
DESCRIPTION:https://pfarreien-bistum-augsburg.df-preview.de/hl-messe-in-soe
 lb_id1711968
DTSTART;TZID=Europe/Berlin:20260428T191500
DURATION:PT30M
LOCATION:St. Remigius\, Kirchenweg 10\, 82399 Raisting
END:VEVENT
BEGIN:VEVENT
UID:sabre-vobject-7c3dbfd8-9ca9-46c1-bde7-e6557abeebb1
DTSTAMP:20260422T072726Z
SUMMARY:Hl. Messe\; musik. Gestaltung Oberstadtler Sängerinnen und Reisero
 im-Zithermusi
DESCRIPTION:https://pfarreien-bistum-augsburg.df-preview.de/hl-messe-musik-
 gestaltung-oberstadtler-saengerinnen-und-reiseroim-zithermusi_id1711969
DTSTART;TZID=Europe/Berlin:20260429T191500
DURATION:PT30M
LOCATION:St. Remigius\, Kirchenweg 10\, 82399 Raisting
END:VEVENT
BEGIN:VEVENT
UID:sabre-vobject-c44949a8-a40b-451a-b6d6-776a6745fe5b
DTSTAMP:20260422T072726Z
SUMMARY:Hl. Messe
DESCRIPTION:https://pfarreien-bistum-augsburg.df-preview.de/hl-messe_id1712
 189
DTSTART;TZID=Europe/Berlin:20260429T191500
DURATION:PT30M
LOCATION:St. Valentin\, Peter-Kaufinger-Str. 13\, 82407 Wielenbach
END:VEVENT
BEGIN:VEVENT
UID:sabre-vobject-57ee4c05-c4f5-4728-aa17-e5125e34b89d
DTSTAMP:20260422T072726Z
SUMMARY:Stille eucharistische Anbetung
DESCRIPTION:https://pfarreien-bistum-augsburg.df-preview.de/stille-eucharis
 tische-anbetung_id1712142
DTSTART;TZID=Europe/Berlin:20260430T184500
DURATION:PT30M
LOCATION:St. Laurentius
END:VEVENT
BEGIN:VEVENT
UID:sabre-vobject-7acf23d8-79f9-4ade-96b8-29216f45ab76
DTSTAMP:20260422T072726Z
SUMMARY:Hl. Messe
DESCRIPTION:https://pfarreien-bistum-augsburg.df-preview.de/hl-messe_id1711
 961
DTSTART;TZID=Europe/Berlin:20260430T191500
DURATION:PT30M
LOCATION:St. Laurentius
END:VEVENT
BEGIN:VEVENT
UID:sabre-vobject-fe81a349-e093-447e-9fef-19696a3f7b80
DTSTAMP:20260422T072726Z
SUMMARY:Hl. Messe
DESCRIPTION:https://pfarreien-bistum-augsburg.df-preview.de/hl-messe_id1712
 229
DTSTART;TZID=Europe/Berlin:20260430T191500
DURATION:PT30M
LOCATION:St. Peter
END:VEVENT
BEGIN:VEVENT
UID:sabre-vobject-f88044b8-7067-4c9a-96e2-134b17213548
DTSTAMP:20260422T072726Z
SUMMARY:Hl. Messe und Fahrzeugsegnung in Stillern\; musik. Gestaltung: Blas
 kapelle Raisting
DESCRIPTION:https://pfarreien-bistum-augsburg.df-preview.de/hl-messe-und-fa
 hrzeugsegnung-in-stillern-musik-gestaltung-blaskapelle-raisting_id1711970
DTSTART;TZID=Europe/Berlin:20260501T101500
DURATION:PT30M
LOCATION:St. Remigius\, Kirchenweg 10\, 82399 Raisting
END:VEVENT
BEGIN:VEVENT
UID:sabre-vobject-9642642a-7a72-472d-b8fa-48ca072f625c
DTSTAMP:20260422T072726Z
SUMMARY:Feierliche erste Maiandacht
DESCRIPTION:https://pfarreien-bistum-augsburg.df-preview.de/feierliche-erst
 e-maiandacht_id1712045
DTSTART;TZID=Europe/Berlin:20260501T191500
DURATION:PT30M
LOCATION:St. Laurentius
END:VEVENT
BEGIN:VEVENT
UID:sabre-vobject-e14237a3-7457-4260-bd93-96107c9d8875
DTSTAMP:20260422T072726Z
SUMMARY:Feierliche erste Maiandacht
DESCRIPTION:https://pfarreien-bistum-augsburg.df-preview.de/feierliche-erst
 e-maiandacht_id1712245
DTSTART;TZID=Europe/Berlin:20260501T191500
DURATION:PT30M
LOCATION:St. Peter
END:VEVENT
BEGIN:VEVENT
UID:sabre-vobject-d13d2937-9984-4229-8ccc-474328881ddc
DTSTAMP:20260422T072726Z
SUMMARY:bis 16:30 Beichtgelegenheit in der Seitenkapelle im blickdichten Be
 ichtstuhl
DESCRIPTION:https://pfarreien-bistum-augsburg.df-preview.de/bis-16-30-beich
 tgelegenheit-in-der-seitenkapelle-im-blickdichten-beichtstuhl_id1712046
DTSTART;TZID=Europe/Berlin:20260502T160000
DURATION:PT30M
LOCATION:St. Laurentius
END:VEVENT
BEGIN:VEVENT
UID:sabre-vobject-290a14e2-c1e5-4402-8cea-e30257f7b068
DTSTAMP:20260422T072726Z
SUMMARY:Rosenkranz
DESCRIPTION:https://pfarreien-bistum-augsburg.df-preview.de/rosenkranz_id17
 12047
DTSTART;TZID=Europe/Berlin:20260502T160000
DURATION:PT30M
LOCATION:St. Laurentius
END:VEVENT
BEGIN:VEVENT
UID:sabre-vobject-d535841d-0ade-4cac-90d5-8ffcc270df05
DTSTAMP:20260422T072726Z
SUMMARY:bis 16:30 Gesprächs- und Beichtgelegenheit ohne Anmeldung im Pfarr
 büro\, Tassilostraße 4a
DESCRIPTION:https://pfarreien-bistum-augsburg.df-preview.de/bis-16-30-gespr
 aechs-und-beichtgelegenheit-ohne-anmeldung-im-pfarrbuero-tassilostrasse-4a
 _id1712236
DTSTART;TZID=Europe/Berlin:20260502T160000
DURATION:PT30M
LOCATION:St. Peter
END:VEVENT
BEGIN:VEVENT
UID:sabre-vobject-24a5942d-8d5e-49b5-96d8-62da860f4c2c
DTSTAMP:20260422T072726Z
SUMMARY:Rosenkranz für die Pfarrei
DESCRIPTION:https://pfarreien-bistum-augsburg.df-preview.de/rosenkranz-fuer
 -die-pfarrei_id1711971
DTSTART;TZID=Europe/Berlin:20260502T161500
DURATION:PT30M
LOCATION:St. Remigius\, Kirchenweg 10\, 82399 Raisting
END:VEVENT
BEGIN:VEVENT
UID:sabre-vobject-8ab48a5e-feaf-4ef5-9da0-d1c139119cb9
DTSTAMP:20260422T072726Z
SUMMARY:Vorabendmesse
DESCRIPTION:https://pfarreien-bistum-augsburg.df-preview.de/vorabendmesse_i
 d1712048
DTSTART;TZID=Europe/Berlin:20260502T191500
DURATION:PT30M
LOCATION:St. Laurentius
END:VEVENT
BEGIN:VEVENT
UID:sabre-vobject-b7863084-c8e4-41da-88ab-f06b9fc1c7c2
DTSTAMP:20260422T072726Z
SUMMARY:Vorabendmesse - Veteranenjahrtag
DESCRIPTION:https://pfarreien-bistum-augsburg.df-preview.de/vorabendmesse-v
 eteranenjahrtag_id1712238
DTSTART;TZID=Europe/Berlin:20260502T191500
DURATION:PT30M
LOCATION:St. Peter
END:VEVENT
BEGIN:VEVENT
UID:sabre-vobject-7370b2e7-a233-4cc6-858f-87a17bdc75d7
DTSTAMP:20260422T072726Z
SUMMARY:Hl. Messe
DESCRIPTION:https://pfarreien-bistum-augsburg.df-preview.de/hl-messe_id1711
 904
DTSTART;TZID=Europe/Berlin:20260503T084500
DURATION:PT30M
LOCATION:St. Leonhard
END:VEVENT
BEGIN:VEVENT
UID:sabre-vobject-95036d87-966f-4581-8e5c-123111ea086f
DTSTAMP:20260422T072726Z
SUMMARY:Hl. Messe
DESCRIPTION:https://pfarreien-bistum-augsburg.df-preview.de/hl-messe_id1711
 972
DTSTART;TZID=Europe/Berlin:20260503T084500
DURATION:PT30M
LOCATION:St. Remigius\, Kirchenweg 10\, 82399 Raisting
END:VEVENT
BEGIN:VEVENT
UID:sabre-vobject-015e349d-9668-4b09-90fa-7c8eca78ea5f
DTSTAMP:20260422T072726Z
SUMMARY:Hl. Messe
DESCRIPTION:https://pfarreien-bistum-augsburg.df-preview.de/hl-messe_id1712
 190
DTSTART;TZID=Europe/Berlin:20260503T101500
DURATION:PT30M
LOCATION:St. Valentin\, Peter-Kaufinger-Str. 13\, 82407 Wielenbach
END:VEVENT
BEGIN:VEVENT
UID:sabre-vobject-e4ae8e3a-0d3d-47fe-ba7d-fa8e6f01ae31
DTSTAMP:20260422T072726Z
SUMMARY:Hl. Messe
DESCRIPTION:https://pfarreien-bistum-augsburg.df-preview.de/hl-messe_id1712
 278
DTSTART;TZID=Europe/Berlin:20260503T101500
DURATION:PT30M
LOCATION:St. Pankratius
END:VEVENT
BEGIN:VEVENT
UID:sabre-vobject-b6355652-43d8-4e7e-a646-cb4ba9118517
DTSTAMP:20260422T072726Z
SUMMARY:Maiandacht
DESCRIPTION:https://pfarreien-bistum-augsburg.df-preview.de/maiandacht_id17
 11901
DTSTART;TZID=Europe/Berlin:20260503T140000
DURATION:PT30M
LOCATION:St. Gallus
END:VEVENT
BEGIN:VEVENT
UID:sabre-vobject-a97ce2fa-d1db-40fe-aa85-006643c10860
DTSTAMP:20260422T072726Z
SUMMARY:Maiandacht
DESCRIPTION:https://pfarreien-bistum-augsburg.df-preview.de/maiandacht_id17
 11989
DTSTART;TZID=Europe/Berlin:20260503T191500
DURATION:PT30M
LOCATION:St. Remigius\, Kirchenweg 10\, 82399 Raisting
END:VEVENT
END:VCALENDAR
