BEGIN:VCALENDAR
VERSION:2.0
PRODID:-//Sabre//Sabre VObject 4.5.8//EN
CALSCALE:GREGORIAN
NAME:Bistum Augsburg
X-WR-CALNAME:Bistum Augsburg
BEGIN:VEVENT
UID:sabre-vobject-211e2f5b-6b25-4373-a4c3-356ad2739911
DTSTAMP:20260422T140209Z
SUMMARY:Sonntagsgottesdienst
DESCRIPTION:https://pfarreien-bistum-augsburg.df-preview.de/sonntagsgottesd
 ienst_id1692969
DTSTART;TZID=Europe/Berlin:20260426T101500
DURATION:PT30M
LOCATION:St. Stephan und Oswald\, Rottenbucherstraße 13\, 87662 Osterzell
END:VEVENT
BEGIN:VEVENT
UID:sabre-vobject-b4144b40-40f4-4402-8d3b-c15ee3a03117
DTSTAMP:20260422T140209Z
SUMMARY:Sonntagsgottesdienst
DESCRIPTION:https://pfarreien-bistum-augsburg.df-preview.de/sonntagsgottesd
 ienst_id1737281
DTSTART;TZID=Europe/Berlin:20260426T101500
DURATION:PT30M
LOCATION:St. Stephan und Oswald\, Rottenbucherstraße 13\, 87662 Osterzell
END:VEVENT
BEGIN:VEVENT
UID:sabre-vobject-41f03d88-5dff-4ebf-ac6a-da75a9e8927a
DTSTAMP:20260422T140209Z
SUMMARY:Erste feierliche Maiandacht
DESCRIPTION:https://pfarreien-bistum-augsburg.df-preview.de/erste-feierlich
 e-maiandacht_id1692971
DTSTART;TZID=Europe/Berlin:20260430T190000
DURATION:PT30M
LOCATION:St. Stephan und Oswald\, Rottenbucherstraße 13\, 87662 Osterzell
END:VEVENT
BEGIN:VEVENT
UID:sabre-vobject-3e5a494f-9b2d-4cec-af20-a17d170fb5fe
DTSTAMP:20260422T140209Z
SUMMARY:Erste feierliche Maiandacht
DESCRIPTION:https://pfarreien-bistum-augsburg.df-preview.de/erste-feierlich
 e-maiandacht_id1737284
DTSTART;TZID=Europe/Berlin:20260430T190000
DURATION:PT30M
LOCATION:St. Stephan und Oswald\, Rottenbucherstraße 13\, 87662 Osterzell
END:VEVENT
BEGIN:VEVENT
UID:sabre-vobject-3e721ade-62e0-45bb-a0b6-a476af9a9431
DTSTAMP:20260422T140209Z
SUMMARY:Familiengottesdienst zur Erstkommunion
DESCRIPTION:https://pfarreien-bistum-augsburg.df-preview.de/familiengottesd
 ienst-zur-erstkommunion_id1737339
DTSTART;TZID=Europe/Berlin:20260503T101500
DURATION:PT30M
LOCATION:St. Stephan und Oswald\, Rottenbucherstraße 13\, 87662 Osterzell
END:VEVENT
BEGIN:VEVENT
UID:sabre-vobject-339ae253-4df9-482a-8c7a-fb029894b42d
DTSTAMP:20260422T140209Z
SUMMARY:Dankandacht -Erstkommunionopfer-
DESCRIPTION:https://pfarreien-bistum-augsburg.df-preview.de/dankandacht-ers
 tkommunionopfer_id1737340
DTSTART;TZID=Europe/Berlin:20260503T170000
DURATION:PT30M
LOCATION:St. Stephan und Oswald\, Rottenbucherstraße 13\, 87662 Osterzell
END:VEVENT
BEGIN:VEVENT
UID:sabre-vobject-d3f3c2f0-73ea-44c5-808c-0931976f1477
DTSTAMP:20260422T140209Z
SUMMARY:Maiandacht
DESCRIPTION:https://pfarreien-bistum-augsburg.df-preview.de/maiandacht_id17
 37341
DTSTART;TZID=Europe/Berlin:20260505T184500
DURATION:PT30M
LOCATION:St. Stephan und Oswald\, Rottenbucherstraße 13\, 87662 Osterzell
END:VEVENT
BEGIN:VEVENT
UID:sabre-vobject-898eb2a5-a375-412c-91a8-1217bea41ef3
DTSTAMP:20260422T140209Z
SUMMARY:Hl. Messe
DESCRIPTION:https://pfarreien-bistum-augsburg.df-preview.de/hl-messe_id1737
 342
DTSTART;TZID=Europe/Berlin:20260505T191500
DURATION:PT30M
LOCATION:St. Stephan und Oswald\, Rottenbucherstraße 13\, 87662 Osterzell
END:VEVENT
BEGIN:VEVENT
UID:sabre-vobject-13c1a5f8-4ae1-4056-96fa-f36df75c3d50
DTSTAMP:20260422T140209Z
SUMMARY:Sonntagsgottesdienst
DESCRIPTION:https://pfarreien-bistum-augsburg.df-preview.de/sonntagsgottesd
 ienst_id1737343
DTSTART;TZID=Europe/Berlin:20260510T084500
DURATION:PT30M
LOCATION:St. Stephan und Oswald\, Rottenbucherstraße 13\, 87662 Osterzell
END:VEVENT
BEGIN:VEVENT
UID:sabre-vobject-33e46afc-7bf0-43f2-8537-3b850112e24a
DTSTAMP:20260422T140209Z
SUMMARY:Bittgang der Pfarrgemeinden Aufkirch\, Osterzell und Frankenhofen z
 ur Kirche nach Frankenhofen (bei schlechtem Wetter\, Bittmesse in Frankenh
 ofen um 19.15 Uhr)
DESCRIPTION:https://pfarreien-bistum-augsburg.df-preview.de/bittgang-der-pf
 arrgemeinden-aufkirch-osterzell-und-frankenhofen-zur-kirche-nach-frankenho
 fen-bei-schlechtem-wetter-bittmesse-in-frankenhofen-um-19-15-uhr_id1737355
DTSTART;TZID=Europe/Berlin:20260512T184500
DURATION:PT30M
LOCATION:St. Stephan und Oswald\, Rottenbucherstraße 13\, 87662 Osterzell
END:VEVENT
BEGIN:VEVENT
UID:sabre-vobject-a14ebd72-e518-4d88-9495-a855c7874357
DTSTAMP:20260422T140209Z
SUMMARY:Gemeindegottesdienst mit Flurumgang\n -bei schlechtem Wetter\, entf
 ällt der Flurumgang-\n\n
DESCRIPTION:https://pfarreien-bistum-augsburg.df-preview.de/gemeindegottesd
 ienst-mit-flurumgang-bei-schlechtem-wetter-entfaellt-der-flurumgang_id1737
 338
DTSTART;TZID=Europe/Berlin:20260514T083000
DURATION:PT30M
LOCATION:St. Stephan und Oswald\, Rottenbucherstraße 13\, 87662 Osterzell
END:VEVENT
BEGIN:VEVENT
UID:sabre-vobject-f8fa4323-1e05-4241-9092-b29a39e1eec8
DTSTAMP:20260422T140209Z
SUMMARY:Sonntagsgottesdienst
DESCRIPTION:https://pfarreien-bistum-augsburg.df-preview.de/sonntagsgottesd
 ienst_id1737173
DTSTART;TZID=Europe/Berlin:20260517T084500
DURATION:PT30M
LOCATION:St. Stephan und Oswald\, Rottenbucherstraße 13\, 87662 Osterzell
END:VEVENT
BEGIN:VEVENT
UID:sabre-vobject-903bd5af-2330-48af-9f1f-e6790a52a3e8
DTSTAMP:20260422T140209Z
SUMMARY:Lichterprozession zur Mariengrotte
DESCRIPTION:https://pfarreien-bistum-augsburg.df-preview.de/lichterprozessi
 on-zur-mariengrotte_id1737174
DTSTART;TZID=Europe/Berlin:20260517T203000
DURATION:PT30M
LOCATION:St. Stephan und Oswald\, Rottenbucherstraße 13\, 87662 Osterzell
END:VEVENT
BEGIN:VEVENT
UID:sabre-vobject-83708b9a-e86b-4422-a1aa-f2e55200e971
DTSTAMP:20260422T140209Z
SUMMARY:Maiandacht in der Kapelle Oberzell
DESCRIPTION:https://pfarreien-bistum-augsburg.df-preview.de/maiandacht-in-d
 er-kapelle-oberzell_id1737175
DTSTART;TZID=Europe/Berlin:20260519T191500
DURATION:PT30M
LOCATION:St. Stephan und Oswald\, Rottenbucherstraße 13\, 87662 Osterzell
END:VEVENT
BEGIN:VEVENT
UID:sabre-vobject-36d0f179-e166-4b71-80d5-b6e31a3925ed
DTSTAMP:20260422T140209Z
SUMMARY:Festgottesdienst
DESCRIPTION:https://pfarreien-bistum-augsburg.df-preview.de/festgottesdiens
 t_id1737176
DTSTART;TZID=Europe/Berlin:20260524T101500
DURATION:PT30M
LOCATION:St. Stephan und Oswald\, Rottenbucherstraße 13\, 87662 Osterzell
END:VEVENT
BEGIN:VEVENT
UID:sabre-vobject-1faf0a2e-3786-45eb-b15a-b2f0adc91205
DTSTAMP:20260422T140209Z
SUMMARY:Maiandacht
DESCRIPTION:https://pfarreien-bistum-augsburg.df-preview.de/maiandacht_id17
 37177
DTSTART;TZID=Europe/Berlin:20260526T184500
DURATION:PT30M
LOCATION:St. Stephan und Oswald\, Rottenbucherstraße 13\, 87662 Osterzell
END:VEVENT
BEGIN:VEVENT
UID:sabre-vobject-f4479fe8-6bc3-4878-bdb1-7f9d068d803f
DTSTAMP:20260422T140209Z
SUMMARY:Hl. Messe
DESCRIPTION:https://pfarreien-bistum-augsburg.df-preview.de/hl-messe_id1737
 192
DTSTART;TZID=Europe/Berlin:20260526T191500
DURATION:PT30M
LOCATION:St. Stephan und Oswald\, Rottenbucherstraße 13\, 87662 Osterzell
END:VEVENT
BEGIN:VEVENT
UID:sabre-vobject-c5ef1715-496f-4393-bfce-6de027de821a
DTSTAMP:20260422T140209Z
SUMMARY:Feldgottesdienst zum Patrozinium in Stocken (bei schlechtem Wetter 
 findet der Gottesdienst in der Pfarrkirche Osterzell statt)
DESCRIPTION:https://pfarreien-bistum-augsburg.df-preview.de/feldgottesdiens
 t-zum-patrozinium-in-stocken-bei-schlechtem-wetter-findet-der-gottesdienst
 -in-der-pfarrkirche-osterzell-statt_id1737216
DTSTART;TZID=Europe/Berlin:20260531T101500
DURATION:PT30M
LOCATION:St. Stephan und Oswald\, Rottenbucherstraße 13\, 87662 Osterzell
END:VEVENT
END:VCALENDAR
