BEGIN:VCALENDAR
VERSION:2.0
PRODID:-//Sabre//Sabre VObject 4.5.8//EN
CALSCALE:GREGORIAN
NAME:Bistum Augsburg
X-WR-CALNAME:Bistum Augsburg
BEGIN:VEVENT
UID:sabre-vobject-9eccbbc4-ce28-4993-88da-38905615b13c
DTSTAMP:20260423T134008Z
SUMMARY:E R S T K O M M U N I O N F E I E R
DESCRIPTION:https://pfarreien-bistum-augsburg.df-preview.de/e-r-s-t-k-o-m-m
 -u-n-i-o-n-f-e-i-e-r_id1752961
DTSTART;TZID=Europe/Berlin:20260426T100000
DURATION:PT30M
LOCATION:Mariä Himmelfahrt\, Kirchplatz 8\, 82269 Walleshausen
END:VEVENT
BEGIN:VEVENT
UID:sabre-vobject-ebd29a28-a0af-4088-8373-090595617bb6
DTSTAMP:20260423T134008Z
SUMMARY:Holy Hour\, eucharistische Anbetung mit biblischen Impulsen
DESCRIPTION:https://pfarreien-bistum-augsburg.df-preview.de/holy-hour-eucha
 ristische-anbetung-mit-biblischen-impulsen_id1752962
DTSTART;TZID=Europe/Berlin:20260426T190000
DURATION:PT30M
LOCATION:Mariä Himmelfahrt\, Kirchplatz 8\, 82269 Walleshausen
END:VEVENT
BEGIN:VEVENT
UID:sabre-vobject-2bf3f06a-1032-42cc-9a42-3a365e47d251
DTSTAMP:20260423T134008Z
SUMMARY:Eucharistiefeier
DESCRIPTION:https://pfarreien-bistum-augsburg.df-preview.de/eucharistiefeie
 r_id1752963
DTSTART;TZID=Europe/Berlin:20260501T100000
DURATION:PT30M
LOCATION:Mariä Himmelfahrt\, Kirchplatz 8\, 82269 Walleshausen
END:VEVENT
BEGIN:VEVENT
UID:sabre-vobject-6763c3be-72c9-46ad-b068-8bf7e285891f
DTSTAMP:20260423T134008Z
SUMMARY:Pfarrgottesdienst
DESCRIPTION:https://pfarreien-bistum-augsburg.df-preview.de/pfarrgottesdien
 st_id1752964
DTSTART;TZID=Europe/Berlin:20260503T100000
DURATION:PT30M
LOCATION:Mariä Himmelfahrt\, Kirchplatz 8\, 82269 Walleshausen
END:VEVENT
BEGIN:VEVENT
UID:sabre-vobject-33130581-4337-4bc6-ada4-d0adeb358808
DTSTAMP:20260423T134008Z
SUMMARY:Tauffeier von Carla Marie Winter
DESCRIPTION:https://pfarreien-bistum-augsburg.df-preview.de/tauffeier-von-c
 arla-marie-winter_id1752965
DTSTART;TZID=Europe/Berlin:20260503T111500
DURATION:PT30M
LOCATION:Mariä Himmelfahrt\, Kirchplatz 8\, 82269 Walleshausen
END:VEVENT
BEGIN:VEVENT
UID:sabre-vobject-a5a07f89-ac8b-4b74-b104-dd15d6fb77a7
DTSTAMP:20260423T134008Z
SUMMARY:Vorabendmesse
DESCRIPTION:https://pfarreien-bistum-augsburg.df-preview.de/vorabendmesse_i
 d1752966
DTSTART;TZID=Europe/Berlin:20260509T183000
DURATION:PT30M
LOCATION:Mariä Himmelfahrt\, Kirchplatz 8\, 82269 Walleshausen
END:VEVENT
BEGIN:VEVENT
UID:sabre-vobject-647b9312-c11a-47a5-899d-0b3e9b5cb547
DTSTAMP:20260423T134008Z
SUMMARY:Kinderkirche
DESCRIPTION:https://pfarreien-bistum-augsburg.df-preview.de/kinderkirche_id
 1752967
DTSTART;TZID=Europe/Berlin:20260510T100000
DURATION:PT30M
LOCATION:Mariä Himmelfahrt\, Kirchplatz 8\, 82269 Walleshausen
END:VEVENT
BEGIN:VEVENT
UID:sabre-vobject-77af4703-ae65-408e-adea-60c46a8c7b1c
DTSTAMP:20260423T134008Z
SUMMARY:Maiandacht gest. vom WGF-Team\, bei schönem Wetter an der Lourdesg
 rotte
DESCRIPTION:https://pfarreien-bistum-augsburg.df-preview.de/maiandacht-gest
 -vom-wgf-team-bei-schoenem-wetter-an-der-lourdesgrotte_id1752969
DTSTART;TZID=Europe/Berlin:20260510T183000
DURATION:PT30M
LOCATION:Mariä Himmelfahrt\, Kirchplatz 8\, 82269 Walleshausen
END:VEVENT
BEGIN:VEVENT
UID:sabre-vobject-8b312dff-8582-4d8a-96ec-c40eed869766
DTSTAMP:20260423T134008Z
SUMMARY:Fatimarosenkranz\, bei schönem Wetter an der Lourdesgrotte
DESCRIPTION:https://pfarreien-bistum-augsburg.df-preview.de/fatimarosenkran
 z-bei-schoenem-wetter-an-der-lourdesgrotte_id1752970
DTSTART;TZID=Europe/Berlin:20260511T160000
DURATION:PT30M
LOCATION:Mariä Himmelfahrt\, Kirchplatz 8\, 82269 Walleshausen
END:VEVENT
BEGIN:VEVENT
UID:sabre-vobject-67e46336-1c94-4a1f-b208-851bf9f97409
DTSTAMP:20260423T134008Z
SUMMARY:Bittgang nach Petzenhofen
DESCRIPTION:https://pfarreien-bistum-augsburg.df-preview.de/bittgang-nach-p
 etzenhofen_id1752971
DTSTART;TZID=Europe/Berlin:20260512T183000
DURATION:PT30M
LOCATION:Mariä Himmelfahrt\, Kirchplatz 8\, 82269 Walleshausen
END:VEVENT
BEGIN:VEVENT
UID:sabre-vobject-a8c3fb0a-66a6-43a1-84a1-0bbf9e3ce4ef
DTSTAMP:20260423T134008Z
SUMMARY:Eucharistiefeier
DESCRIPTION:https://pfarreien-bistum-augsburg.df-preview.de/eucharistiefeie
 r_id1752972
DTSTART;TZID=Europe/Berlin:20260512T190000
DURATION:PT30M
LOCATION:Mariä Himmelfahrt\, Kirchplatz 8\, 82269 Walleshausen
END:VEVENT
BEGIN:VEVENT
UID:sabre-vobject-13a26b45-b1a1-42a0-84b8-6cd8a042477f
DTSTAMP:20260423T134008Z
SUMMARY:Hochfestgottesdienst
DESCRIPTION:https://pfarreien-bistum-augsburg.df-preview.de/hochfestgottesd
 ienst_id1752973
DTSTART;TZID=Europe/Berlin:20260514T083000
DURATION:PT30M
LOCATION:Mariä Himmelfahrt\, Kirchplatz 8\, 82269 Walleshausen
END:VEVENT
BEGIN:VEVENT
UID:sabre-vobject-001895dd-d794-47c5-83e5-3c7b47408d6b
DTSTAMP:20260423T134008Z
SUMMARY:Maiandacht gest. vom WGF-Team\, bei schönem Wetter an der Lourdesg
 rotte
DESCRIPTION:https://pfarreien-bistum-augsburg.df-preview.de/maiandacht-gest
 -vom-wgf-team-bei-schoenem-wetter-an-der-lourdesgrotte_id1752959
DTSTART;TZID=Europe/Berlin:20260514T183000
DURATION:PT30M
LOCATION:Mariä Himmelfahrt\, Kirchplatz 8\, 82269 Walleshausen
END:VEVENT
BEGIN:VEVENT
UID:sabre-vobject-c96c646f-a291-480d-b09d-35b08c598e09
DTSTAMP:20260423T134008Z
SUMMARY:Festgottesdienst zum Patrozinium
DESCRIPTION:https://pfarreien-bistum-augsburg.df-preview.de/festgottesdiens
 t-zum-patrozinium_id1752968
DTSTART;TZID=Europe/Berlin:20260517T100000
DURATION:PT30M
LOCATION:Mariä Himmelfahrt\, Kirchplatz 8\, 82269 Walleshausen
END:VEVENT
BEGIN:VEVENT
UID:sabre-vobject-1635902b-15ae-4a58-9ada-e99597c78ed4
DTSTAMP:20260423T134008Z
SUMMARY:Feierliche Maiandacht (musik.Gest.: Kirchenchor)
DESCRIPTION:https://pfarreien-bistum-augsburg.df-preview.de/feierliche-maia
 ndacht-musik-gest-kirchenchor_id1752462
DTSTART;TZID=Europe/Berlin:20260517T183000
DURATION:PT30M
LOCATION:Mariä Himmelfahrt\, Kirchplatz 8\, 82269 Walleshausen
END:VEVENT
BEGIN:VEVENT
UID:sabre-vobject-0358b1b0-b59a-4d82-8a8c-2f0443d418e0
DTSTAMP:20260423T134008Z
SUMMARY:Hochfestgottesdienst
DESCRIPTION:https://pfarreien-bistum-augsburg.df-preview.de/hochfestgottesd
 ienst_id1752463
DTSTART;TZID=Europe/Berlin:20260524T083000
DURATION:PT30M
LOCATION:Mariä Himmelfahrt\, Kirchplatz 8\, 82269 Walleshausen
END:VEVENT
BEGIN:VEVENT
UID:sabre-vobject-85eabab3-4b03-4aa7-a61c-36d76183cf84
DTSTAMP:20260423T134008Z
SUMMARY:Holy Hour\, eucharistische Anbetung mit biblischen Impulsen
DESCRIPTION:https://pfarreien-bistum-augsburg.df-preview.de/holy-hour-eucha
 ristische-anbetung-mit-biblischen-impulsen_id1752464
DTSTART;TZID=Europe/Berlin:20260524T190000
DURATION:PT30M
LOCATION:Mariä Himmelfahrt\, Kirchplatz 8\, 82269 Walleshausen
END:VEVENT
BEGIN:VEVENT
UID:sabre-vobject-85880288-04f4-4bd6-af42-82c641af575f
DTSTAMP:20260423T134008Z
SUMMARY:Maiandacht gest. vom WGF-Team\, bei schönem Wetter an der Lourdesg
 rotte
DESCRIPTION:https://pfarreien-bistum-augsburg.df-preview.de/maiandacht-gest
 -vom-wgf-team-bei-schoenem-wetter-an-der-lourdesgrotte_id1752465
DTSTART;TZID=Europe/Berlin:20260525T183000
DURATION:PT30M
LOCATION:Mariä Himmelfahrt\, Kirchplatz 8\, 82269 Walleshausen
END:VEVENT
BEGIN:VEVENT
UID:sabre-vobject-4c8f3d66-7b67-458b-bc12-84203594ce27
DTSTAMP:20260423T134008Z
SUMMARY:Eucharistiefeier
DESCRIPTION:https://pfarreien-bistum-augsburg.df-preview.de/eucharistiefeie
 r_id1752466
DTSTART;TZID=Europe/Berlin:20260526T183000
DURATION:PT30M
LOCATION:Mariä Himmelfahrt\, Kirchplatz 8\, 82269 Walleshausen
END:VEVENT
BEGIN:VEVENT
UID:sabre-vobject-5b40517b-aeba-43c1-9e9f-9c2fc9c8ec4e
DTSTAMP:20260423T134008Z
SUMMARY:Eucharistiefeier
DESCRIPTION:https://pfarreien-bistum-augsburg.df-preview.de/eucharistiefeie
 r_id1752514
DTSTART;TZID=Europe/Berlin:20260531T100000
DURATION:PT30M
LOCATION:Mariä Himmelfahrt\, Kirchplatz 8\, 82269 Walleshausen
END:VEVENT
BEGIN:VEVENT
UID:sabre-vobject-ab081ca4-3d27-4bad-b36e-73b0dae3eeed
DTSTAMP:20260423T134008Z
SUMMARY:Maiandacht gest. vom WGF-Team\, bei schönem Wetter an der Lourdesg
 rotte
DESCRIPTION:https://pfarreien-bistum-augsburg.df-preview.de/maiandacht-gest
 -vom-wgf-team-bei-schoenem-wetter-an-der-lourdesgrotte_id1752515
DTSTART;TZID=Europe/Berlin:20260531T183000
DURATION:PT30M
LOCATION:Mariä Himmelfahrt\, Kirchplatz 8\, 82269 Walleshausen
END:VEVENT
BEGIN:VEVENT
UID:sabre-vobject-ac917a99-2b9a-4814-9388-366b2ef51586
DTSTAMP:20260423T134008Z
SUMMARY:Hochfestgottesdienst anschl. Fronleichnamsprozession
DESCRIPTION:https://pfarreien-bistum-augsburg.df-preview.de/hochfestgottesd
 ienst-anschl-fronleichnamsprozession_id1752516
DTSTART;TZID=Europe/Berlin:20260604T083000
DURATION:PT30M
LOCATION:Mariä Himmelfahrt\, Kirchplatz 8\, 82269 Walleshausen
END:VEVENT
END:VCALENDAR
