BEGIN:VCALENDAR
VERSION:2.0
PRODID:-//Sabre//Sabre VObject 4.5.8//EN
CALSCALE:GREGORIAN
NAME:Bistum Augsburg
X-WR-CALNAME:Bistum Augsburg
BEGIN:VEVENT
UID:sabre-vobject-a3b7670d-f2ec-46e9-b162-6d99fbea1ea4
DTSTAMP:20260423T103951Z
SUMMARY:Heilige Messe
DESCRIPTION:https://pfarreien-bistum-augsburg.df-preview.de/heilige-messe_i
 d1738179
DTSTART;TZID=Europe/Berlin:20260424T090000
DURATION:PT30M
LOCATION:Mariä Himmelfahrt
END:VEVENT
BEGIN:VEVENT
UID:sabre-vobject-03d268ba-f2d0-4cc9-b790-aef8f11c3e26
DTSTAMP:20260423T103951Z
SUMMARY:Heilige Messe
DESCRIPTION:https://pfarreien-bistum-augsburg.df-preview.de/heilige-messe_i
 d1738180
DTSTART;TZID=Europe/Berlin:20260424T170000
DURATION:PT30M
LOCATION:Mariä Himmelfahrt
END:VEVENT
BEGIN:VEVENT
UID:sabre-vobject-5655de17-bf74-4483-a5b4-a70bc4d9b9ac
DTSTAMP:20260423T103951Z
SUMMARY:Heilige Messe im Tridentinischen Ritus
DESCRIPTION:https://pfarreien-bistum-augsburg.df-preview.de/heilige-messe-i
 m-tridentinischen-ritus_id1738181
DTSTART;TZID=Europe/Berlin:20260424T181500
DURATION:PT30M
LOCATION:Mariä Himmelfahrt
END:VEVENT
BEGIN:VEVENT
UID:sabre-vobject-550f1d62-aab1-4986-aff9-827fb3b09f6d
DTSTAMP:20260423T103951Z
SUMMARY:Heilige Messe
DESCRIPTION:https://pfarreien-bistum-augsburg.df-preview.de/heilige-messe_i
 d1738182
DTSTART;TZID=Europe/Berlin:20260425T093000
DURATION:PT30M
LOCATION:Mariä Himmelfahrt
END:VEVENT
BEGIN:VEVENT
UID:sabre-vobject-748d54b5-550e-4837-b45f-876212d56b92
DTSTAMP:20260423T103951Z
SUMMARY:Taufe von Anton Korbinian Philipp Mohl
DESCRIPTION:https://pfarreien-bistum-augsburg.df-preview.de/taufe-von-anton
 -korbinian-philipp-mohl_id1738183
DTSTART;TZID=Europe/Berlin:20260425T123000
DURATION:PT30M
LOCATION:Mariä Himmelfahrt
END:VEVENT
BEGIN:VEVENT
UID:sabre-vobject-3845dc5f-e4ff-4510-8ca5-fb250dfae628
DTSTAMP:20260423T103951Z
SUMMARY:Nachhaltiger Konsum - Ausstellungseröffnung
DESCRIPTION:https://pfarreien-bistum-augsburg.df-preview.de/nachhaltiger-ko
 nsum-ausstellungseroeffnung_id1738184
DTSTART;TZID=Europe/Berlin:20260425T140000
DURATION:PT30M
LOCATION:Mariä Himmelfahrt
END:VEVENT
BEGIN:VEVENT
UID:sabre-vobject-b582f765-16b1-4333-a1bf-3014f67aa1c1
DTSTAMP:20260423T103951Z
SUMMARY:Rosenkranz
DESCRIPTION:https://pfarreien-bistum-augsburg.df-preview.de/rosenkranz_id17
 38159
DTSTART;TZID=Europe/Berlin:20260425T173000
DURATION:PT30M
LOCATION:Mariä Heimsuchung
END:VEVENT
BEGIN:VEVENT
UID:sabre-vobject-a1711443-1b22-4bbf-9cab-a16cccf80d85
DTSTAMP:20260423T103951Z
SUMMARY:Pfarrmesse
DESCRIPTION:https://pfarreien-bistum-augsburg.df-preview.de/pfarrmesse_id17
 50415
DTSTART;TZID=Europe/Berlin:20260426T090000
DURATION:PT30M
LOCATION:Mariä Heimsuchung
END:VEVENT
BEGIN:VEVENT
UID:sabre-vobject-e2141547-2acb-410e-a05f-bfc0d598ac0f
DTSTAMP:20260423T103951Z
SUMMARY:Heilige Messe im Tridentinischen Ritus
DESCRIPTION:https://pfarreien-bistum-augsburg.df-preview.de/heilige-messe-i
 m-tridentinischen-ritus_id1750422
DTSTART;TZID=Europe/Berlin:20260426T090000
DURATION:PT30M
LOCATION:Mariä Himmelfahrt
END:VEVENT
BEGIN:VEVENT
UID:sabre-vobject-7b8a7157-90a7-47a0-bcf7-5176eaabc480
DTSTAMP:20260423T103951Z
SUMMARY:Pfarrmesse\n
DESCRIPTION:https://pfarreien-bistum-augsburg.df-preview.de/pfarrmesse_id17
 50375
DTSTART;TZID=Europe/Berlin:20260426T093000
DURATION:PT30M
LOCATION:Mariä Himmelfahrt
END:VEVENT
BEGIN:VEVENT
UID:sabre-vobject-fd309472-c8ad-454c-8430-62160e2d2edf
DTSTAMP:20260423T103951Z
SUMMARY:Pfarrmesse
DESCRIPTION:https://pfarreien-bistum-augsburg.df-preview.de/pfarrmesse_id17
 50409
DTSTART;TZID=Europe/Berlin:20260426T103000
DURATION:PT30M
LOCATION:St. Michael\, Seeshaupter Str. 14\, 82362 Weilheim Marnbach
END:VEVENT
BEGIN:VEVENT
UID:sabre-vobject-c9a21046-72bd-486e-8e9d-d8adff01b9b7
DTSTAMP:20260423T103951Z
SUMMARY:Rosenkranz
DESCRIPTION:https://pfarreien-bistum-augsburg.df-preview.de/rosenkranz_id17
 50376
DTSTART;TZID=Europe/Berlin:20260426T130000
DURATION:PT30M
LOCATION:Mariä Himmelfahrt
END:VEVENT
BEGIN:VEVENT
UID:sabre-vobject-0353c06c-93d2-4a98-8ee6-7075275c8d12
DTSTAMP:20260423T103951Z
SUMMARY:Rosenkranz und Beichtgelegenheit
DESCRIPTION:https://pfarreien-bistum-augsburg.df-preview.de/rosenkranz-und-
 beichtgelegenheit_id1750377
DTSTART;TZID=Europe/Berlin:20260426T174500
DURATION:PT30M
LOCATION:Mariä Himmelfahrt
END:VEVENT
BEGIN:VEVENT
UID:sabre-vobject-e9dc6c01-814d-4f26-8391-9581659b733f
DTSTAMP:20260423T103951Z
SUMMARY:Heilige Messe
DESCRIPTION:https://pfarreien-bistum-augsburg.df-preview.de/heilige-messe_i
 d1750378
DTSTART;TZID=Europe/Berlin:20260426T183000
DURATION:PT30M
LOCATION:Mariä Himmelfahrt
END:VEVENT
BEGIN:VEVENT
UID:sabre-vobject-f79b88f7-7175-48d5-acff-f92a21fc66a5
DTSTAMP:20260423T103951Z
SUMMARY:Heilige Messe
DESCRIPTION:https://pfarreien-bistum-augsburg.df-preview.de/heilige-messe_i
 d1749841
DTSTART;TZID=Europe/Berlin:20260427T090000
DURATION:PT30M
LOCATION:Mariä Himmelfahrt
END:VEVENT
BEGIN:VEVENT
UID:sabre-vobject-76eb270d-a8c6-4e8f-a8dc-869b8f8e97f0
DTSTAMP:20260423T103951Z
SUMMARY:Kontemplationsabend
DESCRIPTION:https://pfarreien-bistum-augsburg.df-preview.de/kontemplationsa
 bend_id1749843
DTSTART;TZID=Europe/Berlin:20260427T194500
DURATION:PT30M
LOCATION:Mariä Himmelfahrt
END:VEVENT
BEGIN:VEVENT
UID:sabre-vobject-87ca9e6e-ccb0-4473-a2ea-8d9878ead36a
DTSTAMP:20260423T103951Z
SUMMARY:Abendgespräch / Bibelabend
DESCRIPTION:https://pfarreien-bistum-augsburg.df-preview.de/abendgespraech-
 bibelabend_id1749844
DTSTART;TZID=Europe/Berlin:20260428T180000
DURATION:PT30M
LOCATION:Mariä Himmelfahrt
END:VEVENT
BEGIN:VEVENT
UID:sabre-vobject-d5c05f9e-e19e-4199-8632-90a84a7f6ba8
DTSTAMP:20260423T103951Z
SUMMARY:Heilige Messe
DESCRIPTION:https://pfarreien-bistum-augsburg.df-preview.de/heilige-messe_i
 d1749842
DTSTART;TZID=Europe/Berlin:20260428T190000
DURATION:PT30M
LOCATION:Mariä Heimsuchung
END:VEVENT
BEGIN:VEVENT
UID:sabre-vobject-297d3484-6cd6-48a3-91c8-bea546c6f7a1
DTSTAMP:20260423T103951Z
SUMMARY:Heilige Messe im Tridentinischen Ritus
DESCRIPTION:https://pfarreien-bistum-augsburg.df-preview.de/heilige-messe-i
 m-tridentinischen-ritus_id1749849
DTSTART;TZID=Europe/Berlin:20260429T181500
DURATION:PT30M
LOCATION:Mariä Himmelfahrt
END:VEVENT
BEGIN:VEVENT
UID:sabre-vobject-7d35932d-18bd-40ab-8fc2-202e6c673d46
DTSTAMP:20260423T103951Z
SUMMARY:Heilige Messe
DESCRIPTION:https://pfarreien-bistum-augsburg.df-preview.de/heilige-messe_i
 d1749837
DTSTART;TZID=Europe/Berlin:20260429T190000
DURATION:PT30M
LOCATION:St. Johannes Baptist
END:VEVENT
BEGIN:VEVENT
UID:sabre-vobject-c115d93d-907e-49f2-a5ea-48a4f186b161
DTSTAMP:20260423T103951Z
SUMMARY:Gebetskreis
DESCRIPTION:https://pfarreien-bistum-augsburg.df-preview.de/gebetskreis_id1
 749850
DTSTART;TZID=Europe/Berlin:20260429T200000
DURATION:PT30M
LOCATION:Mariä Himmelfahrt
END:VEVENT
BEGIN:VEVENT
UID:sabre-vobject-b48bdb9c-1ce5-448f-baf3-dee3abdb0144
DTSTAMP:20260423T103951Z
SUMMARY:Heilige Messe
DESCRIPTION:https://pfarreien-bistum-augsburg.df-preview.de/heilige-messe_i
 d1749851
DTSTART;TZID=Europe/Berlin:20260501T090000
DURATION:PT30M
LOCATION:Mariä Himmelfahrt
END:VEVENT
BEGIN:VEVENT
UID:sabre-vobject-f6d0be5b-4b2b-49b4-a68f-f4d0c150cde5
DTSTAMP:20260423T103951Z
SUMMARY:Maiandacht und Mariensingen\nmitgestaltet vom Oberstadtler Dreigsan
 g\, Seeshaupter Gsang\, Ammertaler Hausmusik und die Turmbläser der Stadt
 kapelle Weilheim\nSpenden zu Gunsten der Ortscaritas W
DESCRIPTION:https://pfarreien-bistum-augsburg.df-preview.de/maiandacht-und-
 mariensingen-mitgestaltet-vom-oberstadtler-dreigsang-seeshaupter-gsang-amm
 ertaler-hausmusik-und-die-turmblaeser-der-stadtkapelle-weilheim-spenden-zu
 -gunsten-der-ortscaritas-w_id1749853
DTSTART;TZID=Europe/Berlin:20260501T170000
DURATION:PT30M
LOCATION:Mariä Himmelfahrt
END:VEVENT
BEGIN:VEVENT
UID:sabre-vobject-2c365cef-5ac3-4011-a3c9-3b53fe5e22e9
DTSTAMP:20260423T103951Z
SUMMARY:Heilige Messe im Tridentinischen Ritus
DESCRIPTION:https://pfarreien-bistum-augsburg.df-preview.de/heilige-messe-i
 m-tridentinischen-ritus_id1749856
DTSTART;TZID=Europe/Berlin:20260501T181500
DURATION:PT30M
LOCATION:Mariä Himmelfahrt
END:VEVENT
BEGIN:VEVENT
UID:sabre-vobject-7adf8d6c-8dd3-4262-bcea-9d17c18ef610
DTSTAMP:20260423T103951Z
SUMMARY:Heilige Messe
DESCRIPTION:https://pfarreien-bistum-augsburg.df-preview.de/heilige-messe_i
 d1749839
DTSTART;TZID=Europe/Berlin:20260501T193000
DURATION:PT30M
LOCATION:St. Johannes Baptist
END:VEVENT
BEGIN:VEVENT
UID:sabre-vobject-72f98e95-07d9-4fda-a4af-a2ab116754b7
DTSTAMP:20260423T103951Z
SUMMARY:Heilige Messe
DESCRIPTION:https://pfarreien-bistum-augsburg.df-preview.de/heilige-messe_i
 d1749860
DTSTART;TZID=Europe/Berlin:20260502T093000
DURATION:PT30M
LOCATION:Mariä Himmelfahrt
END:VEVENT
BEGIN:VEVENT
UID:sabre-vobject-b5210a6b-4751-4219-a54b-5c33aa0ace50
DTSTAMP:20260423T103951Z
SUMMARY:Rosenkranz
DESCRIPTION:https://pfarreien-bistum-augsburg.df-preview.de/rosenkranz_id17
 49845
DTSTART;TZID=Europe/Berlin:20260502T173000
DURATION:PT30M
LOCATION:Mariä Heimsuchung
END:VEVENT
BEGIN:VEVENT
UID:sabre-vobject-e9574011-1a46-4085-a7af-e0a716c43642
DTSTAMP:20260423T103951Z
SUMMARY:Pfarrmesse
DESCRIPTION:https://pfarreien-bistum-augsburg.df-preview.de/pfarrmesse_id17
 49847
DTSTART;TZID=Europe/Berlin:20260503T090000
DURATION:PT30M
LOCATION:Mariä Heimsuchung
END:VEVENT
BEGIN:VEVENT
UID:sabre-vobject-da50b6ec-613c-4ea8-b460-52dfd4f01205
DTSTAMP:20260423T103951Z
SUMMARY:Heilige Messe im Tridentinischen Ritus
DESCRIPTION:https://pfarreien-bistum-augsburg.df-preview.de/heilige-messe-i
 m-tridentinischen-ritus_id1750170
DTSTART;TZID=Europe/Berlin:20260503T090000
DURATION:PT30M
LOCATION:Mariä Himmelfahrt
END:VEVENT
BEGIN:VEVENT
UID:sabre-vobject-2b3e4099-2f32-458b-82dd-944c6e987be0
DTSTAMP:20260423T103951Z
SUMMARY:Pfarrmesse\nmitgest. v. der Familiengruppe AHNklang mit Gospels
DESCRIPTION:https://pfarreien-bistum-augsburg.df-preview.de/pfarrmesse-mitg
 est-v-der-familiengruppe-ahnklang-mit-gospels_id1749846
DTSTART;TZID=Europe/Berlin:20260503T093000
DURATION:PT30M
LOCATION:Mariä Himmelfahrt
END:VEVENT
BEGIN:VEVENT
UID:sabre-vobject-489050d9-ffdd-4db9-9046-09dac1c498b4
DTSTAMP:20260423T103951Z
SUMMARY:Pfarrmesse
DESCRIPTION:https://pfarreien-bistum-augsburg.df-preview.de/pfarrmesse_id17
 49840
DTSTART;TZID=Europe/Berlin:20260503T103000
DURATION:PT30M
LOCATION:St. Johannes Baptist
END:VEVENT
BEGIN:VEVENT
UID:sabre-vobject-7987b655-85c1-4e6c-b85b-9ac6a7d2bda7
DTSTAMP:20260423T103951Z
SUMMARY:Rosenkranz
DESCRIPTION:https://pfarreien-bistum-augsburg.df-preview.de/rosenkranz_id17
 49854
DTSTART;TZID=Europe/Berlin:20260503T130000
DURATION:PT30M
LOCATION:Mariä Himmelfahrt
END:VEVENT
BEGIN:VEVENT
UID:sabre-vobject-377988c2-3a48-4972-b95d-12193a72a4c2
DTSTAMP:20260423T103951Z
SUMMARY:Maiandacht\nmit den Oberstadtler Sängerinnen
DESCRIPTION:https://pfarreien-bistum-augsburg.df-preview.de/maiandacht-mit-
 den-oberstadtler-saengerinnen_id1749848
DTSTART;TZID=Europe/Berlin:20260503T170000
DURATION:PT30M
LOCATION:Mariä Heimsuchung
END:VEVENT
BEGIN:VEVENT
UID:sabre-vobject-e204b328-414b-4938-8f3a-96a4dc40afd0
DTSTAMP:20260423T103951Z
SUMMARY:Rosenkranz und Beichtgelegenheit
DESCRIPTION:https://pfarreien-bistum-augsburg.df-preview.de/rosenkranz-und-
 beichtgelegenheit_id1749855
DTSTART;TZID=Europe/Berlin:20260503T174500
DURATION:PT30M
LOCATION:Mariä Himmelfahrt
END:VEVENT
BEGIN:VEVENT
UID:sabre-vobject-5b08c4d4-90dc-460b-a596-ffa3fb2e6d77
DTSTAMP:20260423T103951Z
SUMMARY:Heilige Messe
DESCRIPTION:https://pfarreien-bistum-augsburg.df-preview.de/heilige-messe_i
 d1749858
DTSTART;TZID=Europe/Berlin:20260503T183000
DURATION:PT30M
LOCATION:Mariä Himmelfahrt
END:VEVENT
BEGIN:VEVENT
UID:sabre-vobject-61fd6afc-a694-48ec-ae6d-b4ca578df03b
DTSTAMP:20260423T103951Z
SUMMARY:Maiandacht\nmitgest. von der Marnbacher Saitenmusik
DESCRIPTION:https://pfarreien-bistum-augsburg.df-preview.de/maiandacht-mitg
 est-von-der-marnbacher-saitenmusik_id1749838
DTSTART;TZID=Europe/Berlin:20260503T190000
DURATION:PT30M
LOCATION:St. Michael\, Seeshaupter Str. 14\, 82362 Weilheim Marnbach
END:VEVENT
END:VCALENDAR
