BEGIN:VCALENDAR
VERSION:2.0
PRODID:-//Sabre//Sabre VObject 4.5.8//EN
CALSCALE:GREGORIAN
NAME:Bistum Augsburg
X-WR-CALNAME:Bistum Augsburg
BEGIN:VEVENT
UID:sabre-vobject-3866fd0e-9204-4d10-a66c-47421ebfb1ea
DTSTAMP:20260421T011609Z
SUMMARY:Hl. Messe mit den Kommunionkindern mit Gebetsbitte für die verst. 
 Angehörigen der Erstkommunionkinder
DESCRIPTION:https://pfarreien-bistum-augsburg.df-preview.de/hl-messe-mit-de
 n-kommunionkindern-mit-gebetsbitte-fuer-die-verst-angehoerigen-der-erstkom
 munionkinder_id1733267
DTSTART;TZID=Europe/Berlin:20260424T170000
DURATION:PT30M
LOCATION:St. Nikolaus\, Kirchweg 12\, 86944 Unterdießen
END:VEVENT
BEGIN:VEVENT
UID:sabre-vobject-d949447d-9230-41c1-9963-6cc47aa2ee94
DTSTAMP:20260421T011609Z
SUMMARY:Rosenkranz
DESCRIPTION:https://pfarreien-bistum-augsburg.df-preview.de/rosenkranz_id17
 33269
DTSTART;TZID=Europe/Berlin:20260425T160000
DURATION:PT30M
LOCATION:St. Nikolaus\, Kirchweg 12\, 86944 Unterdießen
END:VEVENT
BEGIN:VEVENT
UID:sabre-vobject-cac3c3c7-7735-42b7-863a-5d1b1c2da9d0
DTSTAMP:20260421T011609Z
SUMMARY:Feierliche Erstkommunion (Cantarella)
DESCRIPTION:https://pfarreien-bistum-augsburg.df-preview.de/feierliche-erst
 kommunion-cantarella_id1733270
DTSTART;TZID=Europe/Berlin:20260426T101500
DURATION:PT30M
LOCATION:St. Nikolaus\, Kirchweg 12\, 86944 Unterdießen
END:VEVENT
END:VCALENDAR
