BEGIN:VCALENDAR
VERSION:2.0
PRODID:-//Sabre//Sabre VObject 4.5.8//EN
CALSCALE:GREGORIAN
NAME:Bistum Augsburg
X-WR-CALNAME:Bistum Augsburg
BEGIN:VEVENT
UID:sabre-vobject-56f595ab-0579-44bc-a456-c5bc8cefe75f
DTSTAMP:20260421T145017Z
SUMMARY:Rosenkranz
DESCRIPTION:https://pfarreien-bistum-augsburg.df-preview.de/rosenkranz_id17
 31113
DTSTART;TZID=Europe/Berlin:20260423T073000
DURATION:PT30M
LOCATION:St. Blasius
END:VEVENT
BEGIN:VEVENT
UID:sabre-vobject-6c3f2a28-65c5-4656-812f-dba59cf4a4d3
DTSTAMP:20260421T145017Z
SUMMARY:Hl. Messe
DESCRIPTION:https://pfarreien-bistum-augsburg.df-preview.de/hl-messe_id1731
 114
DTSTART;TZID=Europe/Berlin:20260423T080000
DURATION:PT30M
LOCATION:St. Blasius
END:VEVENT
BEGIN:VEVENT
UID:sabre-vobject-23cb7fd9-2864-4f58-aa06-926750e46609
DTSTAMP:20260421T145017Z
SUMMARY:Besondere Begegnung mit Jesus zur Osterzeit mit Fest der Versöhnun
 g
DESCRIPTION:https://pfarreien-bistum-augsburg.df-preview.de/besondere-begeg
 nung-mit-jesus-zur-osterzeit-mit-fest-der-versoehnung_id1731115
DTSTART;TZID=Europe/Berlin:20260423T153000
DURATION:PT30M
LOCATION:St. Blasius
END:VEVENT
BEGIN:VEVENT
UID:sabre-vobject-5c0e8280-14a2-4bd1-9240-306370649e64
DTSTAMP:20260421T145017Z
SUMMARY:Kirchenzug der Erstkommunionkinder
DESCRIPTION:https://pfarreien-bistum-augsburg.df-preview.de/kirchenzug-der-
 erstkommunionkinder_id1731116
DTSTART;TZID=Europe/Berlin:20260426T100000
DURATION:PT30M
LOCATION:St. Blasius
END:VEVENT
BEGIN:VEVENT
UID:sabre-vobject-e7b034fa-cf77-4b92-b6dd-222176476e8b
DTSTAMP:20260421T145017Z
SUMMARY:Lobpreis zur Einstimmung
DESCRIPTION:https://pfarreien-bistum-augsburg.df-preview.de/lobpreis-zur-ei
 nstimmung_id1731117
DTSTART;TZID=Europe/Berlin:20260426T101500
DURATION:PT30M
LOCATION:St. Blasius
END:VEVENT
BEGIN:VEVENT
UID:sabre-vobject-4ba573d4-601b-44b4-a479-a71d2cd2e6c7
DTSTAMP:20260421T145017Z
SUMMARY:Hl. Messe - Feier der Erstkommunion\n
DESCRIPTION:https://pfarreien-bistum-augsburg.df-preview.de/hl-messe-feier-
 der-erstkommunion_id1731126
DTSTART;TZID=Europe/Berlin:20260426T103000
DURATION:PT30M
LOCATION:St. Blasius
END:VEVENT
BEGIN:VEVENT
UID:sabre-vobject-4ddbd625-d1b0-40ab-8a0a-359fd3780ec6
DTSTAMP:20260421T145017Z
SUMMARY:Dankandacht der Erstkommunionkinder
DESCRIPTION:https://pfarreien-bistum-augsburg.df-preview.de/dankandacht-der
 -erstkommunionkinder_id1730797
DTSTART;TZID=Europe/Berlin:20260426T180000
DURATION:PT30M
LOCATION:St. Blasius
END:VEVENT
BEGIN:VEVENT
UID:sabre-vobject-68b545d7-d8f2-46f5-99b0-5e1c045ef51b
DTSTAMP:20260421T145017Z
SUMMARY:Rosenkranz
DESCRIPTION:https://pfarreien-bistum-augsburg.df-preview.de/rosenkranz_id17
 30798
DTSTART;TZID=Europe/Berlin:20260430T073000
DURATION:PT30M
LOCATION:St. Blasius
END:VEVENT
BEGIN:VEVENT
UID:sabre-vobject-626f2001-5ecb-4ed2-81aa-faba9413f268
DTSTAMP:20260421T145017Z
SUMMARY:Hl. Messe
DESCRIPTION:https://pfarreien-bistum-augsburg.df-preview.de/hl-messe_id1730
 803
DTSTART;TZID=Europe/Berlin:20260430T080000
DURATION:PT30M
LOCATION:St. Blasius
END:VEVENT
BEGIN:VEVENT
UID:sabre-vobject-800b1938-19e5-4dfa-8930-e2cf4298c302
DTSTAMP:20260421T145017Z
SUMMARY:Hl. Messe
DESCRIPTION:https://pfarreien-bistum-augsburg.df-preview.de/hl-messe_id1730
 804
DTSTART;TZID=Europe/Berlin:20260430T190000
DURATION:PT30M
LOCATION:St. Blasius
END:VEVENT
BEGIN:VEVENT
UID:sabre-vobject-74931d90-2909-41aa-8669-5da9961b3c7a
DTSTAMP:20260421T145017Z
SUMMARY:Rosenkranz
DESCRIPTION:https://pfarreien-bistum-augsburg.df-preview.de/rosenkranz_id17
 30805
DTSTART;TZID=Europe/Berlin:20260502T182500
DURATION:PT30M
LOCATION:St. Blasius
END:VEVENT
BEGIN:VEVENT
UID:sabre-vobject-50b8c9a6-b434-45bc-885f-fccd1a61c13b
DTSTAMP:20260421T145017Z
SUMMARY:Hl. Messe mit modernen Liedern
DESCRIPTION:https://pfarreien-bistum-augsburg.df-preview.de/hl-messe-mit-mo
 dernen-liedern_id1730806
DTSTART;TZID=Europe/Berlin:20260502T190000
DURATION:PT30M
LOCATION:St. Blasius
END:VEVENT
BEGIN:VEVENT
UID:sabre-vobject-73b35f77-365b-46eb-a8db-c54901c3f0f7
DTSTAMP:20260421T145017Z
SUMMARY:Maiandacht mit den Firmlingen
DESCRIPTION:https://pfarreien-bistum-augsburg.df-preview.de/maiandacht-mit-
 den-firmlingen_id1730807
DTSTART;TZID=Europe/Berlin:20260503T193000
DURATION:PT30M
LOCATION:St. Blasius
END:VEVENT
BEGIN:VEVENT
UID:sabre-vobject-67610f59-e7da-4c35-a2b7-5143a6c9ad13
DTSTAMP:20260421T145017Z
SUMMARY:Rosenkranz
DESCRIPTION:https://pfarreien-bistum-augsburg.df-preview.de/rosenkranz_id17
 30808
DTSTART;TZID=Europe/Berlin:20260507T073000
DURATION:PT30M
LOCATION:St. Blasius
END:VEVENT
BEGIN:VEVENT
UID:sabre-vobject-43ba0aae-796b-4f39-b166-6d389eba008a
DTSTAMP:20260421T145017Z
SUMMARY:Hl. Messe
DESCRIPTION:https://pfarreien-bistum-augsburg.df-preview.de/hl-messe_id1730
 897
DTSTART;TZID=Europe/Berlin:20260507T080000
DURATION:PT30M
LOCATION:St. Blasius
END:VEVENT
BEGIN:VEVENT
UID:sabre-vobject-2953543c-d327-4335-ae30-68bd122128c1
DTSTAMP:20260421T145017Z
SUMMARY:Rosenkranz
DESCRIPTION:https://pfarreien-bistum-augsburg.df-preview.de/rosenkranz_id17
 30898
DTSTART;TZID=Europe/Berlin:20260510T075500
DURATION:PT30M
LOCATION:St. Blasius
END:VEVENT
BEGIN:VEVENT
UID:sabre-vobject-cc5a7fc1-8d99-48c3-870c-ba60d258d055
DTSTAMP:20260421T145017Z
SUMMARY:Hl. Messe
DESCRIPTION:https://pfarreien-bistum-augsburg.df-preview.de/hl-messe_id1730
 899
DTSTART;TZID=Europe/Berlin:20260510T083000
DURATION:PT30M
LOCATION:St. Blasius
END:VEVENT
BEGIN:VEVENT
UID:sabre-vobject-3673f4a1-9792-43c6-ba4e-d724b8725a3e
DTSTAMP:20260421T145017Z
SUMMARY:Maiandacht\, gst. vom Seniorenhelferkreis
DESCRIPTION:https://pfarreien-bistum-augsburg.df-preview.de/maiandacht-gst-
 vom-seniorenhelferkreis_id1730900
DTSTART;TZID=Europe/Berlin:20260510T193000
DURATION:PT30M
LOCATION:St. Blasius
END:VEVENT
BEGIN:VEVENT
UID:sabre-vobject-9da19d3b-2d4a-4e52-b823-7bade0ee3720
DTSTAMP:20260421T145017Z
SUMMARY:Bittgang nach Emmereis
DESCRIPTION:https://pfarreien-bistum-augsburg.df-preview.de/bittgang-nach-e
 mmereis_id1730901
DTSTART;TZID=Europe/Berlin:20260511T193000
DURATION:PT30M
LOCATION:St. Blasius
END:VEVENT
BEGIN:VEVENT
UID:sabre-vobject-af8bc781-287c-43d7-8856-2bcf97600200
DTSTAMP:20260421T145017Z
SUMMARY:Bittgang zur Achbrücke
DESCRIPTION:https://pfarreien-bistum-augsburg.df-preview.de/bittgang-zur-ac
 hbruecke_id1731351
DTSTART;TZID=Europe/Berlin:20260512T193000
DURATION:PT30M
LOCATION:St. Blasius
END:VEVENT
BEGIN:VEVENT
UID:sabre-vobject-81fd29c9-14cb-4557-beeb-0f8245ec8227
DTSTAMP:20260421T145017Z
SUMMARY:Hl. Messe bei der Achbrücke
DESCRIPTION:https://pfarreien-bistum-augsburg.df-preview.de/hl-messe-bei-de
 r-achbruecke_id1731352
DTSTART;TZID=Europe/Berlin:20260512T200000
DURATION:PT30M
LOCATION:St. Blasius
END:VEVENT
BEGIN:VEVENT
UID:sabre-vobject-32294fd6-bbc4-4979-b5bb-cadaff11059e
DTSTAMP:20260421T145017Z
SUMMARY:Hl. Messe - Fatimafeier\, bei guter Witterung im Pestfriedhof\, Sta
 rt Bittgang 19.00 Uhr
DESCRIPTION:https://pfarreien-bistum-augsburg.df-preview.de/hl-messe-fatima
 feier-bei-guter-witterung-im-pestfriedhof-start-bittgang-19-00-uhr_id17313
 53
DTSTART;TZID=Europe/Berlin:20260513T193000
DURATION:PT30M
LOCATION:St. Blasius
END:VEVENT
BEGIN:VEVENT
UID:sabre-vobject-349ac917-123e-4473-8d8d-7dc90d337356
DTSTAMP:20260421T145017Z
SUMMARY:Firmtreffen (bis 16.30 Uhr)
DESCRIPTION:https://pfarreien-bistum-augsburg.df-preview.de/firmtreffen-bis
 -16-30-uhr_id1731354
DTSTART;TZID=Europe/Berlin:20260515T143000
DURATION:PT30M
LOCATION:St. Blasius
END:VEVENT
BEGIN:VEVENT
UID:sabre-vobject-c02e1334-fdfa-49ed-91ee-a3d7de8250ee
DTSTAMP:20260421T145017Z
SUMMARY:Maiandacht mit den Erstkommunionkindern
DESCRIPTION:https://pfarreien-bistum-augsburg.df-preview.de/maiandacht-mit-
 den-erstkommunionkindern_id1731355
DTSTART;TZID=Europe/Berlin:20260517T193000
DURATION:PT30M
LOCATION:St. Blasius
END:VEVENT
END:VCALENDAR
