BEGIN:VCALENDAR
VERSION:2.0
PRODID:-//Sabre//Sabre VObject 4.5.8//EN
CALSCALE:GREGORIAN
NAME:Bistum Augsburg
X-WR-CALNAME:Bistum Augsburg
BEGIN:VEVENT
UID:sabre-vobject-1c298bfa-9030-4b95-b51e-6fd05268e4ae
DTSTAMP:20260421T005619Z
SUMMARY:Rosenkranz
DESCRIPTION:https://pfarreien-bistum-augsburg.df-preview.de/rosenkranz_id17
 35082
DTSTART;TZID=Europe/Berlin:20260421T080000
DURATION:PT30M
LOCATION:Mariä Himmelfahrt
END:VEVENT
BEGIN:VEVENT
UID:sabre-vobject-ca664021-6d92-49cf-9ebc-8a7cb7d5a949
DTSTAMP:20260421T005619Z
SUMMARY:Rosenkranz in St. Michael
DESCRIPTION:https://pfarreien-bistum-augsburg.df-preview.de/rosenkranz-in-s
 t-michael_id1735145
DTSTART;TZID=Europe/Berlin:20260421T083000
DURATION:PT30M
LOCATION:St. Michael
END:VEVENT
BEGIN:VEVENT
UID:sabre-vobject-d8b25368-9cf6-4ed2-ac51-c9abb0003afc
DTSTAMP:20260421T005619Z
SUMMARY:Rosenkranz
DESCRIPTION:https://pfarreien-bistum-augsburg.df-preview.de/rosenkranz_id17
 35083
DTSTART;TZID=Europe/Berlin:20260421T184500
DURATION:PT30M
LOCATION:St. Margareta
END:VEVENT
BEGIN:VEVENT
UID:sabre-vobject-78cd24e8-82c1-44a4-b84a-8aad9fbfee5e
DTSTAMP:20260421T005619Z
SUMMARY:Rosenkranz in St. Johann
DESCRIPTION:https://pfarreien-bistum-augsburg.df-preview.de/rosenkranz-in-s
 t-johann_id1735236
DTSTART;TZID=Europe/Berlin:20260421T184500
DURATION:PT30M
LOCATION:St. Georg
END:VEVENT
BEGIN:VEVENT
UID:sabre-vobject-bcd02b9d-2525-4c2f-a7d9-06c16a1cef80
DTSTAMP:20260421T005619Z
SUMMARY:Heilige Messe
DESCRIPTION:https://pfarreien-bistum-augsburg.df-preview.de/heilige-messe_i
 d1735084
DTSTART;TZID=Europe/Berlin:20260421T191500
DURATION:PT30M
LOCATION:St. Margareta
END:VEVENT
BEGIN:VEVENT
UID:sabre-vobject-641879e8-f7a0-4893-b00b-310a8af11f6b
DTSTAMP:20260421T005619Z
SUMMARY:Heilige Messe in St. Johann
DESCRIPTION:https://pfarreien-bistum-augsburg.df-preview.de/heilige-messe-i
 n-st-johann_id1735237
DTSTART;TZID=Europe/Berlin:20260421T191500
DURATION:PT30M
LOCATION:St. Georg
END:VEVENT
BEGIN:VEVENT
UID:sabre-vobject-63525fda-0793-4754-9c11-6b875f874e5c
DTSTAMP:20260421T005619Z
SUMMARY:Rosenkranz
DESCRIPTION:https://pfarreien-bistum-augsburg.df-preview.de/rosenkranz_id17
 35118
DTSTART;TZID=Europe/Berlin:20260422T184000
DURATION:PT30M
LOCATION:Mariä Himmelfahrt
END:VEVENT
BEGIN:VEVENT
UID:sabre-vobject-517a515d-cd6b-4f96-aeeb-eeeeb2ea619a
DTSTAMP:20260421T005619Z
SUMMARY:Heilige Messe
DESCRIPTION:https://pfarreien-bistum-augsburg.df-preview.de/heilige-messe_i
 d1735119
DTSTART;TZID=Europe/Berlin:20260422T191500
DURATION:PT30M
LOCATION:Mariä Himmelfahrt
END:VEVENT
BEGIN:VEVENT
UID:sabre-vobject-70ce0407-b8ea-40c1-b53d-cab3edfc5c2e
DTSTAMP:20260421T005619Z
SUMMARY:Heilige Messe
DESCRIPTION:https://pfarreien-bistum-augsburg.df-preview.de/heilige-messe_i
 d1735222
DTSTART;TZID=Europe/Berlin:20260423T191500
DURATION:PT30M
LOCATION:St. Jakobus maj.
END:VEVENT
BEGIN:VEVENT
UID:sabre-vobject-09af79f5-4e87-418c-8c7d-2e896f07595f
DTSTAMP:20260421T005619Z
SUMMARY:Heilige Messe
DESCRIPTION:https://pfarreien-bistum-augsburg.df-preview.de/heilige-messe_i
 d1735255
DTSTART;TZID=Europe/Berlin:20260423T191500
DURATION:PT30M
LOCATION:St. Peter und Paul
END:VEVENT
BEGIN:VEVENT
UID:sabre-vobject-e696ef5c-6128-44c9-9c07-9bc4be03eedf
DTSTAMP:20260421T005619Z
SUMMARY:Rosenkranz
DESCRIPTION:https://pfarreien-bistum-augsburg.df-preview.de/rosenkranz_id17
 35122
DTSTART;TZID=Europe/Berlin:20260424T080000
DURATION:PT30M
LOCATION:Mariä Himmelfahrt
END:VEVENT
BEGIN:VEVENT
UID:sabre-vobject-2db3e79a-44d3-4bf1-993e-54f336411f81
DTSTAMP:20260421T005619Z
SUMMARY:Bittandacht des Musikverein Oberostendorf in der Stockkapelle
DESCRIPTION:https://pfarreien-bistum-augsburg.df-preview.de/bittandacht-des
 -musikverein-oberostendorf-in-der-stockkapelle_id1735117
DTSTART;TZID=Europe/Berlin:20260424T180000
DURATION:PT30M
LOCATION:Mariä Himmelfahrt
END:VEVENT
BEGIN:VEVENT
UID:sabre-vobject-d8249ad3-b831-4ff8-ad68-1083fe2086ad
DTSTAMP:20260421T005619Z
SUMMARY:Heilige Messe
DESCRIPTION:https://pfarreien-bistum-augsburg.df-preview.de/heilige-messe_i
 d1734973
DTSTART;TZID=Europe/Berlin:20260424T191500
DURATION:PT30M
LOCATION:St. Michael\, An d. Halde 21\, 87679 Westendorf
END:VEVENT
BEGIN:VEVENT
UID:sabre-vobject-edb983fb-0702-44ea-b3ea-4e8c447c647c
DTSTAMP:20260421T005619Z
SUMMARY:Heilige Messe in St. Michael
DESCRIPTION:https://pfarreien-bistum-augsburg.df-preview.de/heilige-messe-i
 n-st-michael_id1735146
DTSTART;TZID=Europe/Berlin:20260424T191500
DURATION:PT30M
LOCATION:St. Michael
END:VEVENT
BEGIN:VEVENT
UID:sabre-vobject-d75a14c9-72e2-4599-9ae9-5135d1e811d6
DTSTAMP:20260421T005619Z
SUMMARY:Treffen der Erstkommunionkinder nähe Parkplatz bei St. Georg\; Kir
 chzug
DESCRIPTION:https://pfarreien-bistum-augsburg.df-preview.de/treffen-der-ers
 tkommunionkinder-naehe-parkplatz-bei-st-georg-kirchzug_id1735238
DTSTART;TZID=Europe/Berlin:20260425T094000
DURATION:PT30M
LOCATION:St. Georg
END:VEVENT
BEGIN:VEVENT
UID:sabre-vobject-dc5d5c69-803e-4307-918c-7b9c06b6a10f
DTSTAMP:20260421T005619Z
SUMMARY:Treffen der Erstkommunionkinder am Dorfgemeinschaftshaus\; Kirchzug
DESCRIPTION:https://pfarreien-bistum-augsburg.df-preview.de/treffen-der-ers
 tkommunionkinder-am-dorfgemeinschaftshaus-kirchzug_id1735085
DTSTART;TZID=Europe/Berlin:20260425T094500
DURATION:PT30M
LOCATION:St. Margareta
END:VEVENT
BEGIN:VEVENT
UID:sabre-vobject-03519064-2377-4ad4-bf4d-dc1c14d8fe7e
DTSTAMP:20260421T005619Z
SUMMARY:Feier der Heiligen Erstkommunion
DESCRIPTION:https://pfarreien-bistum-augsburg.df-preview.de/feier-der-heili
 gen-erstkommunion_id1735086
DTSTART;TZID=Europe/Berlin:20260425T100000
DURATION:PT30M
LOCATION:St. Margareta
END:VEVENT
BEGIN:VEVENT
UID:sabre-vobject-dbe9fc7c-d93c-455b-893a-c3223d267349
DTSTAMP:20260421T005619Z
SUMMARY:Feier der Heiligen Erstkommunion in St. Georg\, musikal. gestaltet 
 von den Germaringer Spatzen
DESCRIPTION:https://pfarreien-bistum-augsburg.df-preview.de/feier-der-heili
 gen-erstkommunion-in-st-georg-musikal-gestaltet-von-den-germaringer-spatze
 n_id1735239
DTSTART;TZID=Europe/Berlin:20260425T100000
DURATION:PT30M
LOCATION:St. Georg
END:VEVENT
BEGIN:VEVENT
UID:sabre-vobject-d3b97d9e-128d-4b9a-8b37-a9b17774a4b8
DTSTAMP:20260421T005619Z
SUMMARY:Rosenkranz
DESCRIPTION:https://pfarreien-bistum-augsburg.df-preview.de/rosenkranz_id17
 35223
DTSTART;TZID=Europe/Berlin:20260425T170000
DURATION:PT30M
LOCATION:St. Jakobus maj.
END:VEVENT
BEGIN:VEVENT
UID:sabre-vobject-4de868ba-e65c-4a7f-a1b1-ffd4fbe757f3
DTSTAMP:20260421T005619Z
SUMMARY:Rosenkranz in St. Michael
DESCRIPTION:https://pfarreien-bistum-augsburg.df-preview.de/rosenkranz-in-s
 t-michael_id1735147
DTSTART;TZID=Europe/Berlin:20260425T184500
DURATION:PT30M
LOCATION:St. Michael
END:VEVENT
BEGIN:VEVENT
UID:sabre-vobject-bc6c3004-7b7a-495d-87b2-7c8e8757a17a
DTSTAMP:20260421T005619Z
SUMMARY:Heilige Messe
DESCRIPTION:https://pfarreien-bistum-augsburg.df-preview.de/heilige-messe_i
 d1734974
DTSTART;TZID=Europe/Berlin:20260425T191500
DURATION:PT30M
LOCATION:St. Michael\, An d. Halde 21\, 87679 Westendorf
END:VEVENT
BEGIN:VEVENT
UID:sabre-vobject-3d14865f-7b85-40f0-8ddc-92a082e1841b
DTSTAMP:20260421T005619Z
SUMMARY:Heilige Messe in St. Michael
DESCRIPTION:https://pfarreien-bistum-augsburg.df-preview.de/heilige-messe-i
 n-st-michael_id1735149
DTSTART;TZID=Europe/Berlin:20260425T191500
DURATION:PT30M
LOCATION:St. Michael
END:VEVENT
BEGIN:VEVENT
UID:sabre-vobject-963d4145-9426-43e5-8530-808bc5c1adfa
DTSTAMP:20260421T005619Z
SUMMARY:Rosenkranz in St. Johann
DESCRIPTION:https://pfarreien-bistum-augsburg.df-preview.de/rosenkranz-in-s
 t-johann_id1735240
DTSTART;TZID=Europe/Berlin:20260425T191500
DURATION:PT30M
LOCATION:St. Georg
END:VEVENT
BEGIN:VEVENT
UID:sabre-vobject-13fab97b-a765-4d6e-9608-9bb6fb20916d
DTSTAMP:20260421T005619Z
SUMMARY:Heilige Messe
DESCRIPTION:https://pfarreien-bistum-augsburg.df-preview.de/heilige-messe_i
 d1735220
DTSTART;TZID=Europe/Berlin:20260426T081500
DURATION:PT30M
LOCATION:St. Jakobus maj.
END:VEVENT
BEGIN:VEVENT
UID:sabre-vobject-2465f1fa-a783-4dc0-8951-b75953199781
DTSTAMP:20260421T005619Z
SUMMARY:Heilige Messe
DESCRIPTION:https://pfarreien-bistum-augsburg.df-preview.de/heilige-messe_i
 d1735256
DTSTART;TZID=Europe/Berlin:20260426T081500
DURATION:PT30M
LOCATION:St. Peter und Paul
END:VEVENT
BEGIN:VEVENT
UID:sabre-vobject-d973c3e4-67a4-4f70-9c87-a255eb3f2ae8
DTSTAMP:20260421T005619Z
SUMMARY:Rosenkranz
DESCRIPTION:https://pfarreien-bistum-augsburg.df-preview.de/rosenkranz_id17
 34975
DTSTART;TZID=Europe/Berlin:20260426T090000
DURATION:PT30M
LOCATION:St. Michael\, An d. Halde 21\, 87679 Westendorf
END:VEVENT
BEGIN:VEVENT
UID:sabre-vobject-2c79a3e5-8dc5-4c90-8c8d-32cbc4578209
DTSTAMP:20260421T005619Z
SUMMARY:Gemeinsamer Kirchgang vom Kirchplatz nach St. Georg
DESCRIPTION:https://pfarreien-bistum-augsburg.df-preview.de/gemeinsamer-kir
 chgang-vom-kirchplatz-nach-st-georg_id1735241
DTSTART;TZID=Europe/Berlin:20260426T101500
DURATION:PT30M
LOCATION:St. Georg
END:VEVENT
BEGIN:VEVENT
UID:sabre-vobject-998cbd7b-80fd-40b1-bc8c-e11493fec0ed
DTSTAMP:20260421T005619Z
SUMMARY:Heilige Messe
DESCRIPTION:https://pfarreien-bistum-augsburg.df-preview.de/heilige-messe_i
 d1735087
DTSTART;TZID=Europe/Berlin:20260426T104500
DURATION:PT30M
LOCATION:St. Margareta
END:VEVENT
BEGIN:VEVENT
UID:sabre-vobject-f0ab849d-8c10-465b-8f7c-e5d7a82b8c41
DTSTAMP:20260421T005619Z
SUMMARY:Heilige Messe
DESCRIPTION:https://pfarreien-bistum-augsburg.df-preview.de/heilige-messe_i
 d1735123
DTSTART;TZID=Europe/Berlin:20260426T104500
DURATION:PT30M
LOCATION:Mariä Himmelfahrt
END:VEVENT
BEGIN:VEVENT
UID:sabre-vobject-35b75b31-6c82-4c91-a8b2-ecaf0476dc6c
DTSTAMP:20260421T005619Z
SUMMARY:Festgottesdienst zum Patrozinium "St. Georg"
DESCRIPTION:https://pfarreien-bistum-augsburg.df-preview.de/festgottesdiens
 t-zum-patrozinium-st-georg_id1735242
DTSTART;TZID=Europe/Berlin:20260426T104500
DURATION:PT30M
LOCATION:St. Georg
END:VEVENT
BEGIN:VEVENT
UID:sabre-vobject-d89ea052-6220-4b38-a984-09e124340397
DTSTAMP:20260421T005619Z
SUMMARY:Benefiizkonzert der Gruppe MiKaPeLa in St. Georg zugunsten der Kirc
 henrenovierung
DESCRIPTION:https://pfarreien-bistum-augsburg.df-preview.de/benefiizkonzert
 -der-gruppe-mikapela-in-st-georg-zugunsten-der-kirchenrenovierung_id173528
 1
DTSTART;TZID=Europe/Berlin:20260426T160000
DURATION:PT30M
LOCATION:St. Georg
END:VEVENT
BEGIN:VEVENT
UID:sabre-vobject-1ec0d78c-5b11-4eb3-9799-107ebb8946b8
DTSTAMP:20260421T005619Z
SUMMARY:Rosenkranz
DESCRIPTION:https://pfarreien-bistum-augsburg.df-preview.de/rosenkranz_id17
 35124
DTSTART;TZID=Europe/Berlin:20260428T080000
DURATION:PT30M
LOCATION:Mariä Himmelfahrt
END:VEVENT
BEGIN:VEVENT
UID:sabre-vobject-a02607a8-afcf-42a0-b987-a94eb7b2d4df
DTSTAMP:20260421T005619Z
SUMMARY:Rosenkranz in St. Michael
DESCRIPTION:https://pfarreien-bistum-augsburg.df-preview.de/rosenkranz-in-s
 t-michael_id1735155
DTSTART;TZID=Europe/Berlin:20260428T083000
DURATION:PT30M
LOCATION:St. Michael
END:VEVENT
BEGIN:VEVENT
UID:sabre-vobject-178dfe32-6784-466e-b826-1d449e9f617a
DTSTAMP:20260421T005619Z
SUMMARY:Rosenkranz
DESCRIPTION:https://pfarreien-bistum-augsburg.df-preview.de/rosenkranz_id17
 35088
DTSTART;TZID=Europe/Berlin:20260428T184500
DURATION:PT30M
LOCATION:St. Margareta
END:VEVENT
BEGIN:VEVENT
UID:sabre-vobject-8c4052f9-0560-4961-96b1-1ba69d74d2e7
DTSTAMP:20260421T005619Z
SUMMARY:Rosenkranz in St. Johann
DESCRIPTION:https://pfarreien-bistum-augsburg.df-preview.de/rosenkranz-in-s
 t-johann_id1735282
DTSTART;TZID=Europe/Berlin:20260428T184500
DURATION:PT30M
LOCATION:St. Georg
END:VEVENT
BEGIN:VEVENT
UID:sabre-vobject-0e55ed5b-31b6-4ceb-a465-66e18a852367
DTSTAMP:20260421T005619Z
SUMMARY:Heilige Messe
DESCRIPTION:https://pfarreien-bistum-augsburg.df-preview.de/heilige-messe_i
 d1735115
DTSTART;TZID=Europe/Berlin:20260428T191500
DURATION:PT30M
LOCATION:St. Margareta
END:VEVENT
BEGIN:VEVENT
UID:sabre-vobject-2daa79f6-d94a-4602-be02-46133420971c
DTSTAMP:20260421T005619Z
SUMMARY:Heilige Messe in St. Johann
DESCRIPTION:https://pfarreien-bistum-augsburg.df-preview.de/heilige-messe-i
 n-st-johann_id1735283
DTSTART;TZID=Europe/Berlin:20260428T191500
DURATION:PT30M
LOCATION:St. Georg
END:VEVENT
BEGIN:VEVENT
UID:sabre-vobject-126bf2fc-d1af-4b19-82e6-25ccd02feb72
DTSTAMP:20260421T005619Z
SUMMARY:Rosenkranz
DESCRIPTION:https://pfarreien-bistum-augsburg.df-preview.de/rosenkranz_id17
 35125
DTSTART;TZID=Europe/Berlin:20260429T184000
DURATION:PT30M
LOCATION:Mariä Himmelfahrt
END:VEVENT
BEGIN:VEVENT
UID:sabre-vobject-e3d43870-c37b-442a-91a7-81cd74c270c4
DTSTAMP:20260421T005619Z
SUMMARY:Heilige Messe
DESCRIPTION:https://pfarreien-bistum-augsburg.df-preview.de/heilige-messe_i
 d1735159
DTSTART;TZID=Europe/Berlin:20260429T191500
DURATION:PT30M
LOCATION:Mariä Himmelfahrt
END:VEVENT
BEGIN:VEVENT
UID:sabre-vobject-481b6777-12eb-4e04-8fa7-dc0917c70772
DTSTAMP:20260421T005619Z
SUMMARY:Heilige Messe
DESCRIPTION:https://pfarreien-bistum-augsburg.df-preview.de/heilige-messe_i
 d1735221
DTSTART;TZID=Europe/Berlin:20260430T191500
DURATION:PT30M
LOCATION:St. Jakobus maj.
END:VEVENT
BEGIN:VEVENT
UID:sabre-vobject-c47de9c9-ce2d-44fa-a876-4b35545b9149
DTSTAMP:20260421T005619Z
SUMMARY:Heilige Messe
DESCRIPTION:https://pfarreien-bistum-augsburg.df-preview.de/heilige-messe_i
 d1735257
DTSTART;TZID=Europe/Berlin:20260430T191500
DURATION:PT30M
LOCATION:St. Peter und Paul
END:VEVENT
BEGIN:VEVENT
UID:sabre-vobject-1f460d81-fa83-4879-bbe7-ab57c34e45e0
DTSTAMP:20260421T005619Z
SUMMARY:Jugendvesper St. Ottilien für alle Firmlinge der Pfarreiengemeinsc
 haft\; Treffpunkt um 16.45 Uhr in St. Ottilien
DESCRIPTION:https://pfarreien-bistum-augsburg.df-preview.de/jugendvesper-st
 -ottilien-fuer-alle-firmlinge-der-pfarreiengemeinschaft-treffpunkt-um-16-4
 5-uhr-in-st-ottilien_id1735114
DTSTART;TZID=Europe/Berlin:20260501T000000
DURATION:PT30M
LOCATION:St. Michael
END:VEVENT
BEGIN:VEVENT
UID:sabre-vobject-fd4654d7-265b-4d7c-823c-9a36ca2af5d9
DTSTAMP:20260421T005619Z
SUMMARY:Rosenkranz
DESCRIPTION:https://pfarreien-bistum-augsburg.df-preview.de/rosenkranz_id17
 34976
DTSTART;TZID=Europe/Berlin:20260501T090000
DURATION:PT30M
LOCATION:St. Michael\, An d. Halde 21\, 87679 Westendorf
END:VEVENT
BEGIN:VEVENT
UID:sabre-vobject-2fb37ee3-3f96-4879-9bc3-0234101f21bb
DTSTAMP:20260421T005619Z
SUMMARY:Heilige Messe an der Kapelle "Maria im Hart" mit Fahrradsegnung (be
 i Schlechtwetter in St. Wendelin)
DESCRIPTION:https://pfarreien-bistum-augsburg.df-preview.de/heilige-messe-a
 n-der-kapelle-maria-im-hart-mit-fahrradsegnung-bei-schlechtwetter-in-st-we
 ndelin_id1735200
DTSTART;TZID=Europe/Berlin:20260501T093000
DURATION:PT30M
LOCATION:St. Michael
END:VEVENT
BEGIN:VEVENT
UID:sabre-vobject-b0f0ca42-90c4-4250-a94e-bb190edf685c
DTSTAMP:20260421T005619Z
SUMMARY:Gedenkmesse des König-Ludwig Vereins in der Antoniuskapelle
DESCRIPTION:https://pfarreien-bistum-augsburg.df-preview.de/gedenkmesse-des
 -koenig-ludwig-vereins-in-der-antoniuskapelle_id1735258
DTSTART;TZID=Europe/Berlin:20260501T100000
DURATION:PT30M
LOCATION:St. Peter und Paul
END:VEVENT
BEGIN:VEVENT
UID:sabre-vobject-a6da42e7-3295-4453-96dc-d68dbca9038f
DTSTAMP:20260421T005619Z
SUMMARY:Goldene Hochzeit von Annemarie und Xaver Endras in St. Michael
DESCRIPTION:https://pfarreien-bistum-augsburg.df-preview.de/goldene-hochzei
 t-von-annemarie-und-xaver-endras-in-st-michael_id1735201
DTSTART;TZID=Europe/Berlin:20260501T113000
DURATION:PT30M
LOCATION:St. Michael
END:VEVENT
BEGIN:VEVENT
UID:sabre-vobject-90552fd2-0cdb-4681-b1e1-c69fc5d926fc
DTSTAMP:20260421T005619Z
SUMMARY:Tauffeier von Jonas Dörfler
DESCRIPTION:https://pfarreien-bistum-augsburg.df-preview.de/tauffeier-von-j
 onas-doerfler_id1735259
DTSTART;TZID=Europe/Berlin:20260501T133000
DURATION:PT30M
LOCATION:St. Peter und Paul
END:VEVENT
BEGIN:VEVENT
UID:sabre-vobject-ca1ad4fa-49a2-47d6-a217-25eb330b7a52
DTSTAMP:20260421T005619Z
SUMMARY:Mariensingen
DESCRIPTION:https://pfarreien-bistum-augsburg.df-preview.de/mariensingen_id
 1735260
DTSTART;TZID=Europe/Berlin:20260501T190000
DURATION:PT30M
LOCATION:St. Peter und Paul
END:VEVENT
BEGIN:VEVENT
UID:sabre-vobject-0045513f-94b3-4e36-9165-461d964a06f3
DTSTAMP:20260421T005619Z
SUMMARY:Treffen der Erstkommunionkinder am Gemeindeamt\; Kirchzug
DESCRIPTION:https://pfarreien-bistum-augsburg.df-preview.de/treffen-der-ers
 tkommunionkinder-am-gemeindeamt-kirchzug_id1734977
DTSTART;TZID=Europe/Berlin:20260502T094000
DURATION:PT30M
LOCATION:St. Michael\, An d. Halde 21\, 87679 Westendorf
END:VEVENT
BEGIN:VEVENT
UID:sabre-vobject-1da01f47-fcb6-4687-8fac-2083379f85f9
DTSTAMP:20260421T005619Z
SUMMARY:Feier der Heiligen Erstkommunion
DESCRIPTION:https://pfarreien-bistum-augsburg.df-preview.de/feier-der-heili
 gen-erstkommunion_id1734978
DTSTART;TZID=Europe/Berlin:20260502T100000
DURATION:PT30M
LOCATION:St. Michael\, An d. Halde 21\, 87679 Westendorf
END:VEVENT
BEGIN:VEVENT
UID:sabre-vobject-4aa2b9ec-bc80-469d-959f-6a5a3ebc0a8b
DTSTAMP:20260421T005619Z
SUMMARY:Rosenkranz
DESCRIPTION:https://pfarreien-bistum-augsburg.df-preview.de/rosenkranz_id17
 35224
DTSTART;TZID=Europe/Berlin:20260502T170000
DURATION:PT30M
LOCATION:St. Jakobus maj.
END:VEVENT
BEGIN:VEVENT
UID:sabre-vobject-946c4c55-fe14-455f-83d0-2983ab9cce0f
DTSTAMP:20260421T005619Z
SUMMARY:Rosenkranz in St. Johann
DESCRIPTION:https://pfarreien-bistum-augsburg.df-preview.de/rosenkranz-in-s
 t-johann_id1734932
DTSTART;TZID=Europe/Berlin:20260502T191500
DURATION:PT30M
LOCATION:St. Georg
END:VEVENT
BEGIN:VEVENT
UID:sabre-vobject-c02a2379-76a0-4c48-84eb-6751bd151db3
DTSTAMP:20260421T005619Z
SUMMARY:Heilige Messe mit Miniaufnahme
DESCRIPTION:https://pfarreien-bistum-augsburg.df-preview.de/heilige-messe-m
 it-miniaufnahme_id1735116
DTSTART;TZID=Europe/Berlin:20260502T191500
DURATION:PT30M
LOCATION:St. Margareta
END:VEVENT
BEGIN:VEVENT
UID:sabre-vobject-2a11d256-965f-400e-adab-d84fb4a30215
DTSTAMP:20260421T005619Z
SUMMARY:Heilige Messe mit Miniaufnahme und -verabschiedung
DESCRIPTION:https://pfarreien-bistum-augsburg.df-preview.de/heilige-messe-m
 it-miniaufnahme-und-verabschiedung_id1735160
DTSTART;TZID=Europe/Berlin:20260502T191500
DURATION:PT30M
LOCATION:Mariä Himmelfahrt
END:VEVENT
BEGIN:VEVENT
UID:sabre-vobject-ad5d7978-b15d-4b00-aaa4-360d313adb36
DTSTAMP:20260421T005619Z
SUMMARY:Rosenkranz
DESCRIPTION:https://pfarreien-bistum-augsburg.df-preview.de/rosenkranz_id17
 34979
DTSTART;TZID=Europe/Berlin:20260503T074500
DURATION:PT30M
LOCATION:St. Michael\, An d. Halde 21\, 87679 Westendorf
END:VEVENT
BEGIN:VEVENT
UID:sabre-vobject-f6606346-637f-4a16-9830-7e8feab30dba
DTSTAMP:20260421T005619Z
SUMMARY:Heilige Messe
DESCRIPTION:https://pfarreien-bistum-augsburg.df-preview.de/heilige-messe_i
 d1734980
DTSTART;TZID=Europe/Berlin:20260503T081500
DURATION:PT30M
LOCATION:St. Michael\, An d. Halde 21\, 87679 Westendorf
END:VEVENT
BEGIN:VEVENT
UID:sabre-vobject-5cffd051-f6c2-4787-9a57-441c98577488
DTSTAMP:20260421T005619Z
SUMMARY:Rosenkranz in St. Wendelin
DESCRIPTION:https://pfarreien-bistum-augsburg.df-preview.de/rosenkranz-in-s
 t-wendelin_id1735203
DTSTART;TZID=Europe/Berlin:20260503T090000
DURATION:PT30M
LOCATION:St. Michael
END:VEVENT
BEGIN:VEVENT
UID:sabre-vobject-c7bfdadd-d2a0-446d-8d76-97e34c404d57
DTSTAMP:20260421T005619Z
SUMMARY:Heilige Messe in St. Wendelin mit den Wallfahrern aus Kleinkitzigho
 fen
DESCRIPTION:https://pfarreien-bistum-augsburg.df-preview.de/heilige-messe-i
 n-st-wendelin-mit-den-wallfahrern-aus-kleinkitzighofen_id1735204
DTSTART;TZID=Europe/Berlin:20260503T093000
DURATION:PT30M
LOCATION:St. Michael
END:VEVENT
BEGIN:VEVENT
UID:sabre-vobject-00171ee7-5a20-4b51-9042-25617952d500
DTSTAMP:20260421T005619Z
SUMMARY:Heilige Messe
DESCRIPTION:https://pfarreien-bistum-augsburg.df-preview.de/heilige-messe_i
 d1735261
DTSTART;TZID=Europe/Berlin:20260503T093000
DURATION:PT30M
LOCATION:St. Peter und Paul
END:VEVENT
BEGIN:VEVENT
UID:sabre-vobject-ccef7865-6075-462c-a360-d8f0d39efad0
DTSTAMP:20260421T005619Z
SUMMARY:Rosenkranz in St. Johann
DESCRIPTION:https://pfarreien-bistum-augsburg.df-preview.de/rosenkranz-in-s
 t-johann_id1734933
DTSTART;TZID=Europe/Berlin:20260503T101500
DURATION:PT30M
LOCATION:St. Georg
END:VEVENT
BEGIN:VEVENT
UID:sabre-vobject-6031acab-15c0-472b-b70f-ad15b61c7da2
DTSTAMP:20260421T005619Z
SUMMARY:Heilige Messe in St. Johann mit Miniaufnahme
DESCRIPTION:https://pfarreien-bistum-augsburg.df-preview.de/heilige-messe-i
 n-st-johann-mit-miniaufnahme_id1734934
DTSTART;TZID=Europe/Berlin:20260503T104500
DURATION:PT30M
LOCATION:St. Georg
END:VEVENT
BEGIN:VEVENT
UID:sabre-vobject-048ec3d4-49f3-4806-9730-19cb15656c7c
DTSTAMP:20260421T005619Z
SUMMARY:Stockwallfahrt der Veteranan\; Heilige Messe um 10.45 in der Stockk
 apelle\; Abmarsch um 10.00 Uhr in Engratshofen
DESCRIPTION:https://pfarreien-bistum-augsburg.df-preview.de/stockwallfahrt-
 der-veteranan-heilige-messe-um-10-45-in-der-stockkapelle-abmarsch-um-10-00
 -uhr-in-engratshofen_id1735099
DTSTART;TZID=Europe/Berlin:20260503T104500
DURATION:PT30M
LOCATION:St. Jakobus maj.
END:VEVENT
BEGIN:VEVENT
UID:sabre-vobject-9bfef137-37ff-4115-9c49-d0948124ad60
DTSTAMP:20260421T005619Z
SUMMARY:Maiandacht mit eucharistischem Segen in St. Johann
DESCRIPTION:https://pfarreien-bistum-augsburg.df-preview.de/maiandacht-mit-
 eucharistischem-segen-in-st-johann_id1734935
DTSTART;TZID=Europe/Berlin:20260503T191500
DURATION:PT30M
LOCATION:St. Georg
END:VEVENT
BEGIN:VEVENT
UID:sabre-vobject-41dd2d67-83ae-4821-b22f-cb1f9554ef01
DTSTAMP:20260421T005619Z
SUMMARY:Maiandacht mit eucharistischem Segen
DESCRIPTION:https://pfarreien-bistum-augsburg.df-preview.de/maiandacht-mit-
 eucharistischem-segen_id1735161
DTSTART;TZID=Europe/Berlin:20260503T191500
DURATION:PT30M
LOCATION:Mariä Himmelfahrt
END:VEVENT
BEGIN:VEVENT
UID:sabre-vobject-bdb7cf51-4cfc-445a-a41f-2bdba8616e7b
DTSTAMP:20260421T005619Z
SUMMARY:Rosenkranz in der Antoniuskapelle
DESCRIPTION:https://pfarreien-bistum-augsburg.df-preview.de/rosenkranz-in-d
 er-antoniuskapelle_id1735262
DTSTART;TZID=Europe/Berlin:20260503T191500
DURATION:PT30M
LOCATION:St. Peter und Paul
END:VEVENT
END:VCALENDAR
