BEGIN:VCALENDAR
VERSION:2.0
PRODID:-//Sabre//Sabre VObject 4.5.8//EN
CALSCALE:GREGORIAN
NAME:Bistum Augsburg
X-WR-CALNAME:Bistum Augsburg
BEGIN:VEVENT
UID:sabre-vobject-5336a05b-a07e-46b1-a5eb-c12da8365355
DTSTAMP:20260422T090900Z
SUMMARY:Heilige Messe
DESCRIPTION:https://pfarreien-bistum-augsburg.df-preview.de/heilige-messe_i
 d1741004
DTSTART;TZID=Europe/Berlin:20260422T190000
DURATION:PT30M
LOCATION:St. Vitus
END:VEVENT
BEGIN:VEVENT
UID:sabre-vobject-41ea45ed-6c8d-4cc3-8108-c050a9169800
DTSTAMP:20260422T090900Z
SUMMARY:Rosenkranz
DESCRIPTION:https://pfarreien-bistum-augsburg.df-preview.de/rosenkranz_id17
 41005
DTSTART;TZID=Europe/Berlin:20260424T183000
DURATION:PT30M
LOCATION:St. Vitus
END:VEVENT
BEGIN:VEVENT
UID:sabre-vobject-251a59c3-3997-43f9-8260-836f11b8ee1e
DTSTAMP:20260422T090900Z
SUMMARY:Pfarrgottesdienst - Hl. M.
DESCRIPTION:https://pfarreien-bistum-augsburg.df-preview.de/pfarrgottesdien
 st-hl-m_id1752996
DTSTART;TZID=Europe/Berlin:20260426T084500
DURATION:PT30M
LOCATION:St. Vitus
END:VEVENT
BEGIN:VEVENT
UID:sabre-vobject-167f46aa-2495-407c-8e3a-f307b3077476
DTSTAMP:20260422T090901Z
SUMMARY:Rosenkranz um geistliche Berufe
DESCRIPTION:https://pfarreien-bistum-augsburg.df-preview.de/rosenkranz-um-g
 eistliche-berufe_id1752997
DTSTART;TZID=Europe/Berlin:20260429T183000
DURATION:PT30M
LOCATION:St. Vitus
END:VEVENT
BEGIN:VEVENT
UID:sabre-vobject-d029272e-3b43-4b56-a9ed-8cd1287b6186
DTSTAMP:20260422T090901Z
SUMMARY:Heilige Messe - Opfer zur Förderung der geistlichen Berufe
DESCRIPTION:https://pfarreien-bistum-augsburg.df-preview.de/heilige-messe-o
 pfer-zur-foerderung-der-geistlichen-berufe_id1752998
DTSTART;TZID=Europe/Berlin:20260429T190000
DURATION:PT30M
LOCATION:St. Vitus
END:VEVENT
END:VCALENDAR
