BEGIN:VCALENDAR
VERSION:2.0
PRODID:-//Sabre//Sabre VObject 4.5.8//EN
CALSCALE:GREGORIAN
NAME:Bistum Augsburg
X-WR-CALNAME:Bistum Augsburg
BEGIN:VEVENT
UID:sabre-vobject-3edb4715-1ecb-48d5-8b44-74c82316717f
DTSTAMP:20260424T232449Z
SUMMARY:Pfarrgottesdienst
DESCRIPTION:https://pfarreien-bistum-augsburg.df-preview.de/pfarrgottesdien
 st_id1754848
DTSTART;TZID=Europe/Berlin:20260426T101500
DURATION:PT30M
LOCATION:St. Vitus\, St.-Vitus-Platz 4\, 82393 Iffeldorf
END:VEVENT
BEGIN:VEVENT
UID:sabre-vobject-614ebd2a-bec3-438f-9f1e-42c731dc791a
DTSTAMP:20260424T232449Z
SUMMARY:Heilige Messe
DESCRIPTION:https://pfarreien-bistum-augsburg.df-preview.de/heilige-messe_i
 d1753763
DTSTART;TZID=Europe/Berlin:20260429T180000
DURATION:PT30M
LOCATION:St. Vitus\, St.-Vitus-Platz 4\, 82393 Iffeldorf
END:VEVENT
BEGIN:VEVENT
UID:sabre-vobject-ca6ee22d-de76-491a-96f0-c6e296af73df
DTSTAMP:20260424T232449Z
SUMMARY:Gottesdienst zu Ehren Marias
DESCRIPTION:https://pfarreien-bistum-augsburg.df-preview.de/gottesdienst-zu
 -ehren-marias_id1753764
DTSTART;TZID=Europe/Berlin:20260501T101500
DURATION:PT30M
LOCATION:St. Vitus\, St.-Vitus-Platz 4\, 82393 Iffeldorf
END:VEVENT
BEGIN:VEVENT
UID:sabre-vobject-da8ce764-22f5-408d-a8c5-6c8a87b31c07
DTSTAMP:20260424T232449Z
SUMMARY:Erste feierliche Maiandacht (Musik: Kirchenchor St. Vitus)
DESCRIPTION:https://pfarreien-bistum-augsburg.df-preview.de/erste-feierlich
 e-maiandacht-musik-kirchenchor-st-vitus_id1753776
DTSTART;TZID=Europe/Berlin:20260501T180000
DURATION:PT30M
LOCATION:St. Vitus\, St.-Vitus-Platz 4\, 82393 Iffeldorf
END:VEVENT
BEGIN:VEVENT
UID:sabre-vobject-a1258f81-28e1-4e4e-92a1-fb9f9222ff93
DTSTAMP:20260424T232449Z
SUMMARY:Frühmesse
DESCRIPTION:https://pfarreien-bistum-augsburg.df-preview.de/fruehmesse_id17
 53777
DTSTART;TZID=Europe/Berlin:20260503T084500
DURATION:PT30M
LOCATION:St. Vitus\, St.-Vitus-Platz 4\, 82393 Iffeldorf
END:VEVENT
BEGIN:VEVENT
UID:sabre-vobject-96e37e32-5145-41e5-91d0-bf84a7a08fd8
DTSTAMP:20260424T232449Z
SUMMARY:Festgottesdienst zur Feier der Hl. Erstkommunion (Musik: Heuwinklba
 nd)
DESCRIPTION:https://pfarreien-bistum-augsburg.df-preview.de/festgottesdiens
 t-zur-feier-der-hl-erstkommunion-musik-heuwinklband_id1753795
DTSTART;TZID=Europe/Berlin:20260503T101500
DURATION:PT30M
LOCATION:St. Vitus\, St.-Vitus-Platz 4\, 82393 Iffeldorf
END:VEVENT
BEGIN:VEVENT
UID:sabre-vobject-a4104d95-8b91-4670-9c44-e965fdcd5204
DTSTAMP:20260424T232449Z
SUMMARY:Maiandacht miit den Erstkommunionkindern (Musik: Bläsertrio)
DESCRIPTION:https://pfarreien-bistum-augsburg.df-preview.de/maiandacht-miit
 -den-erstkommunionkindern-musik-blaesertrio_id1753796
DTSTART;TZID=Europe/Berlin:20260503T180000
DURATION:PT30M
LOCATION:St. Vitus\, St.-Vitus-Platz 4\, 82393 Iffeldorf
END:VEVENT
BEGIN:VEVENT
UID:sabre-vobject-245d097b-8b25-4cbc-afbd-7ae244fe2b35
DTSTAMP:20260424T232449Z
SUMMARY:Heilige Messe
DESCRIPTION:https://pfarreien-bistum-augsburg.df-preview.de/heilige-messe_i
 d1753797
DTSTART;TZID=Europe/Berlin:20260506T180000
DURATION:PT30M
LOCATION:St. Vitus\, St.-Vitus-Platz 4\, 82393 Iffeldorf
END:VEVENT
BEGIN:VEVENT
UID:sabre-vobject-98e17785-5914-4a66-a936-587a6dbd2330
DTSTAMP:20260424T232449Z
SUMMARY:Heilige Messe
DESCRIPTION:https://pfarreien-bistum-augsburg.df-preview.de/heilige-messe_i
 d1753794
DTSTART;TZID=Europe/Berlin:20260508T180000
DURATION:PT30M
LOCATION:St. Vitus\, St.-Vitus-Platz 4\, 82393 Iffeldorf
END:VEVENT
BEGIN:VEVENT
UID:sabre-vobject-42f589f9-02a8-4884-8562-ba0f35942538
DTSTAMP:20260424T232449Z
SUMMARY:Pfarrgottesdienst
DESCRIPTION:https://pfarreien-bistum-augsburg.df-preview.de/pfarrgottesdien
 st_id1753798
DTSTART;TZID=Europe/Berlin:20260510T101500
DURATION:PT30M
LOCATION:St. Vitus\, St.-Vitus-Platz 4\, 82393 Iffeldorf
END:VEVENT
BEGIN:VEVENT
UID:sabre-vobject-33c34a60-cdd0-47fb-8bce-9a42653cf2d4
DTSTAMP:20260424T232449Z
SUMMARY:Maiandacht (Musik: Frauendreigesang)
DESCRIPTION:https://pfarreien-bistum-augsburg.df-preview.de/maiandacht-musi
 k-frauendreigesang_id1753827
DTSTART;TZID=Europe/Berlin:20260510T180000
DURATION:PT30M
LOCATION:St. Vitus\, St.-Vitus-Platz 4\, 82393 Iffeldorf
END:VEVENT
BEGIN:VEVENT
UID:sabre-vobject-ded06318-3db0-48de-a976-d727f3ec1e1d
DTSTAMP:20260424T232449Z
SUMMARY:Bittprozession ab Oberhof nach Nantesbuch\, dort ca. 18.30 Uhr Heil
 ige Messe
DESCRIPTION:https://pfarreien-bistum-augsburg.df-preview.de/bittprozession-
 ab-oberhof-nach-nantesbuch-dort-ca-18-30-uhr-heilige-messe_id1753828
DTSTART;TZID=Europe/Berlin:20260511T180000
DURATION:PT30M
LOCATION:St. Vitus\, St.-Vitus-Platz 4\, 82393 Iffeldorf
END:VEVENT
BEGIN:VEVENT
UID:sabre-vobject-46a04e00-16a0-43fa-8e7e-e7aacbd2b4cb
DTSTAMP:20260424T232449Z
SUMMARY:Bittprozession zur Kienseekapelle\, dort ca. 18.30 Uhr Heilige Mess
 e. Treffpunkt um 17.30 Uhr am Pfarrzentrum für Bildung von Fahrgemeinscha
 ften. Parken an der B11 zwischen Langau und Landgas
DESCRIPTION:https://pfarreien-bistum-augsburg.df-preview.de/bittprozession-
 zur-kienseekapelle-dort-ca-18-30-uhr-heilige-messe-treffpunkt-um-17-30-uhr
 -am-pfarrzentrum-fuer-bildung-von-fahrgemeinschaften-parken-an-der-b11-zwi
 schen-langau-und-landgas_id1753829
DTSTART;TZID=Europe/Berlin:20260512T180000
DURATION:PT30M
LOCATION:St. Vitus\, St.-Vitus-Platz 4\, 82393 Iffeldorf
END:VEVENT
BEGIN:VEVENT
UID:sabre-vobject-beb80710-783c-4d5c-bd10-ea933868f149
DTSTAMP:20260424T232449Z
SUMMARY:Bittprozession der Pfarreiengemeinschaft ab Leonhardsbrunnen in der
  Hofmark zur Heuwinklkapelle\, dort ca. 18.30 Uhr Heilige Messe
DESCRIPTION:https://pfarreien-bistum-augsburg.df-preview.de/bittprozession-
 der-pfarreiengemeinschaft-ab-leonhardsbrunnen-in-der-hofmark-zur-heuwinklk
 apelle-dort-ca-18-30-uhr-heilige-messe_id1753840
DTSTART;TZID=Europe/Berlin:20260513T180000
DURATION:PT30M
LOCATION:St. Vitus\, St.-Vitus-Platz 4\, 82393 Iffeldorf
END:VEVENT
BEGIN:VEVENT
UID:sabre-vobject-b5ed569a-9768-482f-a17d-8586d2782e80
DTSTAMP:20260424T232449Z
SUMMARY:Festgottesdienst
DESCRIPTION:https://pfarreien-bistum-augsburg.df-preview.de/festgottesdiens
 t_id1753846
DTSTART;TZID=Europe/Berlin:20260514T101500
DURATION:PT30M
LOCATION:St. Vitus\, St.-Vitus-Platz 4\, 82393 Iffeldorf
END:VEVENT
BEGIN:VEVENT
UID:sabre-vobject-7bc00187-3a5e-43b1-b7e9-f461a1e401be
DTSTAMP:20260424T232449Z
SUMMARY:Maiandacht
DESCRIPTION:https://pfarreien-bistum-augsburg.df-preview.de/maiandacht_id17
 53725
DTSTART;TZID=Europe/Berlin:20260514T180000
DURATION:PT30M
LOCATION:St. Vitus\, St.-Vitus-Platz 4\, 82393 Iffeldorf
END:VEVENT
BEGIN:VEVENT
UID:sabre-vobject-a1856b4c-f0f7-49c9-a737-da5d3178a837
DTSTAMP:20260424T232449Z
SUMMARY:Frühmesse
DESCRIPTION:https://pfarreien-bistum-augsburg.df-preview.de/fruehmesse_id17
 53841
DTSTART;TZID=Europe/Berlin:20260517T084500
DURATION:PT30M
LOCATION:St. Vitus\, St.-Vitus-Platz 4\, 82393 Iffeldorf
END:VEVENT
BEGIN:VEVENT
UID:sabre-vobject-9026c4c5-dd36-41f0-82f6-96a4c746093c
DTSTAMP:20260424T232449Z
SUMMARY:Freiluft-Gottesdienst deutsch-französisch vor der Heuwinklkapelle 
 mit den Gästen aus Chateaubourg\, Musik: Blaskapelle Iffeldorf-Antdorf (B
 ei schlechtem Wetter in der Pfarrkirche St. Vitus)
DESCRIPTION:https://pfarreien-bistum-augsburg.df-preview.de/freiluft-gottes
 dienst-deutsch-franzoesisch-vor-der-heuwinklkapelle-mit-den-gaesten-aus-ch
 ateaubourg-musik-blaskapelle-iffeldorf-antdorf-bei-schlechtem-wetter-in-de
 r-pfarrkirche-st-vitus_id1753844
DTSTART;TZID=Europe/Berlin:20260517T101500
DURATION:PT30M
LOCATION:St. Vitus\, St.-Vitus-Platz 4\, 82393 Iffeldorf
END:VEVENT
BEGIN:VEVENT
UID:sabre-vobject-8c85a925-b96f-49a3-809f-cd6ab1c63623
DTSTAMP:20260424T232449Z
SUMMARY:Maiandacht (Musik: Orgel mit Volksgesang)
DESCRIPTION:https://pfarreien-bistum-augsburg.df-preview.de/maiandacht-musi
 k-orgel-mit-volksgesang_id1753845
DTSTART;TZID=Europe/Berlin:20260517T180000
DURATION:PT30M
LOCATION:St. Vitus\, St.-Vitus-Platz 4\, 82393 Iffeldorf
END:VEVENT
BEGIN:VEVENT
UID:sabre-vobject-d5255732-9c47-4e31-a307-b7d7b97879f2
DTSTAMP:20260424T232449Z
SUMMARY:Heilige Messe
DESCRIPTION:https://pfarreien-bistum-augsburg.df-preview.de/heilige-messe_i
 d1753755
DTSTART;TZID=Europe/Berlin:20260522T180000
DURATION:PT30M
LOCATION:St. Vitus\, St.-Vitus-Platz 4\, 82393 Iffeldorf
END:VEVENT
BEGIN:VEVENT
UID:sabre-vobject-8392314d-7ebb-41ab-b1ee-fc737acd114b
DTSTAMP:20260424T232449Z
SUMMARY:Festgottesdienst
DESCRIPTION:https://pfarreien-bistum-augsburg.df-preview.de/festgottesdiens
 t_id1753756
DTSTART;TZID=Europe/Berlin:20260524T101500
DURATION:PT30M
LOCATION:St. Vitus\, St.-Vitus-Platz 4\, 82393 Iffeldorf
END:VEVENT
BEGIN:VEVENT
UID:sabre-vobject-680826c6-6408-4ba9-a916-13ad0c8bea36
DTSTAMP:20260424T232449Z
SUMMARY:Maiandacht (Musik: Heuwinklzweigesang und Franz Schesser\, Zither)
DESCRIPTION:https://pfarreien-bistum-augsburg.df-preview.de/maiandacht-musi
 k-heuwinklzweigesang-und-franz-schesser-zither_id1753766
DTSTART;TZID=Europe/Berlin:20260524T180000
DURATION:PT30M
LOCATION:St. Vitus\, St.-Vitus-Platz 4\, 82393 Iffeldorf
END:VEVENT
BEGIN:VEVENT
UID:sabre-vobject-2f9d12f9-fc23-4b9c-b743-863e1e87ed92
DTSTAMP:20260424T232449Z
SUMMARY:Pfarrgottesdienst
DESCRIPTION:https://pfarreien-bistum-augsburg.df-preview.de/pfarrgottesdien
 st_id1753767
DTSTART;TZID=Europe/Berlin:20260525T101500
DURATION:PT30M
LOCATION:St. Vitus\, St.-Vitus-Platz 4\, 82393 Iffeldorf
END:VEVENT
BEGIN:VEVENT
UID:sabre-vobject-d471c9ed-3f43-4fb7-9fe3-8be033a2966a
DTSTAMP:20260424T232449Z
SUMMARY:Maiandacht
DESCRIPTION:https://pfarreien-bistum-augsburg.df-preview.de/maiandacht_id17
 53768
DTSTART;TZID=Europe/Berlin:20260525T180000
DURATION:PT30M
LOCATION:St. Vitus\, St.-Vitus-Platz 4\, 82393 Iffeldorf
END:VEVENT
BEGIN:VEVENT
UID:sabre-vobject-0f4864b2-1889-44a1-8042-faa8632f235c
DTSTAMP:20260424T232449Z
SUMMARY:Heilige Messe
DESCRIPTION:https://pfarreien-bistum-augsburg.df-preview.de/heilige-messe_i
 d1753769
DTSTART;TZID=Europe/Berlin:20260527T180000
DURATION:PT30M
LOCATION:St. Vitus\, St.-Vitus-Platz 4\, 82393 Iffeldorf
END:VEVENT
BEGIN:VEVENT
UID:sabre-vobject-9eeee2ad-ff90-401f-9f9c-911968f6d7d9
DTSTAMP:20260424T232449Z
SUMMARY:Heilige Messe
DESCRIPTION:https://pfarreien-bistum-augsburg.df-preview.de/heilige-messe_i
 d1753770
DTSTART;TZID=Europe/Berlin:20260529T180000
DURATION:PT30M
LOCATION:St. Vitus\, St.-Vitus-Platz 4\, 82393 Iffeldorf
END:VEVENT
BEGIN:VEVENT
UID:sabre-vobject-4178809b-872c-4f02-9113-ad6d43b0ca99
DTSTAMP:20260424T232449Z
SUMMARY:Pfarrgottesdienst
DESCRIPTION:https://pfarreien-bistum-augsburg.df-preview.de/pfarrgottesdien
 st_id1753774
DTSTART;TZID=Europe/Berlin:20260531T101500
DURATION:PT30M
LOCATION:St. Vitus\, St.-Vitus-Platz 4\, 82393 Iffeldorf
END:VEVENT
BEGIN:VEVENT
UID:sabre-vobject-e05ff037-6f63-4a35-aedf-eead83fd3cdb
DTSTAMP:20260424T232449Z
SUMMARY:Maiandacht (Musik: Orgel mit Volksgesang)
DESCRIPTION:https://pfarreien-bistum-augsburg.df-preview.de/maiandacht-musi
 k-orgel-mit-volksgesang_id1753765
DTSTART;TZID=Europe/Berlin:20260531T180000
DURATION:PT30M
LOCATION:St. Vitus\, St.-Vitus-Platz 4\, 82393 Iffeldorf
END:VEVENT
BEGIN:VEVENT
UID:sabre-vobject-a073251b-4e94-4cc7-a25d-128e64200c71
DTSTAMP:20260424T232449Z
SUMMARY:Festgottesdienst\, anschl. Fronleichnamsprozession
DESCRIPTION:https://pfarreien-bistum-augsburg.df-preview.de/festgottesdiens
 t-anschl-fronleichnamsprozession_id1753771
DTSTART;TZID=Europe/Berlin:20260604T083000
DURATION:PT30M
LOCATION:St. Vitus\, St.-Vitus-Platz 4\, 82393 Iffeldorf
END:VEVENT
BEGIN:VEVENT
UID:sabre-vobject-40e57a4b-f068-4b21-95bb-84c932053a52
DTSTAMP:20260424T232449Z
SUMMARY:Heilige Messe
DESCRIPTION:https://pfarreien-bistum-augsburg.df-preview.de/heilige-messe_i
 d1753772
DTSTART;TZID=Europe/Berlin:20260605T180000
DURATION:PT30M
LOCATION:St. Vitus\, St.-Vitus-Platz 4\, 82393 Iffeldorf
END:VEVENT
BEGIN:VEVENT
UID:sabre-vobject-e7484018-6e9e-43d8-b556-14f6067b3a58
DTSTAMP:20260424T232449Z
SUMMARY:Frühmesse
DESCRIPTION:https://pfarreien-bistum-augsburg.df-preview.de/fruehmesse_id17
 53773
DTSTART;TZID=Europe/Berlin:20260607T084500
DURATION:PT30M
LOCATION:St. Vitus\, St.-Vitus-Platz 4\, 82393 Iffeldorf
END:VEVENT
BEGIN:VEVENT
UID:sabre-vobject-66045489-8ba8-451f-b98d-6b746dca0855
DTSTAMP:20260424T232449Z
SUMMARY:Pfarrgottesdienst
DESCRIPTION:https://pfarreien-bistum-augsburg.df-preview.de/pfarrgottesdien
 st_id1753775
DTSTART;TZID=Europe/Berlin:20260607T101500
DURATION:PT30M
LOCATION:St. Vitus\, St.-Vitus-Platz 4\, 82393 Iffeldorf
END:VEVENT
END:VCALENDAR
