BEGIN:VCALENDAR
VERSION:2.0
PRODID:-//Sabre//Sabre VObject 4.5.8//EN
CALSCALE:GREGORIAN
NAME:Bistum Augsburg
X-WR-CALNAME:Bistum Augsburg
BEGIN:VEVENT
UID:sabre-vobject-22a14090-3970-4909-aafc-ee9eaaea8dd9
DTSTAMP:20260421T101350Z
SUMMARY:Rosenkranz
DESCRIPTION:https://pfarreien-bistum-augsburg.df-preview.de/rosenkranz_id17
 37359
DTSTART;TZID=Europe/Berlin:20260421T183000
DURATION:PT30M
LOCATION:St. Martin
END:VEVENT
BEGIN:VEVENT
UID:sabre-vobject-ddeef843-5531-49b7-8c41-b3302529aef3
DTSTAMP:20260421T101350Z
SUMMARY:Hl. Messe
DESCRIPTION:https://pfarreien-bistum-augsburg.df-preview.de/hl-messe_id1737
 366
DTSTART;TZID=Europe/Berlin:20260421T190000
DURATION:PT30M
LOCATION:Mariä Verkündigung
END:VEVENT
BEGIN:VEVENT
UID:sabre-vobject-55f3a0ae-4b83-4e29-a659-b73d6fe2ec6a
DTSTAMP:20260421T101350Z
SUMMARY:Pfarr-Café im Franziskushaus - Pilgervortrag
DESCRIPTION:https://pfarreien-bistum-augsburg.df-preview.de/pfarr-cafe-im-f
 ranziskushaus-pilgervortrag_id1737360
DTSTART;TZID=Europe/Berlin:20260422T140000
DURATION:PT30M
LOCATION:St. Martin
END:VEVENT
BEGIN:VEVENT
UID:sabre-vobject-f8bb21ec-157f-4dcc-9003-87da10fb7743
DTSTAMP:20260421T101350Z
SUMMARY:Rosenkranz um den Frieden in der Welt
DESCRIPTION:https://pfarreien-bistum-augsburg.df-preview.de/rosenkranz-um-d
 en-frieden-in-der-welt_id1737367
DTSTART;TZID=Europe/Berlin:20260422T180000
DURATION:PT30M
LOCATION:Mariä Verkündigung
END:VEVENT
BEGIN:VEVENT
UID:sabre-vobject-463be7d6-5608-42fd-8ab7-ec48b19e33e7
DTSTAMP:20260421T101350Z
SUMMARY:Hl. Messe
DESCRIPTION:https://pfarreien-bistum-augsburg.df-preview.de/hl-messe_id1737
 330
DTSTART;TZID=Europe/Berlin:20260422T190000
DURATION:PT30M
LOCATION:Maria Immaculata
END:VEVENT
BEGIN:VEVENT
UID:sabre-vobject-c0f93ce1-73be-45ac-bf8a-3ffd692a1bc5
DTSTAMP:20260421T101350Z
SUMMARY:Hl. Messe
DESCRIPTION:https://pfarreien-bistum-augsburg.df-preview.de/hl-messe_id1737
 456
DTSTART;TZID=Europe/Berlin:20260422T190000
DURATION:PT30M
LOCATION:St. Leonhard
END:VEVENT
BEGIN:VEVENT
UID:sabre-vobject-e7311c09-2227-4396-a035-a3410ef5c74a
DTSTAMP:20260421T101350Z
SUMMARY:Hl. Messe im Isabella-Braun-Heim
DESCRIPTION:https://pfarreien-bistum-augsburg.df-preview.de/hl-messe-im-isa
 bella-braun-heim_id1737361
DTSTART;TZID=Europe/Berlin:20260423T100000
DURATION:PT30M
LOCATION:St. Martin
END:VEVENT
BEGIN:VEVENT
UID:sabre-vobject-89770a0b-d059-4ac1-938c-60cb711708c1
DTSTAMP:20260421T101350Z
SUMMARY:Rosenkranz für unsere Priester und Ordensleute sowie um geistliche
  Berufe
DESCRIPTION:https://pfarreien-bistum-augsburg.df-preview.de/rosenkranz-fuer
 -unsere-priester-und-ordensleute-sowie-um-geistliche-berufe_id1737368
DTSTART;TZID=Europe/Berlin:20260423T180000
DURATION:PT30M
LOCATION:Mariä Verkündigung
END:VEVENT
BEGIN:VEVENT
UID:sabre-vobject-ee0ac9cb-ea6c-485b-bf14-5b431b7e6849
DTSTAMP:20260421T101350Z
SUMMARY:Rosenkranz für den Frieden in der Welt
DESCRIPTION:https://pfarreien-bistum-augsburg.df-preview.de/rosenkranz-fuer
 -den-frieden-in-der-welt_id1737444
DTSTART;TZID=Europe/Berlin:20260423T183000
DURATION:PT30M
LOCATION:Mariä Himmelfahrt
END:VEVENT
BEGIN:VEVENT
UID:sabre-vobject-cd5e91c3-85c5-4b96-9e4d-4a26ba9dd3b3
DTSTAMP:20260421T101350Z
SUMMARY:Barmherzigkeitsrosenkranz
DESCRIPTION:https://pfarreien-bistum-augsburg.df-preview.de/barmherzigkeits
 rosenkranz_id1737332
DTSTART;TZID=Europe/Berlin:20260423T184500
DURATION:PT30M
LOCATION:St. Peter und Paul
END:VEVENT
BEGIN:VEVENT
UID:sabre-vobject-632da869-df97-49f5-931c-0bd68203f8a9
DTSTAMP:20260421T101350Z
SUMMARY:Hl. Messe
DESCRIPTION:https://pfarreien-bistum-augsburg.df-preview.de/hl-messe_id1737
 437
DTSTART;TZID=Europe/Berlin:20260423T190000
DURATION:PT30M
LOCATION:St. Peter und Paul
END:VEVENT
BEGIN:VEVENT
UID:sabre-vobject-9bf5945f-ac16-435a-8671-16847c00b0cd
DTSTAMP:20260421T101350Z
SUMMARY:Rosenkranz für die Verstorbenen und alle armen Seelen
DESCRIPTION:https://pfarreien-bistum-augsburg.df-preview.de/rosenkranz-fuer
 -die-verstorbenen-und-alle-armen-seelen_id1737350
DTSTART;TZID=Europe/Berlin:20260424T180000
DURATION:PT30M
LOCATION:Mariä Verkündigung
END:VEVENT
BEGIN:VEVENT
UID:sabre-vobject-1a4fb9df-e16d-4501-a96a-6e17ddee9a51
DTSTAMP:20260421T101350Z
SUMMARY:Rosenkranz
DESCRIPTION:https://pfarreien-bistum-augsburg.df-preview.de/rosenkranz_id17
 37445
DTSTART;TZID=Europe/Berlin:20260424T183000
DURATION:PT30M
LOCATION:Mariä Himmelfahrt
END:VEVENT
BEGIN:VEVENT
UID:sabre-vobject-e693e648-1c70-4c4c-b9bd-b5343afe6c2f
DTSTAMP:20260421T101350Z
SUMMARY:Hl. Messe
DESCRIPTION:https://pfarreien-bistum-augsburg.df-preview.de/hl-messe_id1737
 450
DTSTART;TZID=Europe/Berlin:20260424T190000
DURATION:PT30M
LOCATION:Mariä Himmelfahrt
END:VEVENT
BEGIN:VEVENT
UID:sabre-vobject-2304db01-5835-45a6-9681-085924a90d0d
DTSTAMP:20260421T101350Z
SUMMARY:Rosenkranz für unsere Kinder und Jugendlichen
DESCRIPTION:https://pfarreien-bistum-augsburg.df-preview.de/rosenkranz-fuer
 -unsere-kinder-und-jugendlichen_id1746587
DTSTART;TZID=Europe/Berlin:20260425T180000
DURATION:PT30M
LOCATION:Mariä Verkündigung
END:VEVENT
BEGIN:VEVENT
UID:sabre-vobject-052786f4-bab5-47fc-bc1e-9290750e0454
DTSTAMP:20260421T101350Z
SUMMARY:Vorabendmesse für alle Verstorbenen unserer Pfarrgemeinde
DESCRIPTION:https://pfarreien-bistum-augsburg.df-preview.de/vorabendmesse-f
 uer-alle-verstorbenen-unserer-pfarrgemeinde_id1746423
DTSTART;TZID=Europe/Berlin:20260425T190000
DURATION:PT30M
LOCATION:St. Martin
END:VEVENT
BEGIN:VEVENT
UID:sabre-vobject-db23e008-3e28-4778-86fc-e7ff68b65ec7
DTSTAMP:20260421T101350Z
SUMMARY:Festgottesdienst zur Erstkommunion
DESCRIPTION:https://pfarreien-bistum-augsburg.df-preview.de/festgottesdiens
 t-zur-erstkommunion_id1746461
DTSTART;TZID=Europe/Berlin:20260426T090000
DURATION:PT30M
LOCATION:Maria Immaculata
END:VEVENT
BEGIN:VEVENT
UID:sabre-vobject-76d425f9-2dba-4290-b988-4a546c6bc214
DTSTAMP:20260421T101350Z
SUMMARY:Pfarrgottesdienst für alle Verstorbenen unserer Pfarrgemeinde
DESCRIPTION:https://pfarreien-bistum-augsburg.df-preview.de/pfarrgottesdien
 st-fuer-alle-verstorbenen-unserer-pfarrgemeinde_id1746588
DTSTART;TZID=Europe/Berlin:20260426T090000
DURATION:PT30M
LOCATION:Mariä Verkündigung
END:VEVENT
BEGIN:VEVENT
UID:sabre-vobject-f928f9b6-da61-4e4f-9fee-54363ed61c27
DTSTAMP:20260421T101350Z
SUMMARY:Festgottesdienst zur Erstkommunion
DESCRIPTION:https://pfarreien-bistum-augsburg.df-preview.de/festgottesdiens
 t-zur-erstkommunion_id1746402
DTSTART;TZID=Europe/Berlin:20260426T103000
DURATION:PT30M
LOCATION:St. Martin
END:VEVENT
BEGIN:VEVENT
UID:sabre-vobject-dcbdafe2-ac62-4c52-a073-0e9b00c90756
DTSTAMP:20260421T101350Z
SUMMARY:Pfarrgottesdienst für alle Verstorbenen unserer Pfarrgemeinde
DESCRIPTION:https://pfarreien-bistum-augsburg.df-preview.de/pfarrgottesdien
 st-fuer-alle-verstorbenen-unserer-pfarrgemeinde_id1746551
DTSTART;TZID=Europe/Berlin:20260426T103000
DURATION:PT30M
LOCATION:Mariä Himmelfahrt
END:VEVENT
BEGIN:VEVENT
UID:sabre-vobject-67723d23-8dd5-40ef-9af1-7a5548b19ce9
DTSTAMP:20260421T101350Z
SUMMARY:Gemeinsame Dankandacht der Erstkommunionkinder
DESCRIPTION:https://pfarreien-bistum-augsburg.df-preview.de/gemeinsame-dank
 andacht-der-erstkommunionkinder_id1746424
DTSTART;TZID=Europe/Berlin:20260426T180000
DURATION:PT30M
LOCATION:St. Martin
END:VEVENT
BEGIN:VEVENT
UID:sabre-vobject-b601fcdd-12c6-4121-ac2a-fc6c6a350b6b
DTSTAMP:20260421T101350Z
SUMMARY:Erstkommunionausflug nach Wettenhausen
DESCRIPTION:https://pfarreien-bistum-augsburg.df-preview.de/erstkommunionau
 sflug-nach-wettenhausen_id1746401
DTSTART;TZID=Europe/Berlin:20260427T080000
DURATION:PT30M
LOCATION:St. Martin
END:VEVENT
BEGIN:VEVENT
UID:sabre-vobject-296a8feb-99e2-4862-b981-3c027e7feaa3
DTSTAMP:20260421T101350Z
SUMMARY:Rosenkranz für unsere Kranken
DESCRIPTION:https://pfarreien-bistum-augsburg.df-preview.de/rosenkranz-fuer
 -unsere-kranken_id1746575
DTSTART;TZID=Europe/Berlin:20260427T180000
DURATION:PT30M
LOCATION:Mariä Verkündigung
END:VEVENT
BEGIN:VEVENT
UID:sabre-vobject-1defb327-b06a-487e-a005-037a85473cec
DTSTAMP:20260421T101350Z
SUMMARY:Rosenkranz
DESCRIPTION:https://pfarreien-bistum-augsburg.df-preview.de/rosenkranz_id17
 46554
DTSTART;TZID=Europe/Berlin:20260427T183000
DURATION:PT30M
LOCATION:Mariä Himmelfahrt
END:VEVENT
BEGIN:VEVENT
UID:sabre-vobject-1244a922-a3fe-485a-928a-445192650766
DTSTAMP:20260421T101350Z
SUMMARY:Rosenkranz für alle Anliegen unserer Gemeinde
DESCRIPTION:https://pfarreien-bistum-augsburg.df-preview.de/rosenkranz-fuer
 -alle-anliegen-unserer-gemeinde_id1746576
DTSTART;TZID=Europe/Berlin:20260428T180000
DURATION:PT30M
LOCATION:Mariä Verkündigung
END:VEVENT
BEGIN:VEVENT
UID:sabre-vobject-80c9ea5e-5b41-429b-be00-b8015c12a801
DTSTAMP:20260421T101350Z
SUMMARY:Rosenkranz
DESCRIPTION:https://pfarreien-bistum-augsburg.df-preview.de/rosenkranz_id17
 46425
DTSTART;TZID=Europe/Berlin:20260428T183000
DURATION:PT30M
LOCATION:St. Martin
END:VEVENT
BEGIN:VEVENT
UID:sabre-vobject-57fcfce6-46f5-4105-81ec-7d98a7de4ddc
DTSTAMP:20260421T101350Z
SUMMARY:Rosenkranz um den Frieden in der Welt
DESCRIPTION:https://pfarreien-bistum-augsburg.df-preview.de/rosenkranz-um-d
 en-frieden-in-der-welt_id1746577
DTSTART;TZID=Europe/Berlin:20260429T180000
DURATION:PT30M
LOCATION:Mariä Verkündigung
END:VEVENT
BEGIN:VEVENT
UID:sabre-vobject-f982c342-b716-46be-827b-a4ddad56bf3a
DTSTAMP:20260421T101350Z
SUMMARY:Hl. Messe
DESCRIPTION:https://pfarreien-bistum-augsburg.df-preview.de/hl-messe_id1746
 462
DTSTART;TZID=Europe/Berlin:20260429T190000
DURATION:PT30M
LOCATION:Maria Immaculata
END:VEVENT
BEGIN:VEVENT
UID:sabre-vobject-a0da27a3-8573-4b66-a9c6-7d6b6f0baee9
DTSTAMP:20260421T101350Z
SUMMARY:Hl. Messe
DESCRIPTION:https://pfarreien-bistum-augsburg.df-preview.de/hl-messe_id1746
 544
DTSTART;TZID=Europe/Berlin:20260429T190000
DURATION:PT30M
LOCATION:St. Leonhard
END:VEVENT
BEGIN:VEVENT
UID:sabre-vobject-24d803ab-bb19-461f-90b4-9d33064747df
DTSTAMP:20260421T101350Z
SUMMARY:Hl. Messe im Isabella-Braun-Heim
DESCRIPTION:https://pfarreien-bistum-augsburg.df-preview.de/hl-messe-im-isa
 bella-braun-heim_id1746426
DTSTART;TZID=Europe/Berlin:20260430T100000
DURATION:PT30M
LOCATION:St. Martin
END:VEVENT
BEGIN:VEVENT
UID:sabre-vobject-37e67800-67a5-464e-81ad-a95c200646c7
DTSTAMP:20260421T101350Z
SUMMARY:Rosenkranz für unsere Priester und Ordensleute sowie um geistliche
  Berufe
DESCRIPTION:https://pfarreien-bistum-augsburg.df-preview.de/rosenkranz-fuer
 -unsere-priester-und-ordensleute-sowie-um-geistliche-berufe_id1746579
DTSTART;TZID=Europe/Berlin:20260430T180000
DURATION:PT30M
LOCATION:Mariä Verkündigung
END:VEVENT
BEGIN:VEVENT
UID:sabre-vobject-52e898f9-830d-414a-b8e2-69bbf7955b8b
DTSTAMP:20260421T101350Z
SUMMARY:Rosenkranz für den Frieden in der Welt
DESCRIPTION:https://pfarreien-bistum-augsburg.df-preview.de/rosenkranz-fuer
 -den-frieden-in-der-welt_id1746555
DTSTART;TZID=Europe/Berlin:20260430T183000
DURATION:PT30M
LOCATION:Mariä Himmelfahrt
END:VEVENT
BEGIN:VEVENT
UID:sabre-vobject-60d243e4-dcfd-45e1-9088-086bfa5cf6cd
DTSTAMP:20260421T101350Z
SUMMARY:Fußwallfahrt nach Violau\; \nTreffpunkt am Pfarrer-von-Ars-Platz
DESCRIPTION:https://pfarreien-bistum-augsburg.df-preview.de/fusswallfahrt-n
 ach-violau-treffpunkt-am-pfarrer-von-ars-platz_id1746589
DTSTART;TZID=Europe/Berlin:20260501T060000
DURATION:PT30M
LOCATION:Mariä Verkündigung
END:VEVENT
BEGIN:VEVENT
UID:sabre-vobject-a6b68255-96c8-4acc-bfe5-7fb0f7820e87
DTSTAMP:20260421T101350Z
SUMMARY:Wallfahrtsmesse in Violau
DESCRIPTION:https://pfarreien-bistum-augsburg.df-preview.de/wallfahrtsmesse
 -in-violau_id1746593
DTSTART;TZID=Europe/Berlin:20260501T084500
DURATION:PT30M
LOCATION:Mariä Verkündigung
END:VEVENT
BEGIN:VEVENT
UID:sabre-vobject-89148a83-733e-49d2-b509-00d09a2ca914
DTSTAMP:20260421T101350Z
SUMMARY:Festgottesdienst für alle Verstorbenen unserer Pfarrgemeinde
DESCRIPTION:https://pfarreien-bistum-augsburg.df-preview.de/festgottesdiens
 t-fuer-alle-verstorbenen-unserer-pfarrgemeinde_id1746450
DTSTART;TZID=Europe/Berlin:20260501T090000
DURATION:PT30M
LOCATION:St. Martin
END:VEVENT
BEGIN:VEVENT
UID:sabre-vobject-26a98531-20d0-4c87-9a11-f294075aaa8d
DTSTAMP:20260421T101350Z
SUMMARY:Festgottesdienst - Abschluss an der Mariensäule
DESCRIPTION:https://pfarreien-bistum-augsburg.df-preview.de/festgottesdiens
 t-abschluss-an-der-mariensaeule_id1746464
DTSTART;TZID=Europe/Berlin:20260501T090000
DURATION:PT30M
LOCATION:St. Peter und Paul
END:VEVENT
BEGIN:VEVENT
UID:sabre-vobject-98be0905-e16b-473e-b8bf-ffe751e946af
DTSTAMP:20260421T101350Z
SUMMARY:Hl. Messe in der Wallfahrtskirche Allerheiligen mit den Wallfahrern
  aus Wollbach
DESCRIPTION:https://pfarreien-bistum-augsburg.df-preview.de/hl-messe-in-der
 -wallfahrtskirche-allerheiligen-mit-den-wallfahrern-aus-wollbach_id1746549
DTSTART;TZID=Europe/Berlin:20260501T103000
DURATION:PT30M
LOCATION:Mariä Himmelfahrt
END:VEVENT
BEGIN:VEVENT
UID:sabre-vobject-bd5169a6-5d44-41c1-8654-d7a03d43e745
DTSTAMP:20260421T101350Z
SUMMARY:Erste feierliche Maiandacht in der Lourdeskapelle
DESCRIPTION:https://pfarreien-bistum-augsburg.df-preview.de/erste-feierlich
 e-maiandacht-in-der-lourdeskapelle_id1746463
DTSTART;TZID=Europe/Berlin:20260501T170000
DURATION:PT30M
LOCATION:Maria Immaculata
END:VEVENT
BEGIN:VEVENT
UID:sabre-vobject-9792806f-3d8e-4422-9f24-13386f75ac70
DTSTAMP:20260421T101350Z
SUMMARY:Erste feierliche Maiandacht
DESCRIPTION:https://pfarreien-bistum-augsburg.df-preview.de/erste-feierlich
 e-maiandacht_id1746574
DTSTART;TZID=Europe/Berlin:20260501T170000
DURATION:PT30M
LOCATION:Mariä Himmelfahrt
END:VEVENT
END:VCALENDAR
