BEGIN:VCALENDAR
VERSION:2.0
PRODID:-//Sabre//Sabre VObject 4.5.8//EN
CALSCALE:GREGORIAN
NAME:Bistum Augsburg
X-WR-CALNAME:Bistum Augsburg
BEGIN:VEVENT
UID:sabre-vobject-1805aff2-8709-4f8c-86c2-2cb1e96127e0
DTSTAMP:20260420T143120Z
SUMMARY:Rosenkranz
DESCRIPTION:https://pfarreien-bistum-augsburg.df-preview.de/rosenkranz_id17
 28135
DTSTART;TZID=Europe/Berlin:20260422T083000
DURATION:PT30M
LOCATION:St. Stephan
END:VEVENT
BEGIN:VEVENT
UID:sabre-vobject-cd05779d-fc93-43c7-b29d-3f8033258455
DTSTAMP:20260420T143121Z
SUMMARY:Hl. Messe\, anschließend Frühstück im Pfarrheim
DESCRIPTION:https://pfarreien-bistum-augsburg.df-preview.de/hl-messe-anschl
 iessend-fruehstueck-im-pfarrheim_id1728136
DTSTART;TZID=Europe/Berlin:20260422T090000
DURATION:PT30M
LOCATION:St. Stephan
END:VEVENT
BEGIN:VEVENT
UID:sabre-vobject-e6091c09-abaa-4275-af50-b0bf0055e2b2
DTSTAMP:20260420T143121Z
SUMMARY:Hl. Messe im Haus Lechfeld
DESCRIPTION:https://pfarreien-bistum-augsburg.df-preview.de/hl-messe-im-hau
 s-lechfeld_id1728137
DTSTART;TZID=Europe/Berlin:20260423T153000
DURATION:PT30M
LOCATION:St. Stephan
END:VEVENT
BEGIN:VEVENT
UID:sabre-vobject-4b55ae48-7ce3-4893-a7bb-dd98460ec575
DTSTAMP:20260420T143121Z
SUMMARY:Hl. Messe
DESCRIPTION:https://pfarreien-bistum-augsburg.df-preview.de/hl-messe_id1728
 181
DTSTART;TZID=Europe/Berlin:20260426T103000
DURATION:PT30M
LOCATION:St. Stephan
END:VEVENT
BEGIN:VEVENT
UID:sabre-vobject-350f63d8-b649-4080-952b-b4e44e9abc16
DTSTAMP:20260420T143121Z
SUMMARY:Rosenkranz
DESCRIPTION:https://pfarreien-bistum-augsburg.df-preview.de/rosenkranz_id17
 28182
DTSTART;TZID=Europe/Berlin:20260429T083000
DURATION:PT30M
LOCATION:St. Stephan
END:VEVENT
BEGIN:VEVENT
UID:sabre-vobject-d2bf27c6-18b0-4477-9689-1285daf1ca2f
DTSTAMP:20260420T143121Z
SUMMARY:Hl. Messe\, anschließend Frühstück im Pfarrheim
DESCRIPTION:https://pfarreien-bistum-augsburg.df-preview.de/hl-messe-anschl
 iessend-fruehstueck-im-pfarrheim_id1728183
DTSTART;TZID=Europe/Berlin:20260429T090000
DURATION:PT30M
LOCATION:St. Stephan
END:VEVENT
BEGIN:VEVENT
UID:sabre-vobject-3525034e-0181-4187-b26e-7cfcd9589f3f
DTSTAMP:20260420T143121Z
SUMMARY:Hl. Messe
DESCRIPTION:https://pfarreien-bistum-augsburg.df-preview.de/hl-messe_id1741
 984
DTSTART;TZID=Europe/Berlin:20260503T103000
DURATION:PT30M
LOCATION:St. Stephan
END:VEVENT
BEGIN:VEVENT
UID:sabre-vobject-53501856-c557-4fd8-a88b-b3b663a3afdb
DTSTAMP:20260420T143121Z
SUMMARY:Maiandacht musikalisch gestaltet vom Kirchenchor
DESCRIPTION:https://pfarreien-bistum-augsburg.df-preview.de/maiandacht-musi
 kalisch-gestaltet-vom-kirchenchor_id1741985
DTSTART;TZID=Europe/Berlin:20260503T190000
DURATION:PT30M
LOCATION:St. Stephan
END:VEVENT
BEGIN:VEVENT
UID:sabre-vobject-90bcf8ed-95f0-4a95-81df-8a27a3c66516
DTSTAMP:20260420T143121Z
SUMMARY:Rosenkranz
DESCRIPTION:https://pfarreien-bistum-augsburg.df-preview.de/rosenkranz_id17
 41986
DTSTART;TZID=Europe/Berlin:20260506T083000
DURATION:PT30M
LOCATION:St. Stephan
END:VEVENT
BEGIN:VEVENT
UID:sabre-vobject-02c48392-768b-4d75-9dbc-bda39a10a6e7
DTSTAMP:20260420T143121Z
SUMMARY:Hl. Messe\, anschließend Frühstück im Pfarrheim
DESCRIPTION:https://pfarreien-bistum-augsburg.df-preview.de/hl-messe-anschl
 iessend-fruehstueck-im-pfarrheim_id1741987
DTSTART;TZID=Europe/Berlin:20260506T090000
DURATION:PT30M
LOCATION:St. Stephan
END:VEVENT
BEGIN:VEVENT
UID:sabre-vobject-53b40058-532e-43bb-8fdd-e904db61b12e
DTSTAMP:20260420T143121Z
SUMMARY:Hl. Messe für die Bewohner des betreuten Wohnens
DESCRIPTION:https://pfarreien-bistum-augsburg.df-preview.de/hl-messe-fuer-d
 ie-bewohner-des-betreuten-wohnens_id1741988
DTSTART;TZID=Europe/Berlin:20260507T160000
DURATION:PT30M
LOCATION:St. Stephan
END:VEVENT
END:VCALENDAR
