BEGIN:VCALENDAR
VERSION:2.0
PRODID:-//Sabre//Sabre VObject 4.5.8//EN
CALSCALE:GREGORIAN
NAME:Bistum Augsburg
X-WR-CALNAME:Bistum Augsburg
BEGIN:VEVENT
UID:sabre-vobject-7407d134-5d29-4c68-9e9c-c96155ffc6d5
DTSTAMP:20260422T093215Z
SUMMARY:Heilige Messe
DESCRIPTION:https://pfarreien-bistum-augsburg.df-preview.de/heilige-messe_i
 d1742492
DTSTART;TZID=Europe/Berlin:20260423T183000
DURATION:PT30M
LOCATION:St. Cosmas und Damian
END:VEVENT
BEGIN:VEVENT
UID:sabre-vobject-ba6225a2-fc8c-4bae-a443-1bc35d44fefc
DTSTAMP:20260422T093215Z
SUMMARY:Heilige Messe
DESCRIPTION:https://pfarreien-bistum-augsburg.df-preview.de/heilige-messe_i
 d1751867
DTSTART;TZID=Europe/Berlin:20260430T183000
DURATION:PT30M
LOCATION:St. Cosmas und Damian
END:VEVENT
BEGIN:VEVENT
UID:sabre-vobject-d7804887-2690-4f80-b0aa-4cf654365e2e
DTSTAMP:20260422T093215Z
SUMMARY:Heilige Messe
DESCRIPTION:https://pfarreien-bistum-augsburg.df-preview.de/heilige-messe_i
 d1751868
DTSTART;TZID=Europe/Berlin:20260503T084500
DURATION:PT30M
LOCATION:St. Cosmas und Damian
END:VEVENT
END:VCALENDAR
