BEGIN:VCALENDAR
VERSION:2.0
PRODID:-//Sabre//Sabre VObject 4.5.8//EN
CALSCALE:GREGORIAN
NAME:Bistum Augsburg
X-WR-CALNAME:Bistum Augsburg
BEGIN:VEVENT
UID:sabre-vobject-5c7ec59f-17b5-46a0-b789-f3f409708476
DTSTAMP:20260421T185717Z
SUMMARY:Pfarrgemeinderatssitzung im Bürgerhaus
DESCRIPTION:https://pfarreien-bistum-augsburg.df-preview.de/pfarrgemeindera
 tssitzung-im-buergerhaus_id1733119
DTSTART;TZID=Europe/Berlin:20260421T191500
DURATION:PT30M
LOCATION:St. Quirinus
END:VEVENT
BEGIN:VEVENT
UID:sabre-vobject-1b1b667b-600d-475c-b23b-2bc1c5652b83
DTSTAMP:20260421T185717Z
SUMMARY:Abendgottesdienst
DESCRIPTION:https://pfarreien-bistum-augsburg.df-preview.de/abendgottesdien
 st_id1733193
DTSTART;TZID=Europe/Berlin:20260422T183000
DURATION:PT30M
LOCATION:St. Peter\, Schloßstraße 10\, 85123 Adelshausen
END:VEVENT
BEGIN:VEVENT
UID:sabre-vobject-8a12cb2a-2cb3-4e97-b261-e6e1fdd3f3ce
DTSTAMP:20260421T185717Z
SUMMARY:Pfarrgemeinderatssitzung im Feuerwehrhaus
DESCRIPTION:https://pfarreien-bistum-augsburg.df-preview.de/pfarrgemeindera
 tssitzung-im-feuerwehrhaus_id1733194
DTSTART;TZID=Europe/Berlin:20260422T193000
DURATION:PT30M
LOCATION:St. Peter\, Schloßstraße 10\, 85123 Adelshausen
END:VEVENT
BEGIN:VEVENT
UID:sabre-vobject-edffc338-d366-41f7-b5e6-5e6625f71383
DTSTAMP:20260421T185717Z
SUMMARY:Gemeinde - Spielenachmittag
DESCRIPTION:https://pfarreien-bistum-augsburg.df-preview.de/gemeinde-spiele
 nachmittag_id1733196
DTSTART;TZID=Europe/Berlin:20260423T140000
DURATION:PT30M
LOCATION:Hlgst. Dreifaltigkeit
END:VEVENT
BEGIN:VEVENT
UID:sabre-vobject-09859711-5b45-4297-94db-93be733c1cd3
DTSTAMP:20260421T185717Z
SUMMARY:Beichtgelegenheit
DESCRIPTION:https://pfarreien-bistum-augsburg.df-preview.de/beichtgelegenhe
 it_id1733108
DTSTART;TZID=Europe/Berlin:20260423T180000
DURATION:PT30M
LOCATION:Hlgst. Dreifaltigkeit
END:VEVENT
BEGIN:VEVENT
UID:sabre-vobject-e0a901bc-fe3e-4d23-8f22-8650fbbe64a0
DTSTAMP:20260421T185717Z
SUMMARY:Abendgottesdienst
DESCRIPTION:https://pfarreien-bistum-augsburg.df-preview.de/abendgottesdien
 st_id1733109
DTSTART;TZID=Europe/Berlin:20260423T183000
DURATION:PT30M
LOCATION:Hlgst. Dreifaltigkeit
END:VEVENT
BEGIN:VEVENT
UID:sabre-vobject-094b0c16-ecff-44ba-abbf-95c518009675
DTSTAMP:20260421T185717Z
SUMMARY:Pfarrgemeinderatssitzung im Pfarrhaus
DESCRIPTION:https://pfarreien-bistum-augsburg.df-preview.de/pfarrgemeindera
 tssitzung-im-pfarrhaus_id1733111
DTSTART;TZID=Europe/Berlin:20260423T193000
DURATION:PT30M
LOCATION:Hlgst. Dreifaltigkeit
END:VEVENT
BEGIN:VEVENT
UID:sabre-vobject-453825f6-7205-4607-9b5a-e6585679ed80
DTSTAMP:20260421T185717Z
SUMMARY:Abendgottesdienst
DESCRIPTION:https://pfarreien-bistum-augsburg.df-preview.de/abendgottesdien
 st_id1733118
DTSTART;TZID=Europe/Berlin:20260424T183000
DURATION:PT30M
LOCATION:St. Quirinus
END:VEVENT
BEGIN:VEVENT
UID:sabre-vobject-9aa82641-69af-449f-896c-ec8541989466
DTSTAMP:20260421T185717Z
SUMMARY:Taufe Kutscherauer Finn Elias
DESCRIPTION:https://pfarreien-bistum-augsburg.df-preview.de/taufe-kutschera
 uer-finn-elias_id1733112
DTSTART;TZID=Europe/Berlin:20260425T140000
DURATION:PT30M
LOCATION:Hlgst. Dreifaltigkeit
END:VEVENT
BEGIN:VEVENT
UID:sabre-vobject-8b0f9577-9e68-4dd7-a533-afa006aed9c0
DTSTAMP:20260421T185717Z
SUMMARY:Beichtgelegenheit
DESCRIPTION:https://pfarreien-bistum-augsburg.df-preview.de/beichtgelegenhe
 it_id1733110
DTSTART;TZID=Europe/Berlin:20260425T180000
DURATION:PT30M
LOCATION:Hlgst. Dreifaltigkeit
END:VEVENT
BEGIN:VEVENT
UID:sabre-vobject-5677f059-c340-490d-beaa-f4475fbe5478
DTSTAMP:20260421T185717Z
SUMMARY:Vorabendgottesdienst
DESCRIPTION:https://pfarreien-bistum-augsburg.df-preview.de/vorabendgottesd
 ienst_id1733113
DTSTART;TZID=Europe/Berlin:20260425T183000
DURATION:PT30M
LOCATION:Hlgst. Dreifaltigkeit
END:VEVENT
BEGIN:VEVENT
UID:sabre-vobject-53347182-0c1f-4d67-8233-091a5a8b38fc
DTSTAMP:20260421T185717Z
SUMMARY:Rosenkranz
DESCRIPTION:https://pfarreien-bistum-augsburg.df-preview.de/rosenkranz_id17
 33120
DTSTART;TZID=Europe/Berlin:20260426T081500
DURATION:PT30M
LOCATION:St. Quirinus
END:VEVENT
BEGIN:VEVENT
UID:sabre-vobject-cf69cd28-21c6-45cf-898a-7b9774b5e5f5
DTSTAMP:20260421T185717Z
SUMMARY:Pfarrgottesdienst mit Verabschiedung und Einführung der Pfarrgemei
 nderatsmitglieder
DESCRIPTION:https://pfarreien-bistum-augsburg.df-preview.de/pfarrgottesdien
 st-mit-verabschiedung-und-einfuehrung-der-pfarrgemeinderatsmitglieder_id17
 33203
DTSTART;TZID=Europe/Berlin:20260426T084500
DURATION:PT30M
LOCATION:St. Quirinus
END:VEVENT
BEGIN:VEVENT
UID:sabre-vobject-aebf6805-e672-41d8-872c-155d3e70cd44
DTSTAMP:20260421T185717Z
SUMMARY:Sonntagsgottesdienst mit Verabschiedung und Einführung der Pfarrge
 meinderatsmitglieder
DESCRIPTION:https://pfarreien-bistum-augsburg.df-preview.de/sonntagsgottesd
 ienst-mit-verabschiedung-und-einfuehrung-der-pfarrgemeinderatsmitglieder_i
 d1733195
DTSTART;TZID=Europe/Berlin:20260426T100000
DURATION:PT30M
LOCATION:St. Peter\, Schloßstraße 10\, 85123 Adelshausen
END:VEVENT
BEGIN:VEVENT
UID:sabre-vobject-65a73642-4ee9-4b1d-a8cf-c204cb4b8f73
DTSTAMP:20260421T185717Z
SUMMARY:Taufe Mattes auf dem Kalvarienberg
DESCRIPTION:https://pfarreien-bistum-augsburg.df-preview.de/taufe-mattes-au
 f-dem-kalvarienberg_id1733161
DTSTART;TZID=Europe/Berlin:20260426T111500
DURATION:PT30M
LOCATION:St. Quirinus
END:VEVENT
BEGIN:VEVENT
UID:sabre-vobject-099e0556-5464-4a7c-bab7-7def827377f4
DTSTAMP:20260421T185717Z
SUMMARY:Stille Anbetung mit Aussetzung auf dem Kalvarienberg
DESCRIPTION:https://pfarreien-bistum-augsburg.df-preview.de/stille-anbetung
 -mit-aussetzung-auf-dem-kalvarienberg_id1733162
DTSTART;TZID=Europe/Berlin:20260426T150000
DURATION:PT30M
LOCATION:St. Quirinus
END:VEVENT
END:VCALENDAR
