BEGIN:VCALENDAR
VERSION:2.0
PRODID:-//Sabre//Sabre VObject 4.5.8//EN
CALSCALE:GREGORIAN
NAME:Bistum Augsburg
X-WR-CALNAME:Bistum Augsburg
BEGIN:VEVENT
UID:sabre-vobject-9548e444-6dab-41bf-8cf7-0d0958c007b4
DTSTAMP:20260424T220345Z
SUMMARY:Heilige Messe
DESCRIPTION:https://pfarreien-bistum-augsburg.df-preview.de/heilige-messe_i
 d1748417
DTSTART;TZID=Europe/Berlin:20260426T083000
DURATION:PT30M
LOCATION:St. Maximilian\, Franziskanergasse 4\, 86152 Augsburg
END:VEVENT
BEGIN:VEVENT
UID:sabre-vobject-d4213aa9-ee12-4f41-89e8-41d3d0cf28ed
DTSTAMP:20260424T220345Z
SUMMARY:Feier der Erstkommunion\n
DESCRIPTION:https://pfarreien-bistum-augsburg.df-preview.de/feier-der-erstk
 ommunion_id1748422
DTSTART;TZID=Europe/Berlin:20260426T110000
DURATION:PT30M
LOCATION:St. Maximilian\, Franziskanergasse 4\, 86152 Augsburg
END:VEVENT
BEGIN:VEVENT
UID:sabre-vobject-46aaf95c-64aa-422b-9f06-62f7753d5ce5
DTSTAMP:20260424T220345Z
SUMMARY:Heilige Messe
DESCRIPTION:https://pfarreien-bistum-augsburg.df-preview.de/heilige-messe_i
 d1748423
DTSTART;TZID=Europe/Berlin:20260427T180000
DURATION:PT30M
LOCATION:St. Maximilian\, Franziskanergasse 4\, 86152 Augsburg
END:VEVENT
BEGIN:VEVENT
UID:sabre-vobject-da6953dc-2447-409b-91fd-873ed0dc8cd0
DTSTAMP:20260424T220345Z
SUMMARY:Heilige Messe
DESCRIPTION:https://pfarreien-bistum-augsburg.df-preview.de/heilige-messe_i
 d1748425
DTSTART;TZID=Europe/Berlin:20260428T090000
DURATION:PT30M
LOCATION:St. Maximilian\, Franziskanergasse 4\, 86152 Augsburg
END:VEVENT
BEGIN:VEVENT
UID:sabre-vobject-b1237b84-61de-4bd7-a1d6-6c7822a222f1
DTSTAMP:20260424T220345Z
SUMMARY:Heilige Messe
DESCRIPTION:https://pfarreien-bistum-augsburg.df-preview.de/heilige-messe_i
 d1748424
DTSTART;TZID=Europe/Berlin:20260430T090000
DURATION:PT30M
LOCATION:St. Maximilian\, Franziskanergasse 4\, 86152 Augsburg
END:VEVENT
BEGIN:VEVENT
UID:sabre-vobject-26f30187-7cd7-4271-ba0f-4c5d5a8fb6e9
DTSTAMP:20260424T220345Z
SUMMARY:Hochamt
DESCRIPTION:https://pfarreien-bistum-augsburg.df-preview.de/hochamt_id17484
 26
DTSTART;TZID=Europe/Berlin:20260501T110000
DURATION:PT30M
LOCATION:St. Maximilian\, Franziskanergasse 4\, 86152 Augsburg
END:VEVENT
BEGIN:VEVENT
UID:sabre-vobject-f52c1802-38a3-4d4c-98c3-b2459a00f2b0
DTSTAMP:20260424T220345Z
SUMMARY:Heilige Messe
DESCRIPTION:https://pfarreien-bistum-augsburg.df-preview.de/heilige-messe_i
 d1747186
DTSTART;TZID=Europe/Berlin:20260503T083000
DURATION:PT30M
LOCATION:St. Maximilian\, Franziskanergasse 4\, 86152 Augsburg
END:VEVENT
BEGIN:VEVENT
UID:sabre-vobject-b33683d8-ef6b-4e7d-a45f-16b153dc0967
DTSTAMP:20260424T220345Z
SUMMARY:Pfarrgottesdienst gleichzeitig Kinderwortgottesdienst in der Turmka
 pelle\n
DESCRIPTION:https://pfarreien-bistum-augsburg.df-preview.de/pfarrgottesdien
 st-gleichzeitig-kinderwortgottesdienst-in-der-turmkapelle_id1747187
DTSTART;TZID=Europe/Berlin:20260503T110000
DURATION:PT30M
LOCATION:St. Maximilian\, Franziskanergasse 4\, 86152 Augsburg
END:VEVENT
BEGIN:VEVENT
UID:sabre-vobject-ed736977-1197-45fa-8861-ce486652e691
DTSTAMP:20260424T220345Z
SUMMARY:feierliche Maiandacht auf der Grünfläche vor der Sakristei
DESCRIPTION:https://pfarreien-bistum-augsburg.df-preview.de/feierliche-maia
 ndacht-auf-der-gruenflaeche-vor-der-sakristei_id1749291
DTSTART;TZID=Europe/Berlin:20260503T180000
DURATION:PT30M
LOCATION:St. Maximilian\, Franziskanergasse 4\, 86152 Augsburg
END:VEVENT
BEGIN:VEVENT
UID:sabre-vobject-ce800695-545f-41ee-84d6-a9a660ab8877
DTSTAMP:20260424T220345Z
SUMMARY:Rosenkranz
DESCRIPTION:https://pfarreien-bistum-augsburg.df-preview.de/rosenkranz_id17
 47188
DTSTART;TZID=Europe/Berlin:20260504T173000
DURATION:PT30M
LOCATION:St. Maximilian\, Franziskanergasse 4\, 86152 Augsburg
END:VEVENT
BEGIN:VEVENT
UID:sabre-vobject-a56b896e-5eff-4bc3-8628-5cd1832d74cf
DTSTAMP:20260424T220345Z
SUMMARY:Heilige Messe
DESCRIPTION:https://pfarreien-bistum-augsburg.df-preview.de/heilige-messe_i
 d1747189
DTSTART;TZID=Europe/Berlin:20260504T180000
DURATION:PT30M
LOCATION:St. Maximilian\, Franziskanergasse 4\, 86152 Augsburg
END:VEVENT
BEGIN:VEVENT
UID:sabre-vobject-d3c51c51-b5ef-4e07-9f1b-351d3cec256f
DTSTAMP:20260424T220345Z
SUMMARY:Heilige Messe
DESCRIPTION:https://pfarreien-bistum-augsburg.df-preview.de/heilige-messe_i
 d1747190
DTSTART;TZID=Europe/Berlin:20260505T090000
DURATION:PT30M
LOCATION:St. Maximilian\, Franziskanergasse 4\, 86152 Augsburg
END:VEVENT
BEGIN:VEVENT
UID:sabre-vobject-9f18eb30-9e1d-420a-a249-b01d2c2ced1f
DTSTAMP:20260424T220345Z
SUMMARY:Heilige Messe
DESCRIPTION:https://pfarreien-bistum-augsburg.df-preview.de/heilige-messe_i
 d1747173
DTSTART;TZID=Europe/Berlin:20260507T090000
DURATION:PT30M
LOCATION:St. Maximilian\, Franziskanergasse 4\, 86152 Augsburg
END:VEVENT
BEGIN:VEVENT
UID:sabre-vobject-d6ba2bef-48e5-40d9-ac13-7e7704ee91e2
DTSTAMP:20260424T220345Z
SUMMARY:Maiandacht gestaltet vom Frauenbund
DESCRIPTION:https://pfarreien-bistum-augsburg.df-preview.de/maiandacht-gest
 altet-vom-frauenbund_id1747191
DTSTART;TZID=Europe/Berlin:20260507T163000
DURATION:PT30M
LOCATION:St. Maximilian\, Franziskanergasse 4\, 86152 Augsburg
END:VEVENT
BEGIN:VEVENT
UID:sabre-vobject-05e86d29-e790-4aa1-ad31-f83a49015eb2
DTSTAMP:20260424T220345Z
SUMMARY:Zönakel
DESCRIPTION:https://pfarreien-bistum-augsburg.df-preview.de/zoenakel_id1747
 192
DTSTART;TZID=Europe/Berlin:20260508T143000
DURATION:PT30M
LOCATION:St. Maximilian\, Franziskanergasse 4\, 86152 Augsburg
END:VEVENT
BEGIN:VEVENT
UID:sabre-vobject-3a188ba8-0eaf-4632-9905-b42ef33ef5f9
DTSTAMP:20260424T220345Z
SUMMARY:Rosenkranz
DESCRIPTION:https://pfarreien-bistum-augsburg.df-preview.de/rosenkranz_id17
 47193
DTSTART;TZID=Europe/Berlin:20260508T173000
DURATION:PT30M
LOCATION:St. Maximilian\, Franziskanergasse 4\, 86152 Augsburg
END:VEVENT
BEGIN:VEVENT
UID:sabre-vobject-9bae8d6d-ba1e-47cb-aa34-05278cba9568
DTSTAMP:20260424T220345Z
SUMMARY:Heilige Messe
DESCRIPTION:https://pfarreien-bistum-augsburg.df-preview.de/heilige-messe_i
 d1747155
DTSTART;TZID=Europe/Berlin:20260508T180000
DURATION:PT30M
LOCATION:St. Maximilian\, Franziskanergasse 4\, 86152 Augsburg
END:VEVENT
BEGIN:VEVENT
UID:sabre-vobject-0ee8b508-2900-464b-b420-fc651d01cd31
DTSTAMP:20260424T220345Z
SUMMARY:Heilige Messe
DESCRIPTION:https://pfarreien-bistum-augsburg.df-preview.de/heilige-messe_i
 d1749292
DTSTART;TZID=Europe/Berlin:20260510T083000
DURATION:PT30M
LOCATION:St. Maximilian\, Franziskanergasse 4\, 86152 Augsburg
END:VEVENT
BEGIN:VEVENT
UID:sabre-vobject-6267843b-9b70-452f-9c23-548d5445eba7
DTSTAMP:20260424T220345Z
SUMMARY:Pfarrgottesdienst\n
DESCRIPTION:https://pfarreien-bistum-augsburg.df-preview.de/pfarrgottesdien
 st_id1749293
DTSTART;TZID=Europe/Berlin:20260510T110000
DURATION:PT30M
LOCATION:St. Maximilian\, Franziskanergasse 4\, 86152 Augsburg
END:VEVENT
BEGIN:VEVENT
UID:sabre-vobject-f4fb3704-3fd1-468d-bd02-e43a856fbadc
DTSTAMP:20260424T220345Z
SUMMARY:Bittmesse
DESCRIPTION:https://pfarreien-bistum-augsburg.df-preview.de/bittmesse_id174
 9294
DTSTART;TZID=Europe/Berlin:20260511T180000
DURATION:PT30M
LOCATION:St. Maximilian\, Franziskanergasse 4\, 86152 Augsburg
END:VEVENT
BEGIN:VEVENT
UID:sabre-vobject-f7856333-3887-489c-8b5a-c4653d7714d7
DTSTAMP:20260424T220345Z
SUMMARY:Heilige Messe
DESCRIPTION:https://pfarreien-bistum-augsburg.df-preview.de/heilige-messe_i
 d1749295
DTSTART;TZID=Europe/Berlin:20260512T090000
DURATION:PT30M
LOCATION:St. Maximilian\, Franziskanergasse 4\, 86152 Augsburg
END:VEVENT
BEGIN:VEVENT
UID:sabre-vobject-786c32a6-124a-4a57-bdb2-54a02cf1f81c
DTSTAMP:20260424T220345Z
SUMMARY:Hochamt zu Christi Himmelfahrt
DESCRIPTION:https://pfarreien-bistum-augsburg.df-preview.de/hochamt-zu-chri
 sti-himmelfahrt_id1749296
DTSTART;TZID=Europe/Berlin:20260514T110000
DURATION:PT30M
LOCATION:St. Maximilian\, Franziskanergasse 4\, 86152 Augsburg
END:VEVENT
BEGIN:VEVENT
UID:sabre-vobject-ce0a3f37-e67d-436c-affc-df06da8c618c
DTSTAMP:20260424T220345Z
SUMMARY:Heilige Messe
DESCRIPTION:https://pfarreien-bistum-augsburg.df-preview.de/heilige-messe_i
 d1749297
DTSTART;TZID=Europe/Berlin:20260515T180000
DURATION:PT30M
LOCATION:St. Maximilian\, Franziskanergasse 4\, 86152 Augsburg
END:VEVENT
END:VCALENDAR
