BEGIN:VCALENDAR
VERSION:2.0
PRODID:-//Sabre//Sabre VObject 4.5.8//EN
CALSCALE:GREGORIAN
NAME:Bistum Augsburg
X-WR-CALNAME:Bistum Augsburg
BEGIN:VEVENT
UID:sabre-vobject-ef136136-49b5-4e19-9a3d-a112ed37caa8
DTSTAMP:20260420T202456Z
SUMMARY:Andacht
DESCRIPTION:https://pfarreien-bistum-augsburg.df-preview.de/andacht_id17176
 74
DTSTART;TZID=Europe/Berlin:20260423T084500
DURATION:PT30M
LOCATION:St. Leonhard\, Kapellenstraße 2\, 91809 Gammersfeld
END:VEVENT
END:VCALENDAR
