BEGIN:VCALENDAR
VERSION:2.0
PRODID:-//Sabre//Sabre VObject 4.5.8//EN
CALSCALE:GREGORIAN
NAME:Bistum Augsburg
X-WR-CALNAME:Bistum Augsburg
BEGIN:VEVENT
UID:sabre-vobject-11040f0e-4bb8-4484-b443-33ae7f1b542d
DTSTAMP:20260420T143050Z
SUMMARY:Rosenkranz für den Frieden
DESCRIPTION:https://pfarreien-bistum-augsburg.df-preview.de/rosenkranz-fuer
 -den-frieden_id1740906
DTSTART;TZID=Europe/Berlin:20260420T180000
DURATION:PT30M
LOCATION:St. Franziskus
END:VEVENT
BEGIN:VEVENT
UID:sabre-vobject-099c64ed-0f27-48f6-aaef-ac3beb2e499d
DTSTAMP:20260420T143050Z
SUMMARY:Rosenkranz für den Frieden
DESCRIPTION:https://pfarreien-bistum-augsburg.df-preview.de/rosenkranz-fuer
 -den-frieden_id1740907
DTSTART;TZID=Europe/Berlin:20260421T180000
DURATION:PT30M
LOCATION:St. Franziskus
END:VEVENT
BEGIN:VEVENT
UID:sabre-vobject-efebaa4d-f1b7-4d82-a02e-fcfcbc594ac3
DTSTAMP:20260420T143050Z
SUMMARY:Rosenkranz für den Frieden
DESCRIPTION:https://pfarreien-bistum-augsburg.df-preview.de/rosenkranz-fuer
 -den-frieden_id1740914
DTSTART;TZID=Europe/Berlin:20260422T180000
DURATION:PT30M
LOCATION:St. Franziskus
END:VEVENT
BEGIN:VEVENT
UID:sabre-vobject-3e465aed-c75c-40a3-a831-b257c5b582d7
DTSTAMP:20260420T143050Z
SUMMARY:Rosenkranz für den Frieden
DESCRIPTION:https://pfarreien-bistum-augsburg.df-preview.de/rosenkranz-fuer
 -den-frieden_id1740915
DTSTART;TZID=Europe/Berlin:20260423T180000
DURATION:PT30M
LOCATION:St. Franziskus
END:VEVENT
BEGIN:VEVENT
UID:sabre-vobject-19569e09-4b16-4c7e-8580-1e95d36d1673
DTSTAMP:20260420T143050Z
SUMMARY:Rosenkranz für den Frieden
DESCRIPTION:https://pfarreien-bistum-augsburg.df-preview.de/rosenkranz-fuer
 -den-frieden_id1740916
DTSTART;TZID=Europe/Berlin:20260424T180000
DURATION:PT30M
LOCATION:St. Franziskus
END:VEVENT
END:VCALENDAR
