BEGIN:VCALENDAR
VERSION:2.0
PRODID:-//Sabre//Sabre VObject 4.5.8//EN
CALSCALE:GREGORIAN
NAME:Bistum Augsburg
X-WR-CALNAME:Bistum Augsburg
BEGIN:VEVENT
UID:sabre-vobject-6c06f1b5-e77a-43c3-acac-7f70ad762d3e
DTSTAMP:20260422T114834Z
SUMMARY:Heilige Messe
DESCRIPTION:https://pfarreien-bistum-augsburg.df-preview.de/heilige-messe_i
 d1615204
DTSTART;TZID=Europe/Berlin:20260426T083000
DURATION:PT30M
LOCATION:St. Stephan
END:VEVENT
BEGIN:VEVENT
UID:sabre-vobject-7cdaa677-8fc8-419c-a81e-72dc46a479df
DTSTAMP:20260422T114834Z
SUMMARY:Heilige Messe
DESCRIPTION:https://pfarreien-bistum-augsburg.df-preview.de/heilige-messe_i
 d1743429
DTSTART;TZID=Europe/Berlin:20260426T083000
DURATION:PT30M
LOCATION:St. Stephan
END:VEVENT
BEGIN:VEVENT
UID:sabre-vobject-329539cd-81ea-42e0-be11-760293e9b12b
DTSTAMP:20260422T114834Z
SUMMARY:Heilige Messe
DESCRIPTION:https://pfarreien-bistum-augsburg.df-preview.de/heilige-messe_i
 d1615205
DTSTART;TZID=Europe/Berlin:20260428T190000
DURATION:PT30M
LOCATION:St. Stephan
END:VEVENT
BEGIN:VEVENT
UID:sabre-vobject-705abc55-af96-405f-8672-feb5f9687bec
DTSTAMP:20260422T114834Z
SUMMARY:Heilige Messe
DESCRIPTION:https://pfarreien-bistum-augsburg.df-preview.de/heilige-messe_i
 d1743430
DTSTART;TZID=Europe/Berlin:20260428T190000
DURATION:PT30M
LOCATION:St. Stephan
END:VEVENT
BEGIN:VEVENT
UID:sabre-vobject-d1de34f8-d801-4966-b4cc-b9b38d72b4da
DTSTAMP:20260422T114834Z
SUMMARY:Vorabendmesse
DESCRIPTION:https://pfarreien-bistum-augsburg.df-preview.de/vorabendmesse_i
 d1615206
DTSTART;TZID=Europe/Berlin:20260502T190000
DURATION:PT30M
LOCATION:St. Stephan
END:VEVENT
BEGIN:VEVENT
UID:sabre-vobject-48c92120-9e8d-4ac3-b1fb-55c785475d20
DTSTAMP:20260422T114834Z
SUMMARY:Vorabendmesse für die Lebenden und Verstorbenen unserer Pfarreien
DESCRIPTION:https://pfarreien-bistum-augsburg.df-preview.de/vorabendmesse-f
 uer-die-lebenden-und-verstorbenen-unserer-pfarreien_id1743432
DTSTART;TZID=Europe/Berlin:20260502T190000
DURATION:PT30M
LOCATION:St. Stephan
END:VEVENT
BEGIN:VEVENT
UID:sabre-vobject-6b49479f-9561-491c-bb62-a840b9bc394a
DTSTAMP:20260422T114834Z
SUMMARY:Maiandacht
DESCRIPTION:https://pfarreien-bistum-augsburg.df-preview.de/maiandacht_id16
 15207
DTSTART;TZID=Europe/Berlin:20260505T190000
DURATION:PT30M
LOCATION:St. Stephan
END:VEVENT
BEGIN:VEVENT
UID:sabre-vobject-abb577fd-c760-4769-968c-8a2a8ef9ff63
DTSTAMP:20260422T114834Z
SUMMARY:Maiandacht
DESCRIPTION:https://pfarreien-bistum-augsburg.df-preview.de/maiandacht_id17
 43434
DTSTART;TZID=Europe/Berlin:20260505T190000
DURATION:PT30M
LOCATION:St. Stephan
END:VEVENT
BEGIN:VEVENT
UID:sabre-vobject-50abb73f-fec1-48d0-bf1e-a13209720af2
DTSTAMP:20260422T114834Z
SUMMARY:Heilige Messe
DESCRIPTION:https://pfarreien-bistum-augsburg.df-preview.de/heilige-messe_i
 d1615208
DTSTART;TZID=Europe/Berlin:20260510T083000
DURATION:PT30M
LOCATION:St. Stephan
END:VEVENT
BEGIN:VEVENT
UID:sabre-vobject-9a7f7ba5-89c8-4640-974b-d1fa177eb644
DTSTAMP:20260422T114834Z
SUMMARY:Heilige Messe
DESCRIPTION:https://pfarreien-bistum-augsburg.df-preview.de/heilige-messe_i
 d1743435
DTSTART;TZID=Europe/Berlin:20260510T083000
DURATION:PT30M
LOCATION:St. Stephan
END:VEVENT
BEGIN:VEVENT
UID:sabre-vobject-ef674ce0-deeb-48b4-b737-cf9050e552ee
DTSTAMP:20260422T114834Z
SUMMARY:Heilige Messe
DESCRIPTION:https://pfarreien-bistum-augsburg.df-preview.de/heilige-messe_i
 d1615211
DTSTART;TZID=Europe/Berlin:20260512T190000
DURATION:PT30M
LOCATION:St. Stephan
END:VEVENT
BEGIN:VEVENT
UID:sabre-vobject-25cdc6d4-caf0-4f4f-8342-0502a35545a2
DTSTAMP:20260422T114834Z
SUMMARY:Vorabendmesse
DESCRIPTION:https://pfarreien-bistum-augsburg.df-preview.de/vorabendmesse_i
 d1615212
DTSTART;TZID=Europe/Berlin:20260516T190000
DURATION:PT30M
LOCATION:St. Stephan
END:VEVENT
BEGIN:VEVENT
UID:sabre-vobject-ab05bd1f-cdc8-4d0d-aa7d-709779f42458
DTSTAMP:20260422T114834Z
SUMMARY:Maiandacht
DESCRIPTION:https://pfarreien-bistum-augsburg.df-preview.de/maiandacht_id16
 15213
DTSTART;TZID=Europe/Berlin:20260517T190000
DURATION:PT30M
LOCATION:St. Stephan
END:VEVENT
BEGIN:VEVENT
UID:sabre-vobject-9247ecff-05ac-4622-9ce3-150337e930f4
DTSTAMP:20260422T114834Z
SUMMARY:Heilige Messe
DESCRIPTION:https://pfarreien-bistum-augsburg.df-preview.de/heilige-messe_i
 d1614595
DTSTART;TZID=Europe/Berlin:20260519T190000
DURATION:PT30M
LOCATION:St. Stephan
END:VEVENT
BEGIN:VEVENT
UID:sabre-vobject-8f2cb256-56d8-454d-bf8d-febf853663ef
DTSTAMP:20260422T114834Z
SUMMARY:Trauung Monika Spies mit Pfarrer Miorin
DESCRIPTION:https://pfarreien-bistum-augsburg.df-preview.de/trauung-monika-
 spies-mit-pfarrer-miorin_id1614596
DTSTART;TZID=Europe/Berlin:20260523T130000
DURATION:PT30M
LOCATION:St. Stephan
END:VEVENT
BEGIN:VEVENT
UID:sabre-vobject-fda266b1-d741-4f92-9498-04fe3d2aeeb4
DTSTAMP:20260422T114834Z
SUMMARY:Heilige Messe
DESCRIPTION:https://pfarreien-bistum-augsburg.df-preview.de/heilige-messe_i
 d1614597
DTSTART;TZID=Europe/Berlin:20260524T083000
DURATION:PT30M
LOCATION:St. Stephan
END:VEVENT
BEGIN:VEVENT
UID:sabre-vobject-c3a0d2d6-37b6-4b2d-a4aa-6d3a8a68ce66
DTSTAMP:20260422T114834Z
SUMMARY:Heilige Messe
DESCRIPTION:https://pfarreien-bistum-augsburg.df-preview.de/heilige-messe_i
 d1614598
DTSTART;TZID=Europe/Berlin:20260526T190000
DURATION:PT30M
LOCATION:St. Stephan
END:VEVENT
BEGIN:VEVENT
UID:sabre-vobject-2027e053-3af7-4905-808e-940f481e50f7
DTSTAMP:20260422T114834Z
SUMMARY:Vorabendmesse
DESCRIPTION:https://pfarreien-bistum-augsburg.df-preview.de/vorabendmesse_i
 d1615209
DTSTART;TZID=Europe/Berlin:20260530T190000
DURATION:PT30M
LOCATION:St. Stephan
END:VEVENT
BEGIN:VEVENT
UID:sabre-vobject-c837cc85-2fc4-4bbf-b1c1-a0dca1face8d
DTSTAMP:20260422T114834Z
SUMMARY:Heilige Messe
DESCRIPTION:https://pfarreien-bistum-augsburg.df-preview.de/heilige-messe_i
 d1615210
DTSTART;TZID=Europe/Berlin:20260602T190000
DURATION:PT30M
LOCATION:St. Stephan
END:VEVENT
BEGIN:VEVENT
UID:sabre-vobject-2728e366-0dc1-4049-89f8-54ac21225903
DTSTAMP:20260422T114834Z
SUMMARY:Heilige Messe
DESCRIPTION:https://pfarreien-bistum-augsburg.df-preview.de/heilige-messe_i
 d1614599
DTSTART;TZID=Europe/Berlin:20260607T083000
DURATION:PT30M
LOCATION:St. Stephan
END:VEVENT
BEGIN:VEVENT
UID:sabre-vobject-25c7097d-3aaf-48c2-9faf-66ebf9112a33
DTSTAMP:20260422T114834Z
SUMMARY:Heilige Messe
DESCRIPTION:https://pfarreien-bistum-augsburg.df-preview.de/heilige-messe_i
 d1614696
DTSTART;TZID=Europe/Berlin:20260609T190000
DURATION:PT30M
LOCATION:St. Stephan
END:VEVENT
BEGIN:VEVENT
UID:sabre-vobject-8a4a4c07-a5f6-4789-b984-df56043819d0
DTSTAMP:20260422T114834Z
SUMMARY:Vorabendmesse
DESCRIPTION:https://pfarreien-bistum-augsburg.df-preview.de/vorabendmesse_i
 d1614636
DTSTART;TZID=Europe/Berlin:20260613T190000
DURATION:PT30M
LOCATION:St. Stephan
END:VEVENT
BEGIN:VEVENT
UID:sabre-vobject-5a25deef-80e6-427d-b373-c0bd58ebfdad
DTSTAMP:20260422T114834Z
SUMMARY:Heilige Messe
DESCRIPTION:https://pfarreien-bistum-augsburg.df-preview.de/heilige-messe_i
 d1614637
DTSTART;TZID=Europe/Berlin:20260616T190000
DURATION:PT30M
LOCATION:St. Stephan
END:VEVENT
BEGIN:VEVENT
UID:sabre-vobject-b7b7a3cd-5f2c-4030-b3c6-e0f5af1517fd
DTSTAMP:20260422T114834Z
SUMMARY:Heilige Messe
DESCRIPTION:https://pfarreien-bistum-augsburg.df-preview.de/heilige-messe_i
 d1614638
DTSTART;TZID=Europe/Berlin:20260621T083000
DURATION:PT30M
LOCATION:St. Stephan
END:VEVENT
BEGIN:VEVENT
UID:sabre-vobject-857cc62a-d335-43da-bf90-96edf861a6da
DTSTAMP:20260422T114834Z
SUMMARY:Heilige Messe
DESCRIPTION:https://pfarreien-bistum-augsburg.df-preview.de/heilige-messe_i
 d1614639
DTSTART;TZID=Europe/Berlin:20260623T190000
DURATION:PT30M
LOCATION:St. Stephan
END:VEVENT
BEGIN:VEVENT
UID:sabre-vobject-58e4535a-92ac-43ad-81a7-717a84a193a6
DTSTAMP:20260422T114834Z
SUMMARY:Vorabendmesse
DESCRIPTION:https://pfarreien-bistum-augsburg.df-preview.de/vorabendmesse_i
 d1614640
DTSTART;TZID=Europe/Berlin:20260627T190000
DURATION:PT30M
LOCATION:St. Stephan
END:VEVENT
BEGIN:VEVENT
UID:sabre-vobject-a656deda-51d5-4b2b-8048-292fe81176ba
DTSTAMP:20260422T114834Z
SUMMARY:Heilige Messe
DESCRIPTION:https://pfarreien-bistum-augsburg.df-preview.de/heilige-messe_i
 d1614641
DTSTART;TZID=Europe/Berlin:20260630T190000
DURATION:PT30M
LOCATION:St. Stephan
END:VEVENT
BEGIN:VEVENT
UID:sabre-vobject-1109a845-c7d7-44ec-80dd-aace22347118
DTSTAMP:20260422T114834Z
SUMMARY:Heilige Messe
DESCRIPTION:https://pfarreien-bistum-augsburg.df-preview.de/heilige-messe_i
 d1614642
DTSTART;TZID=Europe/Berlin:20260705T083000
DURATION:PT30M
LOCATION:St. Stephan
END:VEVENT
BEGIN:VEVENT
UID:sabre-vobject-76574757-b2bf-4b57-abb5-f5e76a790c58
DTSTAMP:20260422T114834Z
SUMMARY:Heilige Messe
DESCRIPTION:https://pfarreien-bistum-augsburg.df-preview.de/heilige-messe_i
 d1614644
DTSTART;TZID=Europe/Berlin:20260707T190000
DURATION:PT30M
LOCATION:St. Stephan
END:VEVENT
BEGIN:VEVENT
UID:sabre-vobject-211cda62-170e-4233-9844-988892a0a624
DTSTAMP:20260422T114834Z
SUMMARY:Vorabendmesse
DESCRIPTION:https://pfarreien-bistum-augsburg.df-preview.de/vorabendmesse_i
 d1614645
DTSTART;TZID=Europe/Berlin:20260711T190000
DURATION:PT30M
LOCATION:St. Stephan
END:VEVENT
BEGIN:VEVENT
UID:sabre-vobject-8f345861-7331-4484-8901-2403eae1fb04
DTSTAMP:20260422T114834Z
SUMMARY:Heilige Messe
DESCRIPTION:https://pfarreien-bistum-augsburg.df-preview.de/heilige-messe_i
 d1614646
DTSTART;TZID=Europe/Berlin:20260714T190000
DURATION:PT30M
LOCATION:St. Stephan
END:VEVENT
BEGIN:VEVENT
UID:sabre-vobject-bdbae100-ae19-41fa-806a-a2afabd3dfe1
DTSTAMP:20260422T114834Z
SUMMARY:Heilige Messe
DESCRIPTION:https://pfarreien-bistum-augsburg.df-preview.de/heilige-messe_i
 d1614647
DTSTART;TZID=Europe/Berlin:20260719T083000
DURATION:PT30M
LOCATION:St. Stephan
END:VEVENT
BEGIN:VEVENT
UID:sabre-vobject-600bd92f-ec47-4c2b-9049-5f0fdd0e63db
DTSTAMP:20260422T114834Z
SUMMARY:Heilige Messe
DESCRIPTION:https://pfarreien-bistum-augsburg.df-preview.de/heilige-messe_i
 d1614648
DTSTART;TZID=Europe/Berlin:20260721T190000
DURATION:PT30M
LOCATION:St. Stephan
END:VEVENT
BEGIN:VEVENT
UID:sabre-vobject-bd784cee-5f9f-48b2-a922-c110ed368e62
DTSTAMP:20260422T114834Z
SUMMARY:Vorabendmesse
DESCRIPTION:https://pfarreien-bistum-augsburg.df-preview.de/vorabendmesse_i
 d1614649
DTSTART;TZID=Europe/Berlin:20260725T190000
DURATION:PT30M
LOCATION:St. Stephan
END:VEVENT
BEGIN:VEVENT
UID:sabre-vobject-fcbe165d-1bf1-4d90-b308-855c9e6f6e4e
DTSTAMP:20260422T114834Z
SUMMARY:Heilige Messe
DESCRIPTION:https://pfarreien-bistum-augsburg.df-preview.de/heilige-messe_i
 d1614650
DTSTART;TZID=Europe/Berlin:20260728T190000
DURATION:PT30M
LOCATION:St. Stephan
END:VEVENT
BEGIN:VEVENT
UID:sabre-vobject-71dbaf0f-b35c-43c1-83a1-c059def93c75
DTSTAMP:20260422T114834Z
SUMMARY:Satio zum Bittgang nach St. Kastl
DESCRIPTION:https://pfarreien-bistum-augsburg.df-preview.de/satio-zum-bittg
 ang-nach-st-kastl_id1614694
DTSTART;TZID=Europe/Berlin:20260731T180000
DURATION:PT30M
LOCATION:St. Stephan
END:VEVENT
BEGIN:VEVENT
UID:sabre-vobject-0377a909-2740-4d8f-bbad-ecb21dc94103
DTSTAMP:20260422T114834Z
SUMMARY:Heilige Messe
DESCRIPTION:https://pfarreien-bistum-augsburg.df-preview.de/heilige-messe_i
 d1614695
DTSTART;TZID=Europe/Berlin:20260802T083000
DURATION:PT30M
LOCATION:St. Stephan
END:VEVENT
BEGIN:VEVENT
UID:sabre-vobject-6b214736-78c3-4be6-a334-ee81927539c9
DTSTAMP:20260422T114834Z
SUMMARY:Heilige Messe
DESCRIPTION:https://pfarreien-bistum-augsburg.df-preview.de/heilige-messe_i
 d1614742
DTSTART;TZID=Europe/Berlin:20260804T190000
DURATION:PT30M
LOCATION:St. Stephan
END:VEVENT
BEGIN:VEVENT
UID:sabre-vobject-25a99b64-709e-465f-9989-f0aa95ade6a2
DTSTAMP:20260422T114834Z
SUMMARY:Vorabendmesse
DESCRIPTION:https://pfarreien-bistum-augsburg.df-preview.de/vorabendmesse_i
 d1614737
DTSTART;TZID=Europe/Berlin:20260808T190000
DURATION:PT30M
LOCATION:St. Stephan
END:VEVENT
BEGIN:VEVENT
UID:sabre-vobject-c64d05e8-f342-47ca-9181-57f31143cc3e
DTSTAMP:20260422T114834Z
SUMMARY:Heilige Messe PATROZINIUM
DESCRIPTION:https://pfarreien-bistum-augsburg.df-preview.de/heilige-messe-p
 atrozinium_id1614738
DTSTART;TZID=Europe/Berlin:20260810T190000
DURATION:PT30M
LOCATION:St. Stephan
END:VEVENT
BEGIN:VEVENT
UID:sabre-vobject-2724e150-e927-4856-8071-e9fcb27a1af2
DTSTAMP:20260422T114834Z
SUMMARY:Heilige Messe
DESCRIPTION:https://pfarreien-bistum-augsburg.df-preview.de/heilige-messe_i
 d1614739
DTSTART;TZID=Europe/Berlin:20260811T190000
DURATION:PT30M
LOCATION:St. Stephan
END:VEVENT
BEGIN:VEVENT
UID:sabre-vobject-40c1b21e-d986-4de9-ab02-d5dc578102dc
DTSTAMP:20260422T114834Z
SUMMARY:Heilige Messe
DESCRIPTION:https://pfarreien-bistum-augsburg.df-preview.de/heilige-messe_i
 d1614740
DTSTART;TZID=Europe/Berlin:20260816T083000
DURATION:PT30M
LOCATION:St. Stephan
END:VEVENT
BEGIN:VEVENT
UID:sabre-vobject-6315f340-0ada-44a4-a415-3f2d23df0d0c
DTSTAMP:20260422T114834Z
SUMMARY:Heilige Messe
DESCRIPTION:https://pfarreien-bistum-augsburg.df-preview.de/heilige-messe_i
 d1614741
DTSTART;TZID=Europe/Berlin:20260818T190000
DURATION:PT30M
LOCATION:St. Stephan
END:VEVENT
BEGIN:VEVENT
UID:sabre-vobject-f2d13ab1-0afc-414f-9e91-05d66b0cde36
DTSTAMP:20260422T114834Z
SUMMARY:Vorabendmesse
DESCRIPTION:https://pfarreien-bistum-augsburg.df-preview.de/vorabendmesse_i
 d1614743
DTSTART;TZID=Europe/Berlin:20260822T190000
DURATION:PT30M
LOCATION:St. Stephan
END:VEVENT
BEGIN:VEVENT
UID:sabre-vobject-763d0714-a946-4d8d-8ccb-4990e7dd77fb
DTSTAMP:20260422T114834Z
SUMMARY:Heilige Messe
DESCRIPTION:https://pfarreien-bistum-augsburg.df-preview.de/heilige-messe_i
 d1614746
DTSTART;TZID=Europe/Berlin:20260825T190000
DURATION:PT30M
LOCATION:St. Stephan
END:VEVENT
BEGIN:VEVENT
UID:sabre-vobject-651543ce-fc38-4edf-ba71-9b3c9beb7dbe
DTSTAMP:20260422T114834Z
SUMMARY:Heilige Messe
DESCRIPTION:https://pfarreien-bistum-augsburg.df-preview.de/heilige-messe_i
 d1614747
DTSTART;TZID=Europe/Berlin:20260830T083000
DURATION:PT30M
LOCATION:St. Stephan
END:VEVENT
BEGIN:VEVENT
UID:sabre-vobject-aff9035a-d24e-4155-a917-46fae0eb9949
DTSTAMP:20260422T114834Z
SUMMARY:Heilige Messe
DESCRIPTION:https://pfarreien-bistum-augsburg.df-preview.de/heilige-messe_i
 d1614744
DTSTART;TZID=Europe/Berlin:20260901T190000
DURATION:PT30M
LOCATION:St. Stephan
END:VEVENT
BEGIN:VEVENT
UID:sabre-vobject-6ae560b1-b082-4bbf-9d4a-80bab341f48a
DTSTAMP:20260422T114834Z
SUMMARY:Vorabendmesse
DESCRIPTION:https://pfarreien-bistum-augsburg.df-preview.de/vorabendmesse_i
 d1614745
DTSTART;TZID=Europe/Berlin:20260905T190000
DURATION:PT30M
LOCATION:St. Stephan
END:VEVENT
BEGIN:VEVENT
UID:sabre-vobject-a8d23f54-8cf9-420f-897b-0e212c7c35c5
DTSTAMP:20260422T114834Z
SUMMARY:Heilige Messe
DESCRIPTION:https://pfarreien-bistum-augsburg.df-preview.de/heilige-messe_i
 d1614858
DTSTART;TZID=Europe/Berlin:20260908T190000
DURATION:PT30M
LOCATION:St. Stephan
END:VEVENT
BEGIN:VEVENT
UID:sabre-vobject-1334d316-c991-4263-a238-d64503eeb407
DTSTAMP:20260422T114834Z
SUMMARY:Heilige Messe
DESCRIPTION:https://pfarreien-bistum-augsburg.df-preview.de/heilige-messe_i
 d1614859
DTSTART;TZID=Europe/Berlin:20260913T083000
DURATION:PT30M
LOCATION:St. Stephan
END:VEVENT
BEGIN:VEVENT
UID:sabre-vobject-c080543b-dd37-4c6d-a7a4-f1d242db1235
DTSTAMP:20260422T114834Z
SUMMARY:Heilige Messe
DESCRIPTION:https://pfarreien-bistum-augsburg.df-preview.de/heilige-messe_i
 d1614860
DTSTART;TZID=Europe/Berlin:20260915T190000
DURATION:PT30M
LOCATION:St. Stephan
END:VEVENT
BEGIN:VEVENT
UID:sabre-vobject-edb2ae3e-f766-4f73-a827-c9ae84ec1e33
DTSTAMP:20260422T114834Z
SUMMARY:Vorabendmesse
DESCRIPTION:https://pfarreien-bistum-augsburg.df-preview.de/vorabendmesse_i
 d1614861
DTSTART;TZID=Europe/Berlin:20260919T190000
DURATION:PT30M
LOCATION:St. Stephan
END:VEVENT
BEGIN:VEVENT
UID:sabre-vobject-2ab5a01d-3793-4554-945c-2750bce93489
DTSTAMP:20260422T114834Z
SUMMARY:Heilige Messe
DESCRIPTION:https://pfarreien-bistum-augsburg.df-preview.de/heilige-messe_i
 d1614862
DTSTART;TZID=Europe/Berlin:20260922T190000
DURATION:PT30M
LOCATION:St. Stephan
END:VEVENT
BEGIN:VEVENT
UID:sabre-vobject-6da35ec5-ecbe-45b4-b4e1-342255ae03ea
DTSTAMP:20260422T114834Z
SUMMARY:Heilige Messe
DESCRIPTION:https://pfarreien-bistum-augsburg.df-preview.de/heilige-messe_i
 d1614863
DTSTART;TZID=Europe/Berlin:20260927T083000
DURATION:PT30M
LOCATION:St. Stephan
END:VEVENT
BEGIN:VEVENT
UID:sabre-vobject-8c57d81d-d17a-4104-8bff-0e93753b7154
DTSTAMP:20260422T114834Z
SUMMARY:Heilige Messe
DESCRIPTION:https://pfarreien-bistum-augsburg.df-preview.de/heilige-messe_i
 d1614864
DTSTART;TZID=Europe/Berlin:20260929T190000
DURATION:PT30M
LOCATION:St. Stephan
END:VEVENT
BEGIN:VEVENT
UID:sabre-vobject-8cb4f2d6-c977-44ac-a470-7b5a678c6859
DTSTAMP:20260422T114834Z
SUMMARY:Vorabendmesse
DESCRIPTION:https://pfarreien-bistum-augsburg.df-preview.de/vorabendmesse_i
 d1614865
DTSTART;TZID=Europe/Berlin:20261003T190000
DURATION:PT30M
LOCATION:St. Stephan
END:VEVENT
BEGIN:VEVENT
UID:sabre-vobject-aaf88825-cf87-41bb-8f7e-68ce517e327f
DTSTAMP:20260422T114834Z
SUMMARY:Heilige Messe
DESCRIPTION:https://pfarreien-bistum-augsburg.df-preview.de/heilige-messe_i
 d1614867
DTSTART;TZID=Europe/Berlin:20261006T190000
DURATION:PT30M
LOCATION:St. Stephan
END:VEVENT
BEGIN:VEVENT
UID:sabre-vobject-0cf7a15c-be11-405f-800a-111be8172e2f
DTSTAMP:20260422T114834Z
SUMMARY:Heilige Messe
DESCRIPTION:https://pfarreien-bistum-augsburg.df-preview.de/heilige-messe_i
 d1614868
DTSTART;TZID=Europe/Berlin:20261011T083000
DURATION:PT30M
LOCATION:St. Stephan
END:VEVENT
BEGIN:VEVENT
UID:sabre-vobject-a549fbcd-07dd-4df4-b30e-b608cc511976
DTSTAMP:20260422T114834Z
SUMMARY:Heilige Messe
DESCRIPTION:https://pfarreien-bistum-augsburg.df-preview.de/heilige-messe_i
 d1614869
DTSTART;TZID=Europe/Berlin:20261013T190000
DURATION:PT30M
LOCATION:St. Stephan
END:VEVENT
BEGIN:VEVENT
UID:sabre-vobject-891a6174-84ef-4280-b404-0734a924f6ef
DTSTAMP:20260422T114834Z
SUMMARY:Vorabendmesse
DESCRIPTION:https://pfarreien-bistum-augsburg.df-preview.de/vorabendmesse_i
 d1614857
DTSTART;TZID=Europe/Berlin:20261017T190000
DURATION:PT30M
LOCATION:St. Stephan
END:VEVENT
BEGIN:VEVENT
UID:sabre-vobject-c4bd60c2-8c8f-4348-9f5a-6204e3ae0f6f
DTSTAMP:20260422T114834Z
SUMMARY:Heilige Messe
DESCRIPTION:https://pfarreien-bistum-augsburg.df-preview.de/heilige-messe_i
 d1614866
DTSTART;TZID=Europe/Berlin:20261020T190000
DURATION:PT30M
LOCATION:St. Stephan
END:VEVENT
BEGIN:VEVENT
UID:sabre-vobject-ff8f1143-005a-49d0-af98-9d3b5370c7cb
DTSTAMP:20260422T114834Z
SUMMARY:Heilige Messe
DESCRIPTION:https://pfarreien-bistum-augsburg.df-preview.de/heilige-messe_i
 d1615030
DTSTART;TZID=Europe/Berlin:20261025T083000
DURATION:PT30M
LOCATION:St. Stephan
END:VEVENT
BEGIN:VEVENT
UID:sabre-vobject-1f1ff4e4-ec75-4355-b453-374fe1d73778
DTSTAMP:20260422T114834Z
SUMMARY:Heilige Messe
DESCRIPTION:https://pfarreien-bistum-augsburg.df-preview.de/heilige-messe_i
 d1615031
DTSTART;TZID=Europe/Berlin:20261027T180000
DURATION:PT30M
LOCATION:St. Stephan
END:VEVENT
BEGIN:VEVENT
UID:sabre-vobject-ff6cf46e-3176-4cd7-9cba-9763ea25fef0
DTSTAMP:20260422T114834Z
SUMMARY:Heilige Messe - anschließend Gräbersegnung
DESCRIPTION:https://pfarreien-bistum-augsburg.df-preview.de/heilige-messe-a
 nschliessend-graebersegnung_id1615032
DTSTART;TZID=Europe/Berlin:20261031T100000
DURATION:PT30M
LOCATION:St. Stephan
END:VEVENT
BEGIN:VEVENT
UID:sabre-vobject-4dbe529b-ef8f-4185-9607-6d529e0a0228
DTSTAMP:20260422T114834Z
SUMMARY:Vorabendmesse - anschließend Gräbersegnung
DESCRIPTION:https://pfarreien-bistum-augsburg.df-preview.de/vorabendmesse-a
 nschliessend-graebersegnung_id1615071
DTSTART;TZID=Europe/Berlin:20261031T180000
DURATION:PT30M
LOCATION:St. Stephan
END:VEVENT
BEGIN:VEVENT
UID:sabre-vobject-4e2f020f-5ac6-458d-83ab-409450313f64
DTSTAMP:20260422T114834Z
SUMMARY:Heilige Messe
DESCRIPTION:https://pfarreien-bistum-augsburg.df-preview.de/heilige-messe_i
 d1615029
DTSTART;TZID=Europe/Berlin:20261103T180000
DURATION:PT30M
LOCATION:St. Stephan
END:VEVENT
BEGIN:VEVENT
UID:sabre-vobject-dae7cb95-a000-452f-aff6-bdc9a90b634b
DTSTAMP:20260422T114834Z
SUMMARY:Heilige Messe
DESCRIPTION:https://pfarreien-bistum-augsburg.df-preview.de/heilige-messe_i
 d1614662
DTSTART;TZID=Europe/Berlin:20261108T083000
DURATION:PT30M
LOCATION:St. Stephan
END:VEVENT
BEGIN:VEVENT
UID:sabre-vobject-47763414-6851-4d83-850e-7d8e9e3a2d4b
DTSTAMP:20260422T114834Z
SUMMARY:Heilige Messe
DESCRIPTION:https://pfarreien-bistum-augsburg.df-preview.de/heilige-messe_i
 d1614663
DTSTART;TZID=Europe/Berlin:20261110T180000
DURATION:PT30M
LOCATION:St. Stephan
END:VEVENT
BEGIN:VEVENT
UID:sabre-vobject-c538c1a1-2af2-4e3d-b344-95b423b4e168
DTSTAMP:20260422T114834Z
SUMMARY:Ewige Anbetung Rohr und Filiale Gambach
DESCRIPTION:https://pfarreien-bistum-augsburg.df-preview.de/ewige-anbetung-
 rohr-und-filiale-gambach_id1614664
DTSTART;TZID=Europe/Berlin:20261111T000000
DURATION:PT30M
LOCATION:St. Stephan
END:VEVENT
BEGIN:VEVENT
UID:sabre-vobject-26a4b850-2064-489c-85de-3fcd5c3de1be
DTSTAMP:20260422T114834Z
SUMMARY:Vorabendmesse
DESCRIPTION:https://pfarreien-bistum-augsburg.df-preview.de/vorabendmesse_i
 d1614665
DTSTART;TZID=Europe/Berlin:20261114T180000
DURATION:PT30M
LOCATION:St. Stephan
END:VEVENT
BEGIN:VEVENT
UID:sabre-vobject-646b76cb-cca8-400d-964d-93681e4a5dbe
DTSTAMP:20260422T114834Z
SUMMARY:Heilige Messe
DESCRIPTION:https://pfarreien-bistum-augsburg.df-preview.de/heilige-messe_i
 d1614666
DTSTART;TZID=Europe/Berlin:20261117T180000
DURATION:PT30M
LOCATION:St. Stephan
END:VEVENT
BEGIN:VEVENT
UID:sabre-vobject-259ede90-2cd7-47ef-aea0-bea4e394c087
DTSTAMP:20260422T114834Z
SUMMARY:Heilige Messe
DESCRIPTION:https://pfarreien-bistum-augsburg.df-preview.de/heilige-messe_i
 d1614667
DTSTART;TZID=Europe/Berlin:20261122T083000
DURATION:PT30M
LOCATION:St. Stephan
END:VEVENT
BEGIN:VEVENT
UID:sabre-vobject-36468a7f-99f6-4dff-8cd9-d4c733dfb953
DTSTAMP:20260422T114834Z
SUMMARY:Heilige Messe
DESCRIPTION:https://pfarreien-bistum-augsburg.df-preview.de/heilige-messe_i
 d1614704
DTSTART;TZID=Europe/Berlin:20261124T180000
DURATION:PT30M
LOCATION:St. Stephan
END:VEVENT
BEGIN:VEVENT
UID:sabre-vobject-02728637-c19f-413f-b086-dbd0cb6c02bd
DTSTAMP:20260422T114834Z
SUMMARY:Vorabendmesse
DESCRIPTION:https://pfarreien-bistum-augsburg.df-preview.de/vorabendmesse_i
 d1614705
DTSTART;TZID=Europe/Berlin:20261128T180000
DURATION:PT30M
LOCATION:St. Stephan
END:VEVENT
BEGIN:VEVENT
UID:sabre-vobject-623db94a-185c-4dbe-a82f-0cff79decd84
DTSTAMP:20260422T114834Z
SUMMARY:Heilige Messe
DESCRIPTION:https://pfarreien-bistum-augsburg.df-preview.de/heilige-messe_i
 d1614706
DTSTART;TZID=Europe/Berlin:20261201T180000
DURATION:PT30M
LOCATION:St. Stephan
END:VEVENT
BEGIN:VEVENT
UID:sabre-vobject-0b08bb80-5a37-4be0-ad64-984ecf3e4204
DTSTAMP:20260422T114834Z
SUMMARY:Heilige Messe
DESCRIPTION:https://pfarreien-bistum-augsburg.df-preview.de/heilige-messe_i
 d1614707
DTSTART;TZID=Europe/Berlin:20261206T083000
DURATION:PT30M
LOCATION:St. Stephan
END:VEVENT
BEGIN:VEVENT
UID:sabre-vobject-26e4ca5a-1815-44b6-b4de-408ed18897da
DTSTAMP:20260422T114834Z
SUMMARY:Heilige Messe
DESCRIPTION:https://pfarreien-bistum-augsburg.df-preview.de/heilige-messe_i
 d1614708
DTSTART;TZID=Europe/Berlin:20261208T180000
DURATION:PT30M
LOCATION:St. Stephan
END:VEVENT
BEGIN:VEVENT
UID:sabre-vobject-92d8a9a8-b62f-4512-aaba-3911df55ce83
DTSTAMP:20260422T114834Z
SUMMARY:Vorabendmesse
DESCRIPTION:https://pfarreien-bistum-augsburg.df-preview.de/vorabendmesse_i
 d1614709
DTSTART;TZID=Europe/Berlin:20261212T180000
DURATION:PT30M
LOCATION:St. Stephan
END:VEVENT
BEGIN:VEVENT
UID:sabre-vobject-0227e0d1-7578-4c3e-ac0f-69d73baa44b3
DTSTAMP:20260422T114834Z
SUMMARY:Heilige Messe
DESCRIPTION:https://pfarreien-bistum-augsburg.df-preview.de/heilige-messe_i
 d1614710
DTSTART;TZID=Europe/Berlin:20261215T180000
DURATION:PT30M
LOCATION:St. Stephan
END:VEVENT
BEGIN:VEVENT
UID:sabre-vobject-83e8ac45-ba88-4666-987e-44d0ea74e099
DTSTAMP:20260422T114834Z
SUMMARY:Heilige Messe
DESCRIPTION:https://pfarreien-bistum-augsburg.df-preview.de/heilige-messe_i
 d1614711
DTSTART;TZID=Europe/Berlin:20261220T083000
DURATION:PT30M
LOCATION:St. Stephan
END:VEVENT
BEGIN:VEVENT
UID:sabre-vobject-eed383b1-1654-4578-8c0e-b089bf50decc
DTSTAMP:20260422T114834Z
SUMMARY:Heilige Messe
DESCRIPTION:https://pfarreien-bistum-augsburg.df-preview.de/heilige-messe_i
 d1614712
DTSTART;TZID=Europe/Berlin:20261222T180000
DURATION:PT30M
LOCATION:St. Stephan
END:VEVENT
BEGIN:VEVENT
UID:sabre-vobject-44c3a16c-920e-4f63-b0f1-ffb4291cd460
DTSTAMP:20260422T114834Z
SUMMARY:Vorabendmesse
DESCRIPTION:https://pfarreien-bistum-augsburg.df-preview.de/vorabendmesse_i
 d1614713
DTSTART;TZID=Europe/Berlin:20261226T180000
DURATION:PT30M
LOCATION:St. Stephan
END:VEVENT
BEGIN:VEVENT
UID:sabre-vobject-065dbe24-25d8-45cc-9027-5f4bae333e77
DTSTAMP:20260422T114834Z
SUMMARY:Heilige Messe
DESCRIPTION:https://pfarreien-bistum-augsburg.df-preview.de/heilige-messe_i
 d1614714
DTSTART;TZID=Europe/Berlin:20261229T180000
DURATION:PT30M
LOCATION:St. Stephan
END:VEVENT
END:VCALENDAR
