BEGIN:VCALENDAR
VERSION:2.0
PRODID:-//Sabre//Sabre VObject 4.5.8//EN
CALSCALE:GREGORIAN
NAME:Bistum Augsburg
X-WR-CALNAME:Bistum Augsburg
BEGIN:VEVENT
UID:sabre-vobject-b327d4b4-7ab2-4d7d-a9ba-39e2b78f6a25
DTSTAMP:20260421T130623Z
SUMMARY:Rosenkranz
DESCRIPTION:https://pfarreien-bistum-augsburg.df-preview.de/rosenkranz_id17
 41057
DTSTART;TZID=Europe/Berlin:20260421T173000
DURATION:PT30M
LOCATION:St. Nikolaus\, Pfarrer-Otto-Burger-Str. 1\, 85084 Reichertshofen
END:VEVENT
BEGIN:VEVENT
UID:sabre-vobject-73934be0-4bca-4be9-b3bd-d86e4746cade
DTSTAMP:20260421T130623Z
SUMMARY:Heilige Messe
DESCRIPTION:https://pfarreien-bistum-augsburg.df-preview.de/heilige-messe_i
 d1741058
DTSTART;TZID=Europe/Berlin:20260421T180000
DURATION:PT30M
LOCATION:St. Nikolaus\, Pfarrer-Otto-Burger-Str. 1\, 85084 Reichertshofen
END:VEVENT
BEGIN:VEVENT
UID:sabre-vobject-2cf99263-1c29-45f5-b35d-59389e0c0fad
DTSTAMP:20260421T130623Z
SUMMARY:Gottesdienst
DESCRIPTION:https://pfarreien-bistum-augsburg.df-preview.de/gottesdienst_id
 1741059
DTSTART;TZID=Europe/Berlin:20260426T090000
DURATION:PT30M
LOCATION:St. Nikolaus\, Pfarrer-Otto-Burger-Str. 1\, 85084 Reichertshofen
END:VEVENT
END:VCALENDAR
