BEGIN:VCALENDAR
VERSION:2.0
PRODID:-//Sabre//Sabre VObject 4.5.8//EN
CALSCALE:GREGORIAN
NAME:Bistum Augsburg
X-WR-CALNAME:Bistum Augsburg
BEGIN:VEVENT
UID:sabre-vobject-6ca2a0e5-b3c1-4e4c-90e7-e452f20de003
DTSTAMP:20260421T173416Z
SUMMARY:Heilige Messe
DESCRIPTION:https://pfarreien-bistum-augsburg.df-preview.de/heilige-messe_i
 d1723423
DTSTART;TZID=Europe/Berlin:20260421T190000
DURATION:PT30M
LOCATION:St. Gallus
END:VEVENT
BEGIN:VEVENT
UID:sabre-vobject-95bbeef7-c05c-43b6-b033-ed3c7a76dc0e
DTSTAMP:20260421T173416Z
SUMMARY:Heilige Messe
DESCRIPTION:https://pfarreien-bistum-augsburg.df-preview.de/heilige-messe_i
 d1723670
DTSTART;TZID=Europe/Berlin:20260428T190000
DURATION:PT30M
LOCATION:St. Gallus
END:VEVENT
BEGIN:VEVENT
UID:sabre-vobject-b2a7f6c2-13b4-4748-9dcb-cd95cbeaa10a
DTSTAMP:20260421T173416Z
SUMMARY:Heilige Messe für die Pfarrgemeinde\nGedenken an die Verst. der Or
 tsvereine
DESCRIPTION:https://pfarreien-bistum-augsburg.df-preview.de/heilige-messe-f
 uer-die-pfarrgemeinde-gedenken-an-die-verst-der-ortsvereine_id1723665
DTSTART;TZID=Europe/Berlin:20260501T090000
DURATION:PT30M
LOCATION:St. Gallus
END:VEVENT
BEGIN:VEVENT
UID:sabre-vobject-bca68e56-02a3-446b-989a-500deb7ea1b0
DTSTAMP:20260421T173416Z
SUMMARY:Heilige Messe
DESCRIPTION:https://pfarreien-bistum-augsburg.df-preview.de/heilige-messe_i
 d1735863
DTSTART;TZID=Europe/Berlin:20260505T190000
DURATION:PT30M
LOCATION:St. Gallus
END:VEVENT
BEGIN:VEVENT
UID:sabre-vobject-338422dd-bf89-4832-ad4e-caf58556eb51
DTSTAMP:20260421T173416Z
SUMMARY:Zeit mit Gott - Betstunde
DESCRIPTION:https://pfarreien-bistum-augsburg.df-preview.de/zeit-mit-gott-b
 etstunde_id1735864
DTSTART;TZID=Europe/Berlin:20260507T190000
DURATION:PT30M
LOCATION:St. Gallus
END:VEVENT
BEGIN:VEVENT
UID:sabre-vobject-29bb63d0-5d3a-479a-995e-b7be3fac92c8
DTSTAMP:20260421T173416Z
SUMMARY:Maiandacht mit Diakon Anton Seemüller
DESCRIPTION:https://pfarreien-bistum-augsburg.df-preview.de/maiandacht-mit-
 diakon-anton-seemueller_id1742816
DTSTART;TZID=Europe/Berlin:20260510T190000
DURATION:PT30M
LOCATION:St. Gallus
END:VEVENT
BEGIN:VEVENT
UID:sabre-vobject-c9ad0717-bbeb-4f9a-ba45-2373e3e41106
DTSTAMP:20260421T173416Z
SUMMARY:Heilige Messe für die Pfarrgemeinde  \nZeltgottesdienst in Deubach
DESCRIPTION:https://pfarreien-bistum-augsburg.df-preview.de/heilige-messe-f
 uer-die-pfarrgemeinde-zeltgottesdienst-in-deubach_id1742817
DTSTART;TZID=Europe/Berlin:20260514T090000
DURATION:PT30M
LOCATION:St. Gallus
END:VEVENT
END:VCALENDAR
