BEGIN:VCALENDAR
VERSION:2.0
PRODID:-//Sabre//Sabre VObject 4.5.8//EN
CALSCALE:GREGORIAN
NAME:Bistum Augsburg
X-WR-CALNAME:Bistum Augsburg
BEGIN:VEVENT
UID:sabre-vobject-27a65043-3bf2-409e-b02f-5aac92aa7808
DTSTAMP:20260420T193241Z
SUMMARY:Rosenkranz
DESCRIPTION:https://pfarreien-bistum-augsburg.df-preview.de/rosenkranz_id17
 21245
DTSTART;TZID=Europe/Berlin:20260421T083000
DURATION:PT30M
LOCATION:St. Stephan
END:VEVENT
BEGIN:VEVENT
UID:sabre-vobject-19e1618f-a6ad-4deb-9f48-9a961ef04f87
DTSTAMP:20260420T193241Z
SUMMARY:Heilige Messe
DESCRIPTION:https://pfarreien-bistum-augsburg.df-preview.de/heilige-messe_i
 d1721246
DTSTART;TZID=Europe/Berlin:20260423T190000
DURATION:PT30M
LOCATION:St. Stephan
END:VEVENT
BEGIN:VEVENT
UID:sabre-vobject-a6921309-c2f4-4772-bec3-347db5ac742b
DTSTAMP:20260420T193241Z
SUMMARY:Heilige Messe m. Erstkommunionfeier
DESCRIPTION:https://pfarreien-bistum-augsburg.df-preview.de/heilige-messe-m
 -erstkommunionfeier_id1721247
DTSTART;TZID=Europe/Berlin:20260426T100000
DURATION:PT30M
LOCATION:St. Stephan
END:VEVENT
BEGIN:VEVENT
UID:sabre-vobject-475a3594-5f1e-4615-a13a-4f53171fd9ae
DTSTAMP:20260420T193241Z
SUMMARY:Rosenkranz
DESCRIPTION:https://pfarreien-bistum-augsburg.df-preview.de/rosenkranz_id17
 21248
DTSTART;TZID=Europe/Berlin:20260426T123000
DURATION:PT30M
LOCATION:St. Stephan
END:VEVENT
BEGIN:VEVENT
UID:sabre-vobject-8fe17a90-f24c-4fca-9da1-c8b55e8ee833
DTSTAMP:20260420T193241Z
SUMMARY:Rosenkranz
DESCRIPTION:https://pfarreien-bistum-augsburg.df-preview.de/rosenkranz_id17
 21249
DTSTART;TZID=Europe/Berlin:20260428T083000
DURATION:PT30M
LOCATION:St. Stephan
END:VEVENT
BEGIN:VEVENT
UID:sabre-vobject-1110ee4e-30be-47a6-a9d1-73c167c50665
DTSTAMP:20260420T193241Z
SUMMARY:Heilige Messe entfällt
DESCRIPTION:https://pfarreien-bistum-augsburg.df-preview.de/heilige-messe-e
 ntfaellt_id1721250
DTSTART;TZID=Europe/Berlin:20260430T190000
DURATION:PT30M
LOCATION:St. Stephan
END:VEVENT
BEGIN:VEVENT
UID:sabre-vobject-dd29afe6-4c04-4d88-9307-760d84e756e7
DTSTAMP:20260420T193241Z
SUMMARY:Heilige Messe
DESCRIPTION:https://pfarreien-bistum-augsburg.df-preview.de/heilige-messe_i
 d1721251
DTSTART;TZID=Europe/Berlin:20260501T100000
DURATION:PT30M
LOCATION:St. Stephan
END:VEVENT
BEGIN:VEVENT
UID:sabre-vobject-36b764ec-d680-432a-ab1a-6430e2805479
DTSTAMP:20260420T193241Z
SUMMARY:Heilige Messe\, Kollekte für die Pfarrbücherei
DESCRIPTION:https://pfarreien-bistum-augsburg.df-preview.de/heilige-messe-k
 ollekte-fuer-die-pfarrbuecherei_id1737747
DTSTART;TZID=Europe/Berlin:20260503T083000
DURATION:PT30M
LOCATION:St. Stephan
END:VEVENT
BEGIN:VEVENT
UID:sabre-vobject-13c396a8-3588-4f90-be14-664534c36db7
DTSTAMP:20260420T193241Z
SUMMARY:Maiandacht
DESCRIPTION:https://pfarreien-bistum-augsburg.df-preview.de/maiandacht_id17
 37748
DTSTART;TZID=Europe/Berlin:20260503T190000
DURATION:PT30M
LOCATION:St. Stephan
END:VEVENT
BEGIN:VEVENT
UID:sabre-vobject-6036a6b7-757e-4b15-935c-23f11dbfefab
DTSTAMP:20260420T193241Z
SUMMARY:Rosenkranz
DESCRIPTION:https://pfarreien-bistum-augsburg.df-preview.de/rosenkranz_id17
 37693
DTSTART;TZID=Europe/Berlin:20260505T083000
DURATION:PT30M
LOCATION:St. Stephan
END:VEVENT
BEGIN:VEVENT
UID:sabre-vobject-91db0799-96d2-43a2-81b1-1290db63edb6
DTSTAMP:20260420T193241Z
SUMMARY:Heilige Messe
DESCRIPTION:https://pfarreien-bistum-augsburg.df-preview.de/heilige-messe_i
 d1737694
DTSTART;TZID=Europe/Berlin:20260507T190000
DURATION:PT30M
LOCATION:St. Stephan
END:VEVENT
END:VCALENDAR
