BEGIN:VCALENDAR
VERSION:2.0
PRODID:-//Sabre//Sabre VObject 4.5.8//EN
CALSCALE:GREGORIAN
NAME:Bistum Augsburg
X-WR-CALNAME:Bistum Augsburg
BEGIN:VEVENT
UID:sabre-vobject-2d6c1261-7afd-4726-8ae5-46f9adda6519
DTSTAMP:20260425T210855Z
SUMMARY:Festgottesdienst zur Erstkommunion
DESCRIPTION:https://pfarreien-bistum-augsburg.df-preview.de/festgottesdiens
 t-zur-erstkommunion_id1752172
DTSTART;TZID=Europe/Berlin:20260426T100000
DURATION:PT30M
LOCATION:St. Martin
END:VEVENT
BEGIN:VEVENT
UID:sabre-vobject-1ff9cb0c-837a-40dd-92a4-36ebb8cef4cc
DTSTAMP:20260425T210855Z
SUMMARY:Heilige Messe
DESCRIPTION:https://pfarreien-bistum-augsburg.df-preview.de/heilige-messe_i
 d1752173
DTSTART;TZID=Europe/Berlin:20260429T183000
DURATION:PT30M
LOCATION:St. Martin
END:VEVENT
BEGIN:VEVENT
UID:sabre-vobject-c3e47766-fbf5-40d9-9216-448bd732b80b
DTSTAMP:20260425T210855Z
SUMMARY:feierliche Maiandacht an der Mariensäule mit den Kommunion- und Fi
 rmkindern\n(Bei schlechtem Wetter in der Kirche) aller 3 Pfarreien ???
DESCRIPTION:https://pfarreien-bistum-augsburg.df-preview.de/feierliche-maia
 ndacht-an-der-mariensaeule-mit-den-kommunion-und-firmkindern-bei-schlechte
 m-wetter-in-der-kirche-aller-3-pfarreien_id1752174
DTSTART;TZID=Europe/Berlin:20260501T180000
DURATION:PT30M
LOCATION:St. Martin
END:VEVENT
BEGIN:VEVENT
UID:sabre-vobject-6b0d3821-66fe-4761-838f-388344505dfc
DTSTAMP:20260425T210855Z
SUMMARY:Vorabendmesse Blumenopfer
DESCRIPTION:https://pfarreien-bistum-augsburg.df-preview.de/vorabendmesse-b
 lumenopfer_id1752175
DTSTART;TZID=Europe/Berlin:20260502T183000
DURATION:PT30M
LOCATION:St. Martin
END:VEVENT
BEGIN:VEVENT
UID:sabre-vobject-69c4e85c-5559-4539-b7e2-22c59bb4d137
DTSTAMP:20260425T210855Z
SUMMARY:Heilige Messe mit Mariengedenken Gebet und Opfer für geistliche Be
 rufe
DESCRIPTION:https://pfarreien-bistum-augsburg.df-preview.de/heilige-messe-m
 it-mariengedenken-gebet-und-opfer-fuer-geistliche-berufe_id1752176
DTSTART;TZID=Europe/Berlin:20260506T183000
DURATION:PT30M
LOCATION:St. Martin
END:VEVENT
BEGIN:VEVENT
UID:sabre-vobject-ed662ec1-a554-4119-83dd-46341b8309ba
DTSTAMP:20260425T210855Z
SUMMARY:Rosenkranz
DESCRIPTION:https://pfarreien-bistum-augsburg.df-preview.de/rosenkranz_id17
 52177
DTSTART;TZID=Europe/Berlin:20260508T183000
DURATION:PT30M
LOCATION:St. Martin
END:VEVENT
BEGIN:VEVENT
UID:sabre-vobject-72f9e3fd-30ad-4eab-a75d-721d83e1dae4
DTSTAMP:20260425T210855Z
SUMMARY:Heilige Messe
DESCRIPTION:https://pfarreien-bistum-augsburg.df-preview.de/heilige-messe_i
 d1752178
DTSTART;TZID=Europe/Berlin:20260510T083000
DURATION:PT30M
LOCATION:St. Martin
END:VEVENT
BEGIN:VEVENT
UID:sabre-vobject-34312a5e-9896-456d-99b7-a4dc137d48d5
DTSTAMP:20260425T210855Z
SUMMARY:Rosenkranz um eine gute Ernte
DESCRIPTION:https://pfarreien-bistum-augsburg.df-preview.de/rosenkranz-um-e
 ine-gute-ernte_id1752179
DTSTART;TZID=Europe/Berlin:20260511T183000
DURATION:PT30M
LOCATION:St. Martin
END:VEVENT
BEGIN:VEVENT
UID:sabre-vobject-6aeebb9c-de7a-49b3-a64b-c3b95eeeefd5
DTSTAMP:20260425T210855Z
SUMMARY:Bittandacht
DESCRIPTION:https://pfarreien-bistum-augsburg.df-preview.de/bittandacht_id1
 752180
DTSTART;TZID=Europe/Berlin:20260512T183000
DURATION:PT30M
LOCATION:St. Martin
END:VEVENT
BEGIN:VEVENT
UID:sabre-vobject-ff198f95-4233-4d53-a933-4d1fce98003c
DTSTAMP:20260425T210855Z
SUMMARY:Bittgang mit den Kommunion- und Firmkindern\n(während des Bittgang
 s besteht die Möglichkeit zum Rosenkranzgebet in der Kirche) ??
DESCRIPTION:https://pfarreien-bistum-augsburg.df-preview.de/bittgang-mit-de
 n-kommunion-und-firmkindern-waehrend-des-bittgangs-besteht-die-moeglichkei
 t-zum-rosenkranzgebet-in-der-kirche_id1752181
DTSTART;TZID=Europe/Berlin:20260513T183000
DURATION:PT30M
LOCATION:St. Martin
END:VEVENT
BEGIN:VEVENT
UID:sabre-vobject-439a5ce5-eb7d-4c24-8307-629c2d4d3ef8
DTSTAMP:20260425T210855Z
SUMMARY:Bittprozession zur Waldkapelle ab Mariensäule
DESCRIPTION:https://pfarreien-bistum-augsburg.df-preview.de/bittprozession-
 zur-waldkapelle-ab-mariensaeule_id1752566
DTSTART;TZID=Europe/Berlin:20260514T092000
DURATION:PT30M
LOCATION:St. Martin
END:VEVENT
BEGIN:VEVENT
UID:sabre-vobject-95fb99bb-5fbd-4ca2-8f52-b039091b0898
DTSTAMP:20260425T210855Z
SUMMARY:Heilige Messe an der Waldkapelle mit den Kommunion- und Firmkindern
  aller Pfarreien
DESCRIPTION:https://pfarreien-bistum-augsburg.df-preview.de/heilige-messe-a
 n-der-waldkapelle-mit-den-kommunion-und-firmkindern-aller-pfarreien_id1752
 168
DTSTART;TZID=Europe/Berlin:20260514T100000
DURATION:PT30M
LOCATION:St. Martin
END:VEVENT
BEGIN:VEVENT
UID:sabre-vobject-10efa757-3eda-44fc-930b-a5b6c41738eb
DTSTAMP:20260425T210855Z
SUMMARY:Heilige Messe Mini´s gestalten einen Kinder- und Familiengottesdie
 nst Kollekte für die Ministranten
DESCRIPTION:https://pfarreien-bistum-augsburg.df-preview.de/heilige-messe-m
 ini-s-gestalten-einen-kinder-und-familiengottesdienst-kollekte-fuer-die-mi
 nistranten_id1752205
DTSTART;TZID=Europe/Berlin:20260517T100000
DURATION:PT30M
LOCATION:St. Martin
END:VEVENT
BEGIN:VEVENT
UID:sabre-vobject-2c46d63f-adcc-4c8b-af00-735a73aec377
DTSTAMP:20260425T210855Z
SUMMARY:Heilige Messe mit Mariengedenken
DESCRIPTION:https://pfarreien-bistum-augsburg.df-preview.de/heilige-messe-m
 it-mariengedenken_id1752206
DTSTART;TZID=Europe/Berlin:20260520T183000
DURATION:PT30M
LOCATION:St. Martin
END:VEVENT
BEGIN:VEVENT
UID:sabre-vobject-6aa66c03-f0ae-4136-8b46-e25ddf4030a9
DTSTAMP:20260425T210855Z
SUMMARY:Rosenkranz
DESCRIPTION:https://pfarreien-bistum-augsburg.df-preview.de/rosenkranz_id17
 52169
DTSTART;TZID=Europe/Berlin:20260522T183000
DURATION:PT30M
LOCATION:St. Martin
END:VEVENT
BEGIN:VEVENT
UID:sabre-vobject-1a7a4518-fa83-4c15-af32-913f93468650
DTSTAMP:20260425T210855Z
SUMMARY:Heilige Messe Aufnahme/Verabschiedung Mini´s ??\nVerabschiedung de
 r ausscheidenden PGR-Mitglieder
DESCRIPTION:https://pfarreien-bistum-augsburg.df-preview.de/heilige-messe-a
 ufnahme-verabschiedung-mini-s-verabschiedung-der-ausscheidenden-pgr-mitgli
 eder_id1752204
DTSTART;TZID=Europe/Berlin:20260524T083000
DURATION:PT30M
LOCATION:St. Martin
END:VEVENT
BEGIN:VEVENT
UID:sabre-vobject-cb1d4b8d-e557-4abb-83d1-35d17b523544
DTSTAMP:20260425T210855Z
SUMMARY:Heilige Messe großes Kirchenopfer
DESCRIPTION:https://pfarreien-bistum-augsburg.df-preview.de/heilige-messe-g
 rosses-kirchenopfer_id1752248
DTSTART;TZID=Europe/Berlin:20260525T100000
DURATION:PT30M
LOCATION:St. Martin
END:VEVENT
END:VCALENDAR
