BEGIN:VCALENDAR
VERSION:2.0
PRODID:-//Sabre//Sabre VObject 4.5.8//EN
CALSCALE:GREGORIAN
NAME:Bistum Augsburg
X-WR-CALNAME:Bistum Augsburg
BEGIN:VEVENT
UID:sabre-vobject-4ead9db9-c368-4ae9-bf16-af4e9b411ad3
DTSTAMP:20260420T181159Z
SUMMARY:Rosenkranz
DESCRIPTION:https://pfarreien-bistum-augsburg.df-preview.de/rosenkranz_id17
 25442
DTSTART;TZID=Europe/Berlin:20260421T183000
DURATION:PT30M
LOCATION:St. Maria Magdalena
END:VEVENT
BEGIN:VEVENT
UID:sabre-vobject-5d92ada2-dcef-4b11-84f4-d4a07905d53c
DTSTAMP:20260420T181159Z
SUMMARY:Beichtgelegenheit
DESCRIPTION:https://pfarreien-bistum-augsburg.df-preview.de/beichtgelegenhe
 it_id1727005
DTSTART;TZID=Europe/Berlin:20260425T183000
DURATION:PT30M
LOCATION:St. Maria Magdalena
END:VEVENT
BEGIN:VEVENT
UID:sabre-vobject-a6bafec1-f072-4963-b8fb-1537105f343f
DTSTAMP:20260420T181159Z
SUMMARY:Vorabendmesse zum Sonntag \nHl. Messe
DESCRIPTION:https://pfarreien-bistum-augsburg.df-preview.de/vorabendmesse-z
 um-sonntag-hl-messe_id1727008
DTSTART;TZID=Europe/Berlin:20260425T190000
DURATION:PT30M
LOCATION:St. Maria Magdalena
END:VEVENT
BEGIN:VEVENT
UID:sabre-vobject-89a5f1f7-dba9-46a2-a337-ab5e632f3ad7
DTSTAMP:20260420T181159Z
SUMMARY:Konzert der Rhythmusgruppe "Samira" zum 30-jährigen Jubiläum
DESCRIPTION:https://pfarreien-bistum-augsburg.df-preview.de/konzert-der-rhy
 thmusgruppe-samira-zum-30-jaehrigen-jubilaeum_id1727077
DTSTART;TZID=Europe/Berlin:20260426T183000
DURATION:PT30M
LOCATION:St. Maria Magdalena
END:VEVENT
BEGIN:VEVENT
UID:sabre-vobject-05860a2f-abfd-4b3b-be0e-b2ed26ad5b2e
DTSTAMP:20260420T181159Z
SUMMARY:09.00- 12.00 Ewige Anbetung in Handzell
DESCRIPTION:https://pfarreien-bistum-augsburg.df-preview.de/09-00-12-00-ewi
 ge-anbetung-in-handzell_id1727078
DTSTART;TZID=Europe/Berlin:20260427T000000
DURATION:PT30M
LOCATION:St. Maria Magdalena
END:VEVENT
BEGIN:VEVENT
UID:sabre-vobject-07c8bcfb-0e57-493d-8542-0783b3e13a53
DTSTAMP:20260420T181159Z
SUMMARY:Hl. Messe
DESCRIPTION:https://pfarreien-bistum-augsburg.df-preview.de/hl-messe_id1727
 079
DTSTART;TZID=Europe/Berlin:20260427T090000
DURATION:PT30M
LOCATION:St. Maria Magdalena
END:VEVENT
BEGIN:VEVENT
UID:sabre-vobject-5c35a954-57da-492f-97a0-d47a50d9c5a4
DTSTAMP:20260420T181159Z
SUMMARY:Rosenkranz
DESCRIPTION:https://pfarreien-bistum-augsburg.df-preview.de/rosenkranz_id17
 27080
DTSTART;TZID=Europe/Berlin:20260428T183000
DURATION:PT30M
LOCATION:St. Maria Magdalena
END:VEVENT
BEGIN:VEVENT
UID:sabre-vobject-51a6310f-c005-4ef8-b732-13257e51a30c
DTSTAMP:20260420T181159Z
SUMMARY:Festgottesdienst
DESCRIPTION:https://pfarreien-bistum-augsburg.df-preview.de/festgottesdiens
 t_id1727061
DTSTART;TZID=Europe/Berlin:20260501T100000
DURATION:PT30M
LOCATION:St. Maria Magdalena
END:VEVENT
BEGIN:VEVENT
UID:sabre-vobject-c8fe4c18-bad5-4811-81d7-d998afa2e028
DTSTAMP:20260420T181159Z
SUMMARY:Hl. Messe
DESCRIPTION:https://pfarreien-bistum-augsburg.df-preview.de/hl-messe_id1732
 158
DTSTART;TZID=Europe/Berlin:20260503T083000
DURATION:PT30M
LOCATION:St. Maria Magdalena
END:VEVENT
BEGIN:VEVENT
UID:sabre-vobject-ede02f70-8ae1-4d5f-bf9e-88e1e2e93dee
DTSTAMP:20260420T181159Z
SUMMARY:Maiandacht
DESCRIPTION:https://pfarreien-bistum-augsburg.df-preview.de/maiandacht_id17
 32159
DTSTART;TZID=Europe/Berlin:20260505T183000
DURATION:PT30M
LOCATION:St. Maria Magdalena
END:VEVENT
BEGIN:VEVENT
UID:sabre-vobject-3168c272-b363-49ea-8bd6-d7806c51e7aa
DTSTAMP:20260420T181159Z
SUMMARY:Maiandacht
DESCRIPTION:https://pfarreien-bistum-augsburg.df-preview.de/maiandacht_id17
 46223
DTSTART;TZID=Europe/Berlin:20260510T180000
DURATION:PT30M
LOCATION:St. Maria Magdalena
END:VEVENT
BEGIN:VEVENT
UID:sabre-vobject-0d304548-1344-4f66-be0f-b4469e76653a
DTSTAMP:20260420T181159Z
SUMMARY:Bittgang nach Immendorf
DESCRIPTION:https://pfarreien-bistum-augsburg.df-preview.de/bittgang-nach-i
 mmendorf_id1746234
DTSTART;TZID=Europe/Berlin:20260511T181500
DURATION:PT30M
LOCATION:St. Maria Magdalena
END:VEVENT
BEGIN:VEVENT
UID:sabre-vobject-2202b33b-b74d-4ba1-9c86-22e27387f82a
DTSTAMP:20260420T181159Z
SUMMARY:Bittgang zur Ulrichskapelle
DESCRIPTION:https://pfarreien-bistum-augsburg.df-preview.de/bittgang-zur-ul
 richskapelle_id1746235
DTSTART;TZID=Europe/Berlin:20260512T183000
DURATION:PT30M
LOCATION:St. Maria Magdalena
END:VEVENT
BEGIN:VEVENT
UID:sabre-vobject-ca2506df-300a-4ef1-b66b-8a04e9a5131a
DTSTAMP:20260420T181159Z
SUMMARY:Bittmesse in der Ulrichskapelle
DESCRIPTION:https://pfarreien-bistum-augsburg.df-preview.de/bittmesse-in-de
 r-ulrichskapelle_id1746236
DTSTART;TZID=Europe/Berlin:20260512T190000
DURATION:PT30M
LOCATION:St. Maria Magdalena
END:VEVENT
BEGIN:VEVENT
UID:sabre-vobject-3e6ed3d9-c124-4d21-8169-72be618b8c20
DTSTAMP:20260420T181159Z
SUMMARY:Festgottesdienst\nanschließend Flurumgang\n
DESCRIPTION:https://pfarreien-bistum-augsburg.df-preview.de/festgottesdiens
 t-anschliessend-flurumgang_id1746245
DTSTART;TZID=Europe/Berlin:20260514T100000
DURATION:PT30M
LOCATION:St. Maria Magdalena
END:VEVENT
END:VCALENDAR
