BEGIN:VCALENDAR
VERSION:2.0
PRODID:-//Sabre//Sabre VObject 4.5.8//EN
CALSCALE:GREGORIAN
NAME:Bistum Augsburg
X-WR-CALNAME:Bistum Augsburg
BEGIN:VEVENT
UID:sabre-vobject-e622504d-69df-43c5-9168-c48364404564
DTSTAMP:20260420T151827Z
SUMMARY:Taufe eines Kindes
DESCRIPTION:https://pfarreien-bistum-augsburg.df-preview.de/taufe-eines-kin
 des_id1745238
DTSTART;TZID=Europe/Berlin:20260425T103000
DURATION:PT30M
LOCATION:St. Vitus
END:VEVENT
BEGIN:VEVENT
UID:sabre-vobject-0312dff6-30fd-4068-9436-94d369670752
DTSTAMP:20260420T151827Z
SUMMARY:Taufe von Ida Josefa Wolf
DESCRIPTION:https://pfarreien-bistum-augsburg.df-preview.de/taufe-von-ida-j
 osefa-wolf_id1745384
DTSTART;TZID=Europe/Berlin:20260425T133000
DURATION:PT30M
LOCATION:St. Nikolaus
END:VEVENT
BEGIN:VEVENT
UID:sabre-vobject-b1a4b097-e1ee-4796-9e4b-23c1bd57e3df
DTSTAMP:20260420T151827Z
SUMMARY:Taufe von Olivia Hinse-Stern
DESCRIPTION:https://pfarreien-bistum-augsburg.df-preview.de/taufe-von-olivi
 a-hinse-stern_id1745293
DTSTART;TZID=Europe/Berlin:20260425T143000
DURATION:PT30M
LOCATION:St. Andreas
END:VEVENT
BEGIN:VEVENT
UID:sabre-vobject-6e59050a-4089-43e3-a382-e8dea28ba69c
DTSTAMP:20260420T151827Z
SUMMARY:Rosenkranz
DESCRIPTION:https://pfarreien-bistum-augsburg.df-preview.de/rosenkranz_id17
 45405
DTSTART;TZID=Europe/Berlin:20260425T173000
DURATION:PT30M
LOCATION:St. Martin
END:VEVENT
BEGIN:VEVENT
UID:sabre-vobject-b984ce56-5dfa-4ca4-b627-cbbca3ae35f6
DTSTAMP:20260420T151827Z
SUMMARY:Vorabendmesse m. Verabschiedung der ausscheidenen PGR-Mitglieder
DESCRIPTION:https://pfarreien-bistum-augsburg.df-preview.de/vorabendmesse-m
 -verabschiedung-der-ausscheidenen-pgr-mitglieder_id1745425
DTSTART;TZID=Europe/Berlin:20260425T180000
DURATION:PT30M
LOCATION:St. Martin
END:VEVENT
BEGIN:VEVENT
UID:sabre-vobject-3e93d564-43d5-42ed-a3be-5dcb498e4781
DTSTAMP:20260420T151827Z
SUMMARY:Sonntagsgottesdienst
DESCRIPTION:https://pfarreien-bistum-augsburg.df-preview.de/sonntagsgottesd
 ienst_id1745431
DTSTART;TZID=Europe/Berlin:20260426T083000
DURATION:PT30M
LOCATION:St. Peter und Paul
END:VEVENT
BEGIN:VEVENT
UID:sabre-vobject-44050acc-0319-43d6-aa90-06120720aca3
DTSTAMP:20260420T151827Z
SUMMARY:Sonntagsgottesdienst (Gedenken an die Ankunft der Erdberger in Egli
 ng vor 80 Jahren)
DESCRIPTION:https://pfarreien-bistum-augsburg.df-preview.de/sonntagsgottesd
 ienst-gedenken-an-die-ankunft-der-erdberger-in-egling-vor-80-jahren_id1745
 261
DTSTART;TZID=Europe/Berlin:20260426T093000
DURATION:PT30M
LOCATION:St. Vitus
END:VEVENT
BEGIN:VEVENT
UID:sabre-vobject-49290dcd-a084-4df4-b0a5-6e3a7ee88502
DTSTAMP:20260420T151827Z
SUMMARY:ERSTKOMMUNION
DESCRIPTION:https://pfarreien-bistum-augsburg.df-preview.de/erstkommunion_i
 d1745308
DTSTART;TZID=Europe/Berlin:20260426T100000
DURATION:PT30M
LOCATION:St. Peter und Paul
END:VEVENT
BEGIN:VEVENT
UID:sabre-vobject-f7f5a155-a10a-4649-9d17-509056f248d9
DTSTAMP:20260420T151827Z
SUMMARY:Sonntagsgottesdienst
DESCRIPTION:https://pfarreien-bistum-augsburg.df-preview.de/sonntagsgottesd
 ienst_id1745234
DTSTART;TZID=Europe/Berlin:20260426T104500
DURATION:PT30M
LOCATION:St. Nikolaus
END:VEVENT
BEGIN:VEVENT
UID:sabre-vobject-c783769f-db36-43f7-8a44-ac3702d7b81e
DTSTAMP:20260420T151827Z
SUMMARY:Kommunionausflug
DESCRIPTION:https://pfarreien-bistum-augsburg.df-preview.de/kommunionausflu
 g_id1745309
DTSTART;TZID=Europe/Berlin:20260427T080000
DURATION:PT30M
LOCATION:St. Peter und Paul
END:VEVENT
BEGIN:VEVENT
UID:sabre-vobject-2536037c-3570-40cc-a288-b666384adf5f
DTSTAMP:20260420T151827Z
SUMMARY:Aktivierungs-u. Entspannungsgymnastik
DESCRIPTION:https://pfarreien-bistum-augsburg.df-preview.de/aktivierungs-u-
 entspannungsgymnastik_id1745303
DTSTART;TZID=Europe/Berlin:20260427T090000
DURATION:PT30M
LOCATION:St. Vitus
END:VEVENT
BEGIN:VEVENT
UID:sabre-vobject-c9eb0702-10af-425e-890f-eb4da7a083b1
DTSTAMP:20260420T151827Z
SUMMARY:Abendmesse
DESCRIPTION:https://pfarreien-bistum-augsburg.df-preview.de/abendmesse_id17
 45302
DTSTART;TZID=Europe/Berlin:20260427T190000
DURATION:PT30M
LOCATION:St. Andreas
END:VEVENT
BEGIN:VEVENT
UID:sabre-vobject-f526621a-40b0-4f1d-95dd-297744ac4acb
DTSTAMP:20260420T151827Z
SUMMARY:Rosenkranz
DESCRIPTION:https://pfarreien-bistum-augsburg.df-preview.de/rosenkranz_id17
 45310
DTSTART;TZID=Europe/Berlin:20260428T183000
DURATION:PT30M
LOCATION:St. Peter und Paul
END:VEVENT
BEGIN:VEVENT
UID:sabre-vobject-3133a4c0-cc6a-4187-9dee-17236ca70417
DTSTAMP:20260420T151827Z
SUMMARY:Abendmesse
DESCRIPTION:https://pfarreien-bistum-augsburg.df-preview.de/abendmesse_id17
 45311
DTSTART;TZID=Europe/Berlin:20260428T190000
DURATION:PT30M
LOCATION:St. Peter und Paul
END:VEVENT
BEGIN:VEVENT
UID:sabre-vobject-882b07b4-f553-4d64-a250-31eb7b92fa72
DTSTAMP:20260420T151827Z
SUMMARY:Requiem für Frau Maria  Ruch\, anschl. Urnenbestattung
DESCRIPTION:https://pfarreien-bistum-augsburg.df-preview.de/requiem-fuer-fr
 au-maria-ruch-anschl-urnenbestattung_id1745236
DTSTART;TZID=Europe/Berlin:20260429T143000
DURATION:PT30M
LOCATION:St. Nikolaus
END:VEVENT
BEGIN:VEVENT
UID:sabre-vobject-04dd9af5-acb2-43ac-9472-9391ebcfcd85
DTSTAMP:20260420T151827Z
SUMMARY:Rosenkranz
DESCRIPTION:https://pfarreien-bistum-augsburg.df-preview.de/rosenkranz_id17
 45426
DTSTART;TZID=Europe/Berlin:20260429T183000
DURATION:PT30M
LOCATION:St. Martin
END:VEVENT
BEGIN:VEVENT
UID:sabre-vobject-e25f096b-b965-4488-aaf8-1a1f60944351
DTSTAMP:20260420T151827Z
SUMMARY:Abendmesse
DESCRIPTION:https://pfarreien-bistum-augsburg.df-preview.de/abendmesse_id17
 45229
DTSTART;TZID=Europe/Berlin:20260429T190000
DURATION:PT30M
LOCATION:St. Martin
END:VEVENT
BEGIN:VEVENT
UID:sabre-vobject-4170710b-efd9-478a-a747-8aca094d85c7
DTSTAMP:20260420T151827Z
SUMMARY:Kommunionprobe
DESCRIPTION:https://pfarreien-bistum-augsburg.df-preview.de/kommunionprobe_
 id1745235
DTSTART;TZID=Europe/Berlin:20260430T170000
DURATION:PT30M
LOCATION:St. Nikolaus
END:VEVENT
BEGIN:VEVENT
UID:sabre-vobject-9ac873b4-52a9-42bf-95d3-f256e30773a5
DTSTAMP:20260420T151827Z
SUMMARY:Rosenkranz
DESCRIPTION:https://pfarreien-bistum-augsburg.df-preview.de/rosenkranz_id17
 45331
DTSTART;TZID=Europe/Berlin:20260430T183000
DURATION:PT30M
LOCATION:St. Peter und Paul
END:VEVENT
BEGIN:VEVENT
UID:sabre-vobject-7816a8c6-6e2b-4077-8f7d-76383c4d7dc9
DTSTAMP:20260420T151827Z
SUMMARY:Maiandacht
DESCRIPTION:https://pfarreien-bistum-augsburg.df-preview.de/maiandacht_id17
 45305
DTSTART;TZID=Europe/Berlin:20260501T180000
DURATION:PT30M
LOCATION:St. Vitus
END:VEVENT
BEGIN:VEVENT
UID:sabre-vobject-31d3dd73-2000-4eaa-9cde-877e0ef6ce3b
DTSTAMP:20260420T151827Z
SUMMARY:Maiandacht
DESCRIPTION:https://pfarreien-bistum-augsburg.df-preview.de/maiandacht_id17
 45333
DTSTART;TZID=Europe/Berlin:20260501T180000
DURATION:PT30M
LOCATION:St. Peter und Paul
END:VEVENT
BEGIN:VEVENT
UID:sabre-vobject-8ab0b7da-6fbb-4caa-9ef4-13532efc8166
DTSTAMP:20260420T151827Z
SUMMARY:Rosenkranz
DESCRIPTION:https://pfarreien-bistum-augsburg.df-preview.de/rosenkranz_id17
 45334
DTSTART;TZID=Europe/Berlin:20260502T173000
DURATION:PT30M
LOCATION:St. Peter und Paul
END:VEVENT
BEGIN:VEVENT
UID:sabre-vobject-a2641c0d-a764-4e04-953e-284923428725
DTSTAMP:20260420T151827Z
SUMMARY:Vorabendmesse
DESCRIPTION:https://pfarreien-bistum-augsburg.df-preview.de/vorabendmesse_i
 d1745332
DTSTART;TZID=Europe/Berlin:20260502T180000
DURATION:PT30M
LOCATION:St. Peter und Paul
END:VEVENT
BEGIN:VEVENT
UID:sabre-vobject-89dede72-c7be-4abe-8e8e-19e6a5fa1b3d
DTSTAMP:20260420T151827Z
SUMMARY:Sonntagsgottesdienst
DESCRIPTION:https://pfarreien-bistum-augsburg.df-preview.de/sonntagsgottesd
 ienst_id1745432
DTSTART;TZID=Europe/Berlin:20260503T083000
DURATION:PT30M
LOCATION:St. Peter und Paul
END:VEVENT
BEGIN:VEVENT
UID:sabre-vobject-e5b572af-c69b-448b-8edc-639db91f7acf
DTSTAMP:20260420T151827Z
SUMMARY:Sonntagsgottesdienst
DESCRIPTION:https://pfarreien-bistum-augsburg.df-preview.de/sonntagsgottesd
 ienst_id1745306
DTSTART;TZID=Europe/Berlin:20260503T093000
DURATION:PT30M
LOCATION:St. Vitus
END:VEVENT
BEGIN:VEVENT
UID:sabre-vobject-ea2c6d12-bc6e-4152-8be6-a51fcc9115dc
DTSTAMP:20260420T151827Z
SUMMARY:WORT-GOTTES-FEIER mit Kommunionempfang
DESCRIPTION:https://pfarreien-bistum-augsburg.df-preview.de/wort-gottes-fei
 er-mit-kommunionempfang_id1745429
DTSTART;TZID=Europe/Berlin:20260503T093000
DURATION:PT30M
LOCATION:St. Martin
END:VEVENT
BEGIN:VEVENT
UID:sabre-vobject-43e88cea-aea3-404f-8e8f-df6d51d8a059
DTSTAMP:20260420T151827Z
SUMMARY:ERSTKOMMUNION
DESCRIPTION:https://pfarreien-bistum-augsburg.df-preview.de/erstkommunion_i
 d1745237
DTSTART;TZID=Europe/Berlin:20260503T100000
DURATION:PT30M
LOCATION:St. Nikolaus
END:VEVENT
BEGIN:VEVENT
UID:sabre-vobject-c894598a-03a0-42f1-9af7-15876b1d6b7b
DTSTAMP:20260420T151827Z
SUMMARY:Maiandacht
DESCRIPTION:https://pfarreien-bistum-augsburg.df-preview.de/maiandacht_id17
 45240
DTSTART;TZID=Europe/Berlin:20260503T180000
DURATION:PT30M
LOCATION:St. Nikolaus
END:VEVENT
BEGIN:VEVENT
UID:sabre-vobject-5f9a1b6b-0815-419b-a460-32d1ae418300
DTSTAMP:20260420T151827Z
SUMMARY:Kindermaiandacht
DESCRIPTION:https://pfarreien-bistum-augsburg.df-preview.de/kindermaiandach
 t_id1745307
DTSTART;TZID=Europe/Berlin:20260503T180000
DURATION:PT30M
LOCATION:St. Vitus
END:VEVENT
BEGIN:VEVENT
UID:sabre-vobject-a9adb895-5fef-46df-a98b-ae31e2163ef9
DTSTAMP:20260420T151827Z
SUMMARY:Maiandacht an der Grotte
DESCRIPTION:https://pfarreien-bistum-augsburg.df-preview.de/maiandacht-an-d
 er-grotte_id1745430
DTSTART;TZID=Europe/Berlin:20260503T190000
DURATION:PT30M
LOCATION:St. Martin
END:VEVENT
END:VCALENDAR
