BEGIN:VCALENDAR
VERSION:2.0
PRODID:-//Sabre//Sabre VObject 4.5.8//EN
CALSCALE:GREGORIAN
NAME:Bistum Augsburg
X-WR-CALNAME:Bistum Augsburg
BEGIN:VEVENT
UID:sabre-vobject-f92894b7-1f93-477b-acee-300ceeb3b3e5
DTSTAMP:20260421T204840Z
SUMMARY:Abendmesse
DESCRIPTION:https://pfarreien-bistum-augsburg.df-preview.de/abendmesse_id17
 43312
DTSTART;TZID=Europe/Berlin:20260421T190000
DURATION:PT30M
LOCATION:St. Jakobus maj.
END:VEVENT
BEGIN:VEVENT
UID:sabre-vobject-3c635410-981c-4dd0-a557-e7be3834ad0b
DTSTAMP:20260421T204840Z
SUMMARY:Heilige Messe (Opfer für die eigene Kirche)
DESCRIPTION:https://pfarreien-bistum-augsburg.df-preview.de/heilige-messe-o
 pfer-fuer-die-eigene-kirche_id1749560
DTSTART;TZID=Europe/Berlin:20260426T084500
DURATION:PT30M
LOCATION:St. Jakobus maj.
END:VEVENT
BEGIN:VEVENT
UID:sabre-vobject-1a1659c8-b133-439c-9145-51b9864c4288
DTSTAMP:20260421T204840Z
SUMMARY:Maiandacht an der Grotte (musikalische Gestaltung: Liederhain Lange
 nneufnach)
DESCRIPTION:https://pfarreien-bistum-augsburg.df-preview.de/maiandacht-an-d
 er-grotte-musikalische-gestaltung-liederhain-langenneufnach_id1747142
DTSTART;TZID=Europe/Berlin:20260503T190000
DURATION:PT30M
LOCATION:St. Jakobus maj.
END:VEVENT
BEGIN:VEVENT
UID:sabre-vobject-37d84592-35e1-42a7-ae71-f0a9f3927d7a
DTSTAMP:20260421T204840Z
SUMMARY:Abendmesse
DESCRIPTION:https://pfarreien-bistum-augsburg.df-preview.de/abendmesse_id17
 47143
DTSTART;TZID=Europe/Berlin:20260505T190000
DURATION:PT30M
LOCATION:St. Jakobus maj.
END:VEVENT
BEGIN:VEVENT
UID:sabre-vobject-d36570bf-94a8-45d5-ace6-1252e6f161d6
DTSTAMP:20260421T204840Z
SUMMARY:Vorabendmesse (Kollekte: Katholikentag Würzburg)
DESCRIPTION:https://pfarreien-bistum-augsburg.df-preview.de/vorabendmesse-k
 ollekte-katholikentag-wuerzburg_id1747144
DTSTART;TZID=Europe/Berlin:20260509T190000
DURATION:PT30M
LOCATION:St. Jakobus maj.
END:VEVENT
BEGIN:VEVENT
UID:sabre-vobject-ade34a5e-c176-4257-8688-a4ffed743e8a
DTSTAMP:20260421T204840Z
SUMMARY:Bittgottesdienst bei Ankiunft der Fischacher Bittgänger
DESCRIPTION:https://pfarreien-bistum-augsburg.df-preview.de/bittgottesdiens
 t-bei-ankiunft-der-fischacher-bittgaenger_id1747145
DTSTART;TZID=Europe/Berlin:20260511T190000
DURATION:PT30M
LOCATION:St. Jakobus maj.
END:VEVENT
BEGIN:VEVENT
UID:sabre-vobject-51e9e489-ce6b-4cee-92c9-dc8218363240
DTSTAMP:20260421T204840Z
SUMMARY:feierliche Maiandacht
DESCRIPTION:https://pfarreien-bistum-augsburg.df-preview.de/feierliche-maia
 ndacht_id1747146
DTSTART;TZID=Europe/Berlin:20260517T190000
DURATION:PT30M
LOCATION:St. Jakobus maj.
END:VEVENT
BEGIN:VEVENT
UID:sabre-vobject-83a7f9fa-f242-42ba-9908-5fa71641d4c8
DTSTAMP:20260421T204840Z
SUMMARY:Abendmesse
DESCRIPTION:https://pfarreien-bistum-augsburg.df-preview.de/abendmesse_id17
 47147
DTSTART;TZID=Europe/Berlin:20260519T190000
DURATION:PT30M
LOCATION:St. Jakobus maj.
END:VEVENT
BEGIN:VEVENT
UID:sabre-vobject-830f3388-2ac2-4a38-ad2c-f6fcf2b7813b
DTSTAMP:20260421T204840Z
SUMMARY:Festgottesdienst   (Renovabis Kolekte für Mittel- und Osteuropa)
DESCRIPTION:https://pfarreien-bistum-augsburg.df-preview.de/festgottesdiens
 t-renovabis-kolekte-fuer-mittel-und-osteuropa_id1747111
DTSTART;TZID=Europe/Berlin:20260524T084500
DURATION:PT30M
LOCATION:St. Jakobus maj.
END:VEVENT
BEGIN:VEVENT
UID:sabre-vobject-e22adf3b-5cf2-4a89-8330-8d5fd94d7d8e
DTSTAMP:20260421T204840Z
SUMMARY:Abendmesse
DESCRIPTION:https://pfarreien-bistum-augsburg.df-preview.de/abendmesse_id17
 47119
DTSTART;TZID=Europe/Berlin:20260602T190000
DURATION:PT30M
LOCATION:St. Jakobus maj.
END:VEVENT
BEGIN:VEVENT
UID:sabre-vobject-9483fc18-f026-4b5d-8d9b-b8e80254d6f6
DTSTAMP:20260421T204840Z
SUMMARY:Heilige Messe anschließend Fronleichnamsprozession
DESCRIPTION:https://pfarreien-bistum-augsburg.df-preview.de/heilige-messe-a
 nschliessend-fronleichnamsprozession_id1747120
DTSTART;TZID=Europe/Berlin:20260604T180000
DURATION:PT30M
LOCATION:St. Jakobus maj.
END:VEVENT
END:VCALENDAR
